{"text_format":"1","workbook":"xlsx","n_sheets":13,"sheets":["INDICE","DATOS COMUN","SOCIEDAD","IND1","IND2","IND3","IND4","IND5","IND6","IND7","IND8","BASE","LISTA"],"not_rendered":{"charts":0,"images":0,"macros":1,"external_links":0,"defined_names":4,"comments":0,"pivot_tables":0},"unopened":[],"bounds":{"document_bytes":16777216,"sheet_cells":100000,"rows_first":2000,"rows_last":500,"rows_between":2000,"halvings":0,"cell_chars":16384,"cell_head_chars":4096},"cells_cut":0,"cells_raw":0,"read":"whole","date_system":"1900"}

{"sheet":"INDICE","index":0,"n_rows":13,"n_cols":3,"rows_kept":13,"cut":false,"hidden":false,"merged":[[12,0,12,10],[3,2,10,10],[2,2,2,10],[2,0,2,1],[1,0,1,1],[1,2,1,10]]}
["SOLAPAS"]
["DATOS COMÚN",null,"DATOS QUE SE CARGAN AUTOMATICAMENTE EN LAS DEMÁS SOLAPAS,"]
["SOCIEDAD",null,"DECLARACIÓN JURADA RESOLUCIÓN UIF NRO. 70/2011, INC. 4 -COMPARTE DOMICILIO CON OTRA/S SOCIEDAD/ES-."]
["IND",1,"DECLARACIÓN JURADA RESOLUCIÓN UIF NRO. 70/2011, INC. 2  POR CADA SOCIO, ADMINISTRADOR Y/O REPRESENTANTE LEGAL INTEGRAN CINCO (5) O MÁS."]
["IND",2]
["IND",3]
["IND",4]
["IND",5]
["IND",6]
["IND",7]
["IND",8]
[]
["UNA VEZ LLENADO, ENVIAR ARCHIVO POR EMAIL A: civil1secrpccq@gmail.com"]

{"sheet":"DATOS COMUN","index":1,"n_rows":4,"n_cols":1,"rows_kept":4,"cut":false,"hidden":false,"merged":[[2,0,2,1],[2,2,2,3],[0,0,0,3]]}
["DECLARACION/ES JURADA/S RESOLUCIÓN UIF NRO. 70/2011"]
[]
["RAZÓN SOCIAL/ DENOMINACIÓN SOCIEDAD A INCRIBIR/INSCRIPTA RPC-RGL:"]
["EXPTE:"]

{"sheet":"SOCIEDAD","index":2,"n_rows":73,"n_cols":5,"rows_kept":73,"cut":false,"hidden":false,"merged":[[66,0,66,3],[67,0,67,1],[67,2,67,3],[60,2,60,3],[61,2,61,3],[62,2,62,3],[63,2,63,3],[64,2,64,3],[65,2,65,3],[59,2,59,3],[48,2,48,3],[49,2,49,3],[50,2,50,3],[51,2,51,3],[52,2,52,3],[53,2,53,3],[54,2,54,3],[55,2,55,3],[56,2,56,3],[57,2,57,3],[58,2,58,3],[47,2,47,3],[36,2,36,3],[37,2,37,3],[38,2,38,3],[39,2,39,3],[40,2,40,3],[41,2,41,3],[42,2,42,3],[43,2,43,3],[44,2,44,3],[45,2,45,3],[46,2,46,3],[20,2,20,3],[21,2,21,3],[22,2,22,3],[35,2,35,3],[24,2,24,3],[25,2,25,3],[26,2,26,3],[27,2,27,3],[28,2,28,3],[29,2,29,3],[30,2,30,3],[31,2,31,3],[32,2,32,3],[33,2,33,3],[34,2,34,3],[15,2,15,3],[16,2,16,3],[17,2,17,3],[18,2,18,3],[19,2,19,3],[72,1,72,3],[5,0,5,3],[0,0,0,3],[1,0,1,1],[1,2,1,3],[4,0,4,2],[11,2,11,3],[10,2,10,3],[6,2,6,3],[7,2,7,3],[8,2,8,3],[9,2,9,3],[23,2,23,3],[12,2,12,3],[13,2,13,3],[14,2,14,3]]}
["DECLARACIÓN JURADA RESOLUCIÓN Nro. 70/2011 UIF -ART. 11, INC. 4, SOCIEDADES QUE COMPARTEN DOMICILIO-",null,null,null,"F"]
["RAZÓN SOCIAL/ DENOMINACIÓN SOCIEDAD A INCRIBIR/INSCRIPTA RPC-RGL:",null,null,null,1]
["EXPTE:",null,null,null,1]
[null,null,null,null,1]
["¿ LA SOCIEDAD INDICADA EN PÁRRAFO SUPERIOR,  COMPARTE DOMICILIO CON OTRA/S SOCIEDADE/S -art. 11, inc. 4 RES. 70/2011 UIF- ?",null,null,"ELEGIR",1]
["DATOS DE LA/S OTRA/S SOCIEDAD/ES QUE COMPARTE/N DOMICILIO:",null,null,null,{"$f":"IF(D$5=\"NO\",0,1)","v":1}]
["R70","NOMBRE DE LA SOCIEDAD:",null,null,{"$f":"IF(C7=0,0,1)","v":0}]
["R70","TIPO DE PER. JCA.:",null,null,{"$f":"IF(C8=0,0,1)","v":0}]
["R70","CUIT -sin punto ni barras-:",null,null,0]
["R70","FECHA DE CONSTITUCIÓN -DD/MM/AA-:",null,null,0]
["R70","NOMBRE DE LA SOCIEDAD:",null,null,{"$f":"IF(C11=0,0,1)","v":0}]
["R70","TIPO DE PER. JCA.:",null,null,{"$f":"IF(C12=0,0,1)","v":0}]
["R70","CUIT -sin punto ni barras-:",null,null,0]
["R70","FECHA DE CONSTITUCIÓN -DD/MM/AA-:",null,null,0]
["R70","NOMBRE DE LA SOCIEDAD:",null,null,{"$f":"IF(C15=0,0,1)","v":0}]
["R70","TIPO DE PER. JCA.:",null,null,{"$f":"IF(C16=0,0,1)","v":0}]
["R70","CUIT -sin punto ni barras-:",null,null,0]
["R70","FECHA DE CONSTITUCIÓN -DD/MM/AA-:",null,null,0]
["R70","NOMBRE DE LA SOCIEDAD:",null,null,{"$f":"IF(C19=0,0,1)","v":0}]
["R70","TIPO DE PER. JCA.:",null,null,{"$f":"IF(C20=0,0,1)","v":0}]
["R70","CUIT -sin punto ni barras-:",null,null,0]
["R70","FECHA DE CONSTITUCIÓN -DD/MM/AA-:",null,null,0]
["R70","NOMBRE DE LA SOCIEDAD:",null,null,{"$f":"IF(C23=0,0,1)","v":0}]
["R70","TIPO DE PER. JCA.:",null,null,{"$f":"IF(C24=0,0,1)","v":0}]
["R70","CUIT -sin punto ni barras-:",null,null,0]
["R70","FECHA DE CONSTITUCIÓN -DD/MM/AA-:",null,null,0]
["R70","NOMBRE DE LA SOCIEDAD:",null,null,{"$f":"IF(C27=0,0,1)","v":0}]
["R70","TIPO DE PER. JCA.:",null,null,{"$f":"IF(C28=0,0,1)","v":0}]
["R70","CUIT -sin punto ni barras-:",null,null,0]
["R70","FECHA DE CONSTITUCIÓN -DD/MM/AA-:",null,null,0]
["R70","NOMBRE DE LA SOCIEDAD:",null,null,{"$f":"IF(C31=0,0,1)","v":0}]
["R70","TIPO DE PER. JCA.:",null,null,{"$f":"IF(C32=0,0,1)","v":0}]
["R70","CUIT -sin punto ni barras-:",null,null,0]
["R70","FECHA DE CONSTITUCIÓN -DD/MM/AA-:",null,null,0]
["R70","NOMBRE DE LA SOCIEDAD:",null,null,{"$f":"IF(C35=0,0,1)","v":0}]
["R70","TIPO DE PER. JCA.:",null,null,{"$f":"IF(C36=0,0,1)","v":0}]
["R70","CUIT -sin punto ni barras-:",null,null,0]
["R70","FECHA DE CONSTITUCIÓN -DD/MM/AA-:",null,null,0]
["R70","NOMBRE DE LA SOCIEDAD:",null,null,{"$f":"IF(C39=0,0,1)","v":0}]
["R70","TIPO DE PER. JCA.:",null,null,{"$f":"IF(C40=0,0,1)","v":0}]
["R70","CUIT -sin punto ni barras-:",null,null,0]
["R70","FECHA DE CONSTITUCIÓN -DD/MM/AA-:",null,null,0]
["R70","NOMBRE DE LA SOCIEDAD:",null,null,{"$f":"IF(C43=0,0,1)","v":0}]
["R70","TIPO DE PER. JCA.:",null,null,{"$f":"IF(C44=0,0,1)","v":0}]
["R70","CUIT -sin punto ni barras-:",null,null,0]
["R70","FECHA DE CONSTITUCIÓN -DD/MM/AA-:",null,null,0]
["R70","NOMBRE DE LA SOCIEDAD:",null,null,{"$f":"IF(C47=0,0,1)","v":0}]
["R70","TIPO DE PER. JCA.:",null,null,{"$f":"IF(C48=0,0,1)","v":0}]
["R70","CUIT -sin punto ni barras-:",null,null,0]
["R70","FECHA DE CONSTITUCIÓN -DD/MM/AA-:",null,null,0]
["R70","NOMBRE DE LA SOCIEDAD:",null,null,{"$f":"IF(C51=0,0,1)","v":0}]
["R70","TIPO DE PER. JCA.:",null,null,{"$f":"IF(C52=0,0,1)","v":0}]
["R70","CUIT -sin punto ni barras-:",null,null,0]
["R70","FECHA DE CONSTITUCIÓN -DD/MM/AA-:",null,null,0]
["R70","NOMBRE DE LA SOCIEDAD:",null,null,{"$f":"IF(C55=0,0,1)","v":0}]
["R70","TIPO DE PER. JCA.:",null,null,{"$f":"IF(C56=0,0,1)","v":0}]
["R70","CUIT -sin punto ni barras-:",null,null,0]
["R70","FECHA DE CONSTITUCIÓN -DD/MM/AA-:",null,null,0]
["R70","NOMBRE DE LA SOCIEDAD:",null,null,{"$f":"IF(C59=0,0,1)","v":0}]
["R70","TIPO DE PER. JCA.:",null,null,{"$f":"IF(C60=0,0,1)","v":0}]
["R70","CUIT -sin punto ni barras-:",null,null,0]
["R70","FECHA DE CONSTITUCIÓN -DD/MM/AA-:",null,null,0]
["R70","NOMBRE DE LA SOCIEDAD:",null,null,{"$f":"IF(C63=0,0,1)","v":0}]
["R70","TIPO DE PER. JCA.:",null,null,{"$f":"IF(C64=0,0,1)","v":0}]
["R70","CUIT -sin punto ni barras-:",null,null,0]
["R70","FECHA DE CONSTITUCIÓN -DD/MM/AA-:",null,null,0]
["DECLARO que los datos consignados son verídicos a la fecha de la suscripción de la presente. A tal efecto cuento con la documental que acredita tal información, poniéndola a disposición de la Secretaría de Registro Público de Comercio del Juzgado Provincial de 1era. Instancia nro. UNO, en lo Civil, Comercial, Laboral y de Minería de Río Gallegos, de ser requerida.",null,null,null,1]
["FECHA:",null,null,null,1]
[null,null,null,null,1]
[null,null,null,null,1]
[null,null,null,null,1]
[null,null,null,null,1]
[null,"FIRMA DE ESCRIBANO, DECLARANTE -frima certificada- O APODERADO -firma certificada-",null,null,1]

{"sheet":"IND1","index":3,"n_rows":140,"n_cols":5,"rows_kept":140,"cut":false,"hidden":false,"merged":[[0,0,0,3],[5,0,5,3],[6,2,6,3],[7,2,7,3],[8,2,8,3],[10,2,10,3],[11,0,11,3],[9,2,9,3],[134,0,134,1],[133,0,133,3],[134,2,134,3],[13,2,13,3],[12,0,12,3],[14,2,14,3],[15,2,15,3],[16,2,16,3],[18,2,18,3],[23,2,23,3],[24,2,24,3],[25,2,25,3],[26,2,26,3],[27,2,27,3],[28,2,28,3],[29,2,29,3],[30,2,30,3],[31,2,31,3],[32,2,32,3],[33,2,33,3],[34,2,34,3],[35,2,35,3],[4,0,4,2],[1,0,1,1],[1,2,1,3],[19,2,19,3],[20,2,20,3],[21,2,21,3],[22,2,22,3],[17,2,17,3],[40,2,40,3],[41,2,41,3],[42,2,42,3],[43,2,43,3],[44,2,44,3],[36,2,36,3],[37,2,37,3],[38,2,38,3],[39,2,39,3],[50,2,50,3],[51,2,51,3],[52,2,52,3],[53,2,53,3],[54,2,54,3],[45,2,45,3],[46,2,46,3],[47,2,47,3],[48,2,48,3],[49,2,49,3],[60,2,60,3],[61,2,61,3],[62,2,62,3],[63,2,63,3],[64,2,64,3],[55,2,55,3],[56,2,56,3],[57,2,57,3],[58,2,58,3],[59,2,59,3],[70,2,70,3],[71,2,71,3],[72,2,72,3],[73,2,73,3],[74,2,74,3],[65,2,65,3],[66,2,66,3],[67,2,67,3],[68,2,68,3],[69,2,69,3],[80,2,80,3],[81,2,81,3],[82,2,82,3],[83,2,83,3],[84,2,84,3],[75,2,75,3],[76,2,76,3],[77,2,77,3],[78,2,78,3],[79,2,79,3],[90,2,90,3],[91,2,91,3],[92,2,92,3],[93,2,93,3],[94,2,94,3],[85,2,85,3],[86,2,86,3],[87,2,87,3],[88,2,88,3],[89,2,89,3],[100,2,100,3],[101,2,101,3],[102,2,102,3],[103,2,103,3],[104,2,104,3],[95,2,95,3],[96,2,96,3],[97,2,97,3],[98,2,98,3],[99,2,99,3],[110,2,110,3],[111,2,111,3],[112,2,112,3],[113,2,113,3],[114,2,114,3],[105,2,105,3],[106,2,106,3],[107,2,107,3],[108,2,108,3],[109,2,109,3],[120,2,120,3],[121,2,121,3],[122,2,122,3],[123,2,123,3],[124,2,124,3],[115,2,115,3],[116,2,116,3],[117,2,117,3],[118,2,118,3],[119,2,119,3],[139,1,139,3],[130,2,130,3],[131,2,131,3],[132,2,132,3],[125,2,125,3],[126,2,126,3],[127,2,127,3],[128,2,128,3],[129,2,129,3]]}
["DECLARACIÓN JURADA RESOLUCIÓN Nro. 70/2011 UIF -ART. 11- DEL SOCIO, ADMINISTRADOR Y/O REP. LEGAL",null,null,null,"F"]
["RAZÓN SOCIAL/ DENOMINACIÓN SOCIEDAD A INCRIBIR/INSCRIPTA RPC-RGL:",null,{"$f":"+'DATOS COMUN'!C3:D3","v":0},null,1]
["EXPTE:",null,{"$f":"+'DATOS COMUN'!C4","v":0},null,1]
[null,null,null,null,1]
["DECLARO QUE TENGO PARTICIPACIÓN EN LA CONSTITUCIÓN O EN LA ADMINISTRACIÓN DE CINCO (5) O MÁS PERSONA/S JURÍDICA/S. INTERVIENE -art. 11, inc. 2 RES. 70/2011 UIF-,",null,null,"ELEGIR",1]
["DATOS DE LA PERSONA HUMANA SOCIA/ADMINISTRADOR/REP. LEGAL DE LA SOCIEDAD A INSCRIBIR",null,null,null,1]
["R70","APELLIDO/S:",null,null,1]
["R70","NOMBRE/S:",null,null,1]
["R70","SOCIO:",null,null,1]
["R70","ADMINISTRADOR / REP. LEGAL(1):"]
["R70","CUIT/CUIL -sin puntos ni barras-:",null,null,1]
["(1) Nombre del cargo que ocupa en la sociedad a inscribir o inscripta en en RPC-RÍO GALLEGOS.",null,null,null,1]
["DATOS DE LAS OTRAS PERSONAS JURÍDICA QUE PARTICIPA EN LA CONST. Y/O ADMINISTRACIÓN",null,null,null,{"$f":"IF(D$5=\"NO\",0,1)","v":1}]
["R70","NOMBRE DE LA PERSONA JURÍDICA:",null,null,{"$f":"IF(C14=0,0,1)","v":0}]
["R70","TIPO DE PERSONA JCA. -sociedad; fundación, asociación civil, etc.-:",null,null,{"$f":"IF(C15=0,0,1)","v":0}]
["R70","CARÁCTER EN LA QUE INTERVIENE -en calidad de socio, asociado, administrador, etc.-:",null,null,0]
["R70","CUIT -sin punto ni barras-:",null,null,0]
["R70","FECHA DE CONSTITUCIÓN -DD/MM/AA-:",null,null,0]
["R70","DOMICILIO LEGAL:",null,null,0]
["R70","LOCALIDAD:",null,null,0]
["R70","PROVINCIA/ESTADO/REGIÓN:",null,null,0]
["R70","PAÍS:",null,null,0]
["R70","CARÁCTER EN LA QUE INTERVIENE -en calidad de socio, asociado, administrador, etc.-:",null,null,0]
["R70","NOMBRE DE LA PERSONA JURÍDICA:",null,null,0]
["R70","TIPO DE PERSONA JCA. -sociedad; fundación, asociación civil, etc.-:",null,null,0]
["R70","CARÁCTER EN LA QUE INTERVIENE -en calidad de socio, asociado, administrador, etc.-:",null,null,0]
["R70","CUIT -sin punto ni barras-:",null,null,0]
["R70","FECHA DE CONSTITUCIÓN -DD/MM/AA-:",null,null,0]
["R70","DOMICILIO LEGAL:",null,null,0]
["R70","LOCALIDAD:",null,null,0]
["R70","PROVINCIA/ESTADO/REGIÓN:",null,null,0]
["R70","PAÍS:",null,null,0]
["R70","CARÁCTER EN LA QUE INTERVIENE -en calidad de socio, asociado, administrador, etc.-:",null,null,0]
["R70","NOMBRE DE LA PERSONA JURÍDICA:",null,null,0]
["R70","TIPO DE PERSONA JCA. -sociedad; fundación, asociación civil, etc.-:",null,null,0]
["R70","CARÁCTER EN LA QUE INTERVIENE -en calidad de socio, asociado, administrador, etc.-:",null,null,0]
["R70","CUIT -sin punto ni barras-:",null,null,0]
["R70","FECHA DE CONSTITUCIÓN -DD/MM/AA-:",null,null,0]
["R70","DOMICILIO LEGAL:",null,null,0]
["R70","LOCALIDAD:",null,null,0]
["R70","PROVINCIA/ESTADO/REGIÓN:",null,null,0]
["R70","PAÍS:",null,null,0]
["R70","CARÁCTER EN LA QUE INTERVIENE -en calidad de socio, asociado, administrador, etc.-:",null,null,0]
["R70","NOMBRE DE LA PERSONA JURÍDICA:",null,null,0]
["R70","TIPO DE PERSONA JCA. -sociedad; fundación, asociación civil, etc.-:",null,null,0]
["R70","CARÁCTER EN LA QUE INTERVIENE -en calidad de socio, asociado, administrador, etc.-:",null,null,0]
["R70","CUIT -sin punto ni barras-:",null,null,0]
["R70","FECHA DE CONSTITUCIÓN -DD/MM/AA-:",null,null,0]
["R70","DOMICILIO LEGAL:",null,null,0]
["R70","LOCALIDAD:",null,null,0]
["R70","PROVINCIA/ESTADO/REGIÓN:",null,null,0]
["R70","PAÍS:",null,null,0]
["R70","CARÁCTER EN LA QUE INTERVIENE -en calidad de socio, asociado, administrador, etc.-:",null,null,0]
["R70","NOMBRE DE LA PERSONA JURÍDICA:",null,null,0]
["R70","TIPO DE PERSONA JCA. -sociedad; fundación, asociación civil, etc.-:",null,null,0]
["R70","CARÁCTER EN LA QUE INTERVIENE -en calidad de socio, asociado, administrador, etc.-:",null,null,0]
["R70","CUIT -sin punto ni barras-:",null,null,0]
["R70","FECHA DE CONSTITUCIÓN -DD/MM/AA-:",null,null,0]
["R70","DOMICILIO LEGAL:",null,null,0]
["R70","LOCALIDAD:",null,null,0]
["R70","PROVINCIA/ESTADO/REGIÓN:",null,null,0]
["R70","PAÍS:",null,null,0]
["R70","CARÁCTER EN LA QUE INTERVIENE -en calidad de socio, asociado, administrador, etc.-:",null,null,0]
["R70","NOMBRE DE LA PERSONA JURÍDICA:",null,null,0]
["R70","TIPO DE PERSONA JCA. -sociedad; fundación, asociación civil, etc.-:",null,null,0]
["R70","CARÁCTER EN LA QUE INTERVIENE -en calidad de socio, asociado, administrador, etc.-:",null,null,0]
["R70","CUIT -sin punto ni barras-:",null,null,0]
["R70","FECHA DE CONSTITUCIÓN -DD/MM/AA-:",null,null,0]
["R70","DOMICILIO LEGAL:",null,null,0]
["R70","LOCALIDAD:",null,null,0]
["R70","PROVINCIA/ESTADO/REGIÓN:",null,null,0]
["R70","PAÍS:",null,null,0]
["R70","CARÁCTER EN LA QUE INTERVIENE -en calidad de socio, asociado, administrador, etc.-:",null,null,0]
["R70","NOMBRE DE LA PERSONA JURÍDICA:",null,null,0]
["R70","TIPO DE PERSONA JCA. -sociedad; fundación, asociación civil, etc.-:",null,null,0]
["R70","CARÁCTER EN LA QUE INTERVIENE -en calidad de socio, asociado, administrador, etc.-:",null,null,0]
["R70","CUIT -sin punto ni barras-:",null,null,0]
["R70","FECHA DE CONSTITUCIÓN -DD/MM/AA-:",null,null,0]
["R70","DOMICILIO LEGAL:",null,null,{"$f":"IF(C79=0,0,1)","v":0}]
["R70","LOCALIDAD:",null,null,0]
["R70","PROVINCIA/ESTADO/REGIÓN:",null,null,0]
["R70","PAÍS:",null,null,0]
["R70","CARÁCTER EN LA QUE INTERVIENE -en calidad de socio, asociado, administrador, etc.-:",null,null,0]
["R70","NOMBRE DE LA PERSONA JURÍDICA:",null,null,0]
["R70","TIPO DE PERSONA JCA. -sociedad; fundación, asociación civil, etc.-:",null,null,0]
["R70","CARÁCTER EN LA QUE INTERVIENE -en calidad de socio, asociado, administrador, etc.-:",null,null,0]
["R70","CUIT -sin punto ni barras-:",null,null,0]
["R70","FECHA DE CONSTITUCIÓN -DD/MM/AA-:",null,null,0]
["R70","DOMICILIO LEGAL:",null,null,0]
["R70","LOCALIDAD:",null,null,0]
["R70","PROVINCIA/ESTADO/REGIÓN:",null,null,0]
["R70","PAÍS:",null,null,0]
["R70","CARÁCTER EN LA QUE INTERVIENE -en calidad de socio, asociado, administrador, etc.-:",null,null,0]
["R70","NOMBRE DE LA PERSONA JURÍDICA:",null,null,0]
["R70","TIPO DE PERSONA JCA. -sociedad; fundación, asociación civil, etc.-:",null,null,0]
["R70","CARÁCTER EN LA QUE INTERVIENE -en calidad de socio, asociado, administrador, etc.-:",null,null,0]
["R70","CUIT -sin punto ni barras-:",null,null,0]
["R70","FECHA DE CONSTITUCIÓN -DD/MM/AA-:",null,null,0]
["R70","DOMICILIO LEGAL:",null,null,0]
["R70","LOCALIDAD:",null,null,0]
["R70","PROVINCIA/ESTADO/REGIÓN:",null,null,0]
["R70","PAÍS:",null,null,0]
["R70","CARÁCTER EN LA QUE INTERVIENE -en calidad de socio, asociado, administrador, etc.-:",null,null,0]
["R70","NOMBRE DE LA PERSONA JURÍDICA:",null,null,0]
["R70","TIPO DE PERSONA JCA. -sociedad; fundación, asociación civil, etc.-:",null,null,0]
["R70","CARÁCTER EN LA QUE INTERVIENE -en calidad de socio, asociado, administrador, etc.-:",null,null,0]
["R70","CUIT -sin punto ni barras-:",null,null,0]
["R70","FECHA DE CONSTITUCIÓN -DD/MM/AA-:",null,null,0]
["R70","DOMICILIO LEGAL:",null,null,0]
["R70","LOCALIDAD:",null,null,0]
["R70","PROVINCIA/ESTADO/REGIÓN:",null,null,0]
["R70","PAÍS:",null,null,0]
["R70","CARÁCTER EN LA QUE INTERVIENE -en calidad de socio, asociado, administrador, etc.-:",null,null,0]
["R70","NOMBRE DE LA PERSONA JURÍDICA:",null,null,0]
["R70","TIPO DE PERSONA JCA. -sociedad; fundación, asociación civil, etc.-:",null,null,0]
["R70","CARÁCTER EN LA QUE INTERVIENE -en calidad de socio, asociado, administrador, etc.-:",null,null,0]
["R70","CUIT -sin punto ni barras-:",null,null,0]
["R70","FECHA DE CONSTITUCIÓN -DD/MM/AA-:",null,null,0]
["R70","DOMICILIO LEGAL:",null,null,0]
["R70","LOCALIDAD:",null,null,0]
["R70","PROVINCIA/ESTADO/REGIÓN:",null,null,0]
["R70","PAÍS:",null,null,0]
["R70","CARÁCTER EN LA QUE INTERVIENE -en calidad de socio, asociado, administrador, etc.-:",null,null,0]
["R70","NOMBRE DE LA PERSONA JURÍDICA:",null,null,0]
["R70","TIPO DE PERSONA JCA. -sociedad; fundación, asociación civil, etc.-:",null,null,0]
["R70","CARÁCTER EN LA QUE INTERVIENE -en calidad de socio, asociado, administrador, etc.-:",null,null,0]
["R70","CUIT -sin punto ni barras-:",null,null,0]
["R70","FECHA DE CONSTITUCIÓN -DD/MM/AA-:",null,null,0]
["R70","DOMICILIO LEGAL:",null,null,0]
["R70","LOCALIDAD:",null,null,0]
["R70","PROVINCIA/ESTADO/REGIÓN:",null,null,0]
["R70","PAÍS:",null,null,0]
["R70","CARÁCTER EN LA QUE INTERVIENE -en calidad de socio, asociado, administrador, etc.-:",null,null,0]
["DECLARO que los datos consignados son verídicos a la fecha de la suscripción de la presente. A tal efecto cuento con la documental que acredita tal información, poniéndola a disposición de la Secretaría de Registro Público de Comercio del Juzgado Provincial de 1era. Instancia nro. UNO, en lo Civil, Comercial, Laboral y de Minería de Río Gallegos, de ser requerida.",null,null,null,1]
["FECHA:",null,null,null,1]
[null,null,null,null,1]
[null,null,null,null,1]
[null,null,null,null,1]
[null,null,null,null,1]
[null,"FIRMA DE ESCRIBANO, DECLARANTE -frima certificada- O APODERADO -firma certificada-",null,null,1]

{"sheet":"IND2","index":4,"n_rows":140,"n_cols":5,"rows_kept":140,"cut":false,"hidden":false,"merged":[[133,0,133,3],[134,0,134,1],[134,2,134,3],[127,2,127,3],[128,2,128,3],[129,2,129,3],[130,2,130,3],[131,2,131,3],[132,2,132,3],[121,2,121,3],[122,2,122,3],[123,2,123,3],[124,2,124,3],[125,2,125,3],[126,2,126,3],[115,2,115,3],[116,2,116,3],[117,2,117,3],[118,2,118,3],[119,2,119,3],[120,2,120,3],[109,2,109,3],[110,2,110,3],[111,2,111,3],[112,2,112,3],[113,2,113,3],[114,2,114,3],[103,2,103,3],[104,2,104,3],[105,2,105,3],[106,2,106,3],[107,2,107,3],[108,2,108,3],[97,2,97,3],[98,2,98,3],[99,2,99,3],[100,2,100,3],[101,2,101,3],[102,2,102,3],[91,2,91,3],[92,2,92,3],[93,2,93,3],[94,2,94,3],[95,2,95,3],[96,2,96,3],[85,2,85,3],[86,2,86,3],[87,2,87,3],[88,2,88,3],[89,2,89,3],[90,2,90,3],[79,2,79,3],[80,2,80,3],[81,2,81,3],[82,2,82,3],[83,2,83,3],[84,2,84,3],[73,2,73,3],[74,2,74,3],[75,2,75,3],[76,2,76,3],[77,2,77,3],[78,2,78,3],[67,2,67,3],[68,2,68,3],[69,2,69,3],[70,2,70,3],[71,2,71,3],[72,2,72,3],[61,2,61,3],[62,2,62,3],[63,2,63,3],[64,2,64,3],[65,2,65,3],[66,2,66,3],[55,2,55,3],[56,2,56,3],[57,2,57,3],[58,2,58,3],[59,2,59,3],[60,2,60,3],[49,2,49,3],[50,2,50,3],[51,2,51,3],[52,2,52,3],[53,2,53,3],[54,2,54,3],[43,2,43,3],[44,2,44,3],[45,2,45,3],[46,2,46,3],[47,2,47,3],[48,2,48,3],[39,2,39,3],[40,2,40,3],[41,2,41,3],[42,2,42,3],[31,2,31,3],[32,2,32,3],[33,2,33,3],[34,2,34,3],[35,2,35,3],[36,2,36,3],[30,2,30,3],[19,2,19,3],[20,2,20,3],[21,2,21,3],[22,2,22,3],[23,2,23,3],[24,2,24,3],[37,2,37,3],[38,2,38,3],[0,0,0,3],[1,0,1,1],[1,2,1,3],[4,0,4,2],[5,0,5,3],[6,2,6,3],[139,1,139,3],[13,2,13,3],[14,2,14,3],[15,2,15,3],[16,2,16,3],[17,2,17,3],[18,2,18,3],[7,2,7,3],[8,2,8,3],[9,2,9,3],[10,2,10,3],[11,0,11,3],[12,0,12,3],[25,2,25,3],[26,2,26,3],[27,2,27,3],[28,2,28,3],[29,2,29,3]]}
["DECLARACIÓN JURADA RESOLUCIÓN Nro. 70/2011 UIF -ART. 11- DEL SOCIO, ADMINISTRADOR Y/O REP. LEGAL",null,null,null,"F"]
["RAZÓN SOCIAL/ DENOMINACIÓN SOCIEDAD A INCRIBIR/INSCRIPTA RPC-RGL:",null,{"$f":"+'DATOS COMUN'!C3:D3","v":0},null,1]
["EXPTE:",null,{"$f":"+'DATOS COMUN'!C4","v":0},null,1]
[null,null,null,null,1]
["DECLARO QUE TENGO PARTICIPACIÓN EN LA CONSTITUCIÓN O EN LA ADMINISTRACIÓN DE CINCO (5) O MÁS PERSONA/S JURÍDICA/S. INTERVIENE -art. 11, inc. 2 RES. 70/2011 UIF-,",null,null,"ELEGIR",1]
["DATOS DE LA PERSONA HUMANA SOCIA/ADMINISTRADOR/REP. LEGAL DE LA SOCIEDAD A INSCRIBIR",null,null,null,1]
["R70","APELLIDO/S:",null,null,1]
["R70","NOMBRE/S:",null,null,1]
["R70","SOCIO:",null,null,1]
["R70","ADMINISTRADOR / REP. LEGAL(1):"]
["R70","CUIT/CUIL -sin puntos ni barras-:",null,null,1]
["(1) Nombre del cargo que ocupa en la sociedad a inscribir o inscripta en en RPC-RÍO GALLEGOS.",null,null,null,1]
["DATOS DE LAS OTRAS PERSONAS JURÍDICA QUE PARTICIPA EN LA CONST. Y/O ADMINISTRACIÓN",null,null,null,{"$f":"IF(D$5=\"NO\",0,1)","v":1}]
["R70","NOMBRE DE LA PERSONA JURÍDICA:",null,null,{"$f":"IF(C14=0,0,1)","v":0}]
["R70","TIPO DE PERSONA JCA. -sociedad; fundación, asociación civil, etc.-:",null,null,{"$f":"IF(C15=0,0,1)","v":0}]
["R70","CARÁCTER EN LA QUE INTERVIENE -en calidad de socio, asociado, administrador, etc.-:",null,null,0]
["R70","CUIT -sin punto ni barras-:",null,null,0]
["R70","FECHA DE CONSTITUCIÓN -DD/MM/AA-:",null,null,0]
["R70","DOMICILIO LEGAL:",null,null,0]
["R70","LOCALIDAD:",null,null,0]
["R70","PROVINCIA/ESTADO/REGIÓN:",null,null,0]
["R70","PAÍS:",null,null,0]
["R70","CARÁCTER EN LA QUE INTERVIENE -en calidad de socio, asociado, administrador, etc.-:",null,null,0]
["R70","NOMBRE DE LA PERSONA JURÍDICA:",null,null,0]
["R70","TIPO DE PERSONA JCA. -sociedad; fundación, asociación civil, etc.-:",null,null,0]
["R70","CARÁCTER EN LA QUE INTERVIENE -en calidad de socio, asociado, administrador, etc.-:",null,null,0]
["R70","CUIT -sin punto ni barras-:",null,null,0]
["R70","FECHA DE CONSTITUCIÓN -DD/MM/AA-:",null,null,0]
["R70","DOMICILIO LEGAL:",null,null,0]
["R70","LOCALIDAD:",null,null,0]
["R70","PROVINCIA/ESTADO/REGIÓN:",null,null,0]
["R70","PAÍS:",null,null,0]
["R70","CARÁCTER EN LA QUE INTERVIENE -en calidad de socio, asociado, administrador, etc.-:",null,null,0]
["R70","NOMBRE DE LA PERSONA JURÍDICA:",null,null,0]
["R70","TIPO DE PERSONA JCA. -sociedad; fundación, asociación civil, etc.-:",null,null,0]
["R70","CARÁCTER EN LA QUE INTERVIENE -en calidad de socio, asociado, administrador, etc.-:",null,null,0]
["R70","CUIT -sin punto ni barras-:",null,null,0]
["R70","FECHA DE CONSTITUCIÓN -DD/MM/AA-:",null,null,0]
["R70","DOMICILIO LEGAL:",null,null,0]
["R70","LOCALIDAD:",null,null,0]
["R70","PROVINCIA/ESTADO/REGIÓN:",null,null,0]
["R70","PAÍS:",null,null,0]
["R70","CARÁCTER EN LA QUE INTERVIENE -en calidad de socio, asociado, administrador, etc.-:",null,null,0]
["R70","NOMBRE DE LA PERSONA JURÍDICA:",null,null,0]
["R70","TIPO DE PERSONA JCA. -sociedad; fundación, asociación civil, etc.-:",null,null,0]
["R70","CARÁCTER EN LA QUE INTERVIENE -en calidad de socio, asociado, administrador, etc.-:",null,null,0]
["R70","CUIT -sin punto ni barras-:",null,null,0]
["R70","FECHA DE CONSTITUCIÓN -DD/MM/AA-:",null,null,0]
["R70","DOMICILIO LEGAL:",null,null,0]
["R70","LOCALIDAD:",null,null,0]
["R70","PROVINCIA/ESTADO/REGIÓN:",null,null,0]
["R70","PAÍS:",null,null,0]
["R70","CARÁCTER EN LA QUE INTERVIENE -en calidad de socio, asociado, administrador, etc.-:",null,null,0]
["R70","NOMBRE DE LA PERSONA JURÍDICA:",null,null,0]
["R70","TIPO DE PERSONA JCA. -sociedad; fundación, asociación civil, etc.-:",null,null,0]
["R70","CARÁCTER EN LA QUE INTERVIENE -en calidad de socio, asociado, administrador, etc.-:",null,null,0]
["R70","CUIT -sin punto ni barras-:",null,null,0]
["R70","FECHA DE CONSTITUCIÓN -DD/MM/AA-:",null,null,0]
["R70","DOMICILIO LEGAL:",null,null,0]
["R70","LOCALIDAD:",null,null,0]
["R70","PROVINCIA/ESTADO/REGIÓN:",null,null,0]
["R70","PAÍS:",null,null,0]
["R70","CARÁCTER EN LA QUE INTERVIENE -en calidad de socio, asociado, administrador, etc.-:",null,null,0]
["R70","NOMBRE DE LA PERSONA JURÍDICA:",null,null,0]
["R70","TIPO DE PERSONA JCA. -sociedad; fundación, asociación civil, etc.-:",null,null,0]
["R70","CARÁCTER EN LA QUE INTERVIENE -en calidad de socio, asociado, administrador, etc.-:",null,null,0]
["R70","CUIT -sin punto ni barras-:",null,null,0]
["R70","FECHA DE CONSTITUCIÓN -DD/MM/AA-:",null,null,0]
["R70","DOMICILIO LEGAL:",null,null,0]
["R70","LOCALIDAD:",null,null,0]
["R70","PROVINCIA/ESTADO/REGIÓN:",null,null,0]
["R70","PAÍS:",null,null,0]
["R70","CARÁCTER EN LA QUE INTERVIENE -en calidad de socio, asociado, administrador, etc.-:",null,null,0]
["R70","NOMBRE DE LA PERSONA JURÍDICA:",null,null,0]
["R70","TIPO DE PERSONA JCA. -sociedad; fundación, asociación civil, etc.-:",null,null,0]
["R70","CARÁCTER EN LA QUE INTERVIENE -en calidad de socio, asociado, administrador, etc.-:",null,null,0]
["R70","CUIT -sin punto ni barras-:",null,null,0]
["R70","FECHA DE CONSTITUCIÓN -DD/MM/AA-:",null,null,0]
["R70","DOMICILIO LEGAL:",null,null,{"$f":"IF(C79=0,0,1)","v":0}]
["R70","LOCALIDAD:",null,null,0]
["R70","PROVINCIA/ESTADO/REGIÓN:",null,null,0]
["R70","PAÍS:",null,null,0]
["R70","CARÁCTER EN LA QUE INTERVIENE -en calidad de socio, asociado, administrador, etc.-:",null,null,0]
["R70","NOMBRE DE LA PERSONA JURÍDICA:",null,null,0]
["R70","TIPO DE PERSONA JCA. -sociedad; fundación, asociación civil, etc.-:",null,null,0]
["R70","CARÁCTER EN LA QUE INTERVIENE -en calidad de socio, asociado, administrador, etc.-:",null,null,0]
["R70","CUIT -sin punto ni barras-:",null,null,0]
["R70","FECHA DE CONSTITUCIÓN -DD/MM/AA-:",null,null,0]
["R70","DOMICILIO LEGAL:",null,null,0]
["R70","LOCALIDAD:",null,null,0]
["R70","PROVINCIA/ESTADO/REGIÓN:",null,null,0]
["R70","PAÍS:",null,null,0]
["R70","CARÁCTER EN LA QUE INTERVIENE -en calidad de socio, asociado, administrador, etc.-:",null,null,0]
["R70","NOMBRE DE LA PERSONA JURÍDICA:",null,null,0]
["R70","TIPO DE PERSONA JCA. -sociedad; fundación, asociación civil, etc.-:",null,null,0]
["R70","CARÁCTER EN LA QUE INTERVIENE -en calidad de socio, asociado, administrador, etc.-:",null,null,0]
["R70","CUIT -sin punto ni barras-:",null,null,0]
["R70","FECHA DE CONSTITUCIÓN -DD/MM/AA-:",null,null,0]
["R70","DOMICILIO LEGAL:",null,null,0]
["R70","LOCALIDAD:",null,null,0]
["R70","PROVINCIA/ESTADO/REGIÓN:",null,null,0]
["R70","PAÍS:",null,null,0]
["R70","CARÁCTER EN LA QUE INTERVIENE -en calidad de socio, asociado, administrador, etc.-:",null,null,0]
["R70","NOMBRE DE LA PERSONA JURÍDICA:",null,null,0]
["R70","TIPO DE PERSONA JCA. -sociedad; fundación, asociación civil, etc.-:",null,null,0]
["R70","CARÁCTER EN LA QUE INTERVIENE -en calidad de socio, asociado, administrador, etc.-:",null,null,0]
["R70","CUIT -sin punto ni barras-:",null,null,0]
["R70","FECHA DE CONSTITUCIÓN -DD/MM/AA-:",null,null,0]
["R70","DOMICILIO LEGAL:",null,null,0]
["R70","LOCALIDAD:",null,null,0]
["R70","PROVINCIA/ESTADO/REGIÓN:",null,null,0]
["R70","PAÍS:",null,null,0]
["R70","CARÁCTER EN LA QUE INTERVIENE -en calidad de socio, asociado, administrador, etc.-:",null,null,0]
["R70","NOMBRE DE LA PERSONA JURÍDICA:",null,null,0]
["R70","TIPO DE PERSONA JCA. -sociedad; fundación, asociación civil, etc.-:",null,null,0]
["R70","CARÁCTER EN LA QUE INTERVIENE -en calidad de socio, asociado, administrador, etc.-:",null,null,0]
["R70","CUIT -sin punto ni barras-:",null,null,0]
["R70","FECHA DE CONSTITUCIÓN -DD/MM/AA-:",null,null,0]
["R70","DOMICILIO LEGAL:",null,null,0]
["R70","LOCALIDAD:",null,null,0]
["R70","PROVINCIA/ESTADO/REGIÓN:",null,null,0]
["R70","PAÍS:",null,null,0]
["R70","CARÁCTER EN LA QUE INTERVIENE -en calidad de socio, asociado, administrador, etc.-:",null,null,0]
["R70","NOMBRE DE LA PERSONA JURÍDICA:",null,null,0]
["R70","TIPO DE PERSONA JCA. -sociedad; fundación, asociación civil, etc.-:",null,null,0]
["R70","CARÁCTER EN LA QUE INTERVIENE -en calidad de socio, asociado, administrador, etc.-:",null,null,0]
["R70","CUIT -sin punto ni barras-:",null,null,0]
["R70","FECHA DE CONSTITUCIÓN -DD/MM/AA-:",null,null,0]
["R70","DOMICILIO LEGAL:",null,null,0]
["R70","LOCALIDAD:",null,null,0]
["R70","PROVINCIA/ESTADO/REGIÓN:",null,null,0]
["R70","PAÍS:",null,null,0]
["R70","CARÁCTER EN LA QUE INTERVIENE -en calidad de socio, asociado, administrador, etc.-:",null,null,0]
["DECLARO que los datos consignados son verídicos a la fecha de la suscripción de la presente. A tal efecto cuento con la documental que acredita tal información, poniéndola a disposición de la Secretaría de Registro Público de Comercio del Juzgado Provincial de 1era. Instancia nro. UNO, en lo Civil, Comercial, Laboral y de Minería de Río Gallegos, de ser requerida.",null,null,null,1]
["FECHA:",null,null,null,1]
[null,null,null,null,1]
[null,null,null,null,1]
[null,null,null,null,1]
[null,null,null,null,1]
[null,"FIRMA DE ESCRIBANO, DECLARANTE -frima certificada- O APODERADO -firma certificada-",null,null,1]

{"sheet":"IND3","index":5,"n_rows":140,"n_cols":4,"rows_kept":140,"cut":false,"hidden":false,"merged":[[133,0,133,3],[134,0,134,1],[134,2,134,3],[127,2,127,3],[128,2,128,3],[129,2,129,3],[130,2,130,3],[131,2,131,3],[132,2,132,3],[121,2,121,3],[122,2,122,3],[123,2,123,3],[124,2,124,3],[125,2,125,3],[126,2,126,3],[115,2,115,3],[116,2,116,3],[117,2,117,3],[118,2,118,3],[119,2,119,3],[120,2,120,3],[109,2,109,3],[110,2,110,3],[111,2,111,3],[112,2,112,3],[113,2,113,3],[114,2,114,3],[103,2,103,3],[104,2,104,3],[105,2,105,3],[106,2,106,3],[107,2,107,3],[108,2,108,3],[97,2,97,3],[98,2,98,3],[99,2,99,3],[100,2,100,3],[101,2,101,3],[102,2,102,3],[91,2,91,3],[92,2,92,3],[93,2,93,3],[94,2,94,3],[95,2,95,3],[96,2,96,3],[85,2,85,3],[86,2,86,3],[87,2,87,3],[88,2,88,3],[89,2,89,3],[90,2,90,3],[79,2,79,3],[80,2,80,3],[81,2,81,3],[82,2,82,3],[83,2,83,3],[84,2,84,3],[73,2,73,3],[74,2,74,3],[75,2,75,3],[76,2,76,3],[77,2,77,3],[78,2,78,3],[67,2,67,3],[68,2,68,3],[69,2,69,3],[70,2,70,3],[71,2,71,3],[72,2,72,3],[61,2,61,3],[62,2,62,3],[63,2,63,3],[64,2,64,3],[65,2,65,3],[66,2,66,3],[55,2,55,3],[56,2,56,3],[57,2,57,3],[58,2,58,3],[59,2,59,3],[60,2,60,3],[49,2,49,3],[50,2,50,3],[51,2,51,3],[52,2,52,3],[53,2,53,3],[54,2,54,3],[43,2,43,3],[44,2,44,3],[45,2,45,3],[46,2,46,3],[47,2,47,3],[48,2,48,3],[39,2,39,3],[40,2,40,3],[41,2,41,3],[42,2,42,3],[31,2,31,3],[32,2,32,3],[33,2,33,3],[34,2,34,3],[35,2,35,3],[36,2,36,3],[30,2,30,3],[19,2,19,3],[20,2,20,3],[21,2,21,3],[22,2,22,3],[23,2,23,3],[24,2,24,3],[37,2,37,3],[38,2,38,3],[0,0,0,3],[1,0,1,1],[1,2,1,3],[4,0,4,2],[5,0,5,3],[6,2,6,3],[139,1,139,3],[13,2,13,3],[14,2,14,3],[15,2,15,3],[16,2,16,3],[17,2,17,3],[18,2,18,3],[7,2,7,3],[8,2,8,3],[9,2,9,3],[10,2,10,3],[11,0,11,3],[12,0,12,3],[25,2,25,3],[26,2,26,3],[27,2,27,3],[28,2,28,3],[29,2,29,3]]}
["DECLARACIÓN JURADA RESOLUCIÓN Nro. 70/2011 UIF -ART. 11- DEL SOCIO, ADMINISTRADOR Y/O REP. LEGAL"]
["RAZÓN SOCIAL/ DENOMINACIÓN SOCIEDAD A INCRIBIR/INSCRIPTA RPC-RGL:",null,{"$f":"+'DATOS COMUN'!C3:D3","v":0}]
["EXPTE:",null,{"$f":"+'DATOS COMUN'!C4","v":0}]
[]
["DECLARO QUE TENGO PARTICIPACIÓN EN LA CONSTITUCIÓN O EN LA ADMINISTRACIÓN DE CINCO (5) O MÁS PERSONA/S JURÍDICA/S. INTERVIENE -art. 11, inc. 2 RES. 70/2011 UIF-,",null,null,"ELEGIR"]
["DATOS DE LA PERSONA HUMANA SOCIA/ADMINISTRADOR/REP. LEGAL DE LA SOCIEDAD A INSCRIBIR"]
["R70","APELLIDO/S:"]
["R70","NOMBRE/S:"]
["R70","SOCIO:"]
["R70","ADMINISTRADOR / REP. LEGAL(1):"]
["R70","CUIT/CUIL -sin puntos ni barras-:"]
["(1) Nombre del cargo que ocupa en la sociedad a inscribir o inscripta en en RPC-RÍO GALLEGOS."]
["DATOS DE LAS OTRAS PERSONAS JURÍDICA QUE PARTICIPA EN LA CONST. Y/O ADMINISTRACIÓN"]
["R70","NOMBRE DE LA PERSONA JURÍDICA:"]
["R70","TIPO DE PERSONA JCA. -sociedad; fundación, asociación civil, etc.-:"]
["R70","CARÁCTER EN LA QUE INTERVIENE -en calidad de socio, asociado, administrador, etc.-:"]
["R70","CUIT -sin punto ni barras-:"]
["R70","FECHA DE CONSTITUCIÓN -DD/MM/AA-:"]
["R70","DOMICILIO LEGAL:"]
["R70","LOCALIDAD:"]
["R70","PROVINCIA/ESTADO/REGIÓN:"]
["R70","PAÍS:"]
["R70","CARÁCTER EN LA QUE INTERVIENE -en calidad de socio, asociado, administrador, etc.-:"]
["R70","NOMBRE DE LA PERSONA JURÍDICA:"]
["R70","TIPO DE PERSONA JCA. -sociedad; fundación, asociación civil, etc.-:"]
["R70","CARÁCTER EN LA QUE INTERVIENE -en calidad de socio, asociado, administrador, etc.-:"]
["R70","CUIT -sin punto ni barras-:"]
["R70","FECHA DE CONSTITUCIÓN -DD/MM/AA-:"]
["R70","DOMICILIO LEGAL:"]
["R70","LOCALIDAD:"]
["R70","PROVINCIA/ESTADO/REGIÓN:"]
["R70","PAÍS:"]
["R70","CARÁCTER EN LA QUE INTERVIENE -en calidad de socio, asociado, administrador, etc.-:"]
["R70","NOMBRE DE LA PERSONA JURÍDICA:"]
["R70","TIPO DE PERSONA JCA. -sociedad; fundación, asociación civil, etc.-:"]
["R70","CARÁCTER EN LA QUE INTERVIENE -en calidad de socio, asociado, administrador, etc.-:"]
["R70","CUIT -sin punto ni barras-:"]
["R70","FECHA DE CONSTITUCIÓN -DD/MM/AA-:"]
["R70","DOMICILIO LEGAL:"]
["R70","LOCALIDAD:"]
["R70","PROVINCIA/ESTADO/REGIÓN:"]
["R70","PAÍS:"]
["R70","CARÁCTER EN LA QUE INTERVIENE -en calidad de socio, asociado, administrador, etc.-:"]
["R70","NOMBRE DE LA PERSONA JURÍDICA:"]
["R70","TIPO DE PERSONA JCA. -sociedad; fundación, asociación civil, etc.-:"]
["R70","CARÁCTER EN LA QUE INTERVIENE -en calidad de socio, asociado, administrador, etc.-:"]
["R70","CUIT -sin punto ni barras-:"]
["R70","FECHA DE CONSTITUCIÓN -DD/MM/AA-:"]
["R70","DOMICILIO LEGAL:"]
["R70","LOCALIDAD:"]
["R70","PROVINCIA/ESTADO/REGIÓN:"]
["R70","PAÍS:"]
["R70","CARÁCTER EN LA QUE INTERVIENE -en calidad de socio, asociado, administrador, etc.-:"]
["R70","NOMBRE DE LA PERSONA JURÍDICA:"]
["R70","TIPO DE PERSONA JCA. -sociedad; fundación, asociación civil, etc.-:"]
["R70","CARÁCTER EN LA QUE INTERVIENE -en calidad de socio, asociado, administrador, etc.-:"]
["R70","CUIT -sin punto ni barras-:"]
["R70","FECHA DE CONSTITUCIÓN -DD/MM/AA-:"]
["R70","DOMICILIO LEGAL:"]
["R70","LOCALIDAD:"]
["R70","PROVINCIA/ESTADO/REGIÓN:"]
["R70","PAÍS:"]
["R70","CARÁCTER EN LA QUE INTERVIENE -en calidad de socio, asociado, administrador, etc.-:"]
["R70","NOMBRE DE LA PERSONA JURÍDICA:"]
["R70","TIPO DE PERSONA JCA. -sociedad; fundación, asociación civil, etc.-:"]
["R70","CARÁCTER EN LA QUE INTERVIENE -en calidad de socio, asociado, administrador, etc.-:"]
["R70","CUIT -sin punto ni barras-:"]
["R70","FECHA DE CONSTITUCIÓN -DD/MM/AA-:"]
["R70","DOMICILIO LEGAL:"]
["R70","LOCALIDAD:"]
["R70","PROVINCIA/ESTADO/REGIÓN:"]
["R70","PAÍS:"]
["R70","CARÁCTER EN LA QUE INTERVIENE -en calidad de socio, asociado, administrador, etc.-:"]
["R70","NOMBRE DE LA PERSONA JURÍDICA:"]
["R70","TIPO DE PERSONA JCA. -sociedad; fundación, asociación civil, etc.-:"]
["R70","CARÁCTER EN LA QUE INTERVIENE -en calidad de socio, asociado, administrador, etc.-:"]
["R70","CUIT -sin punto ni barras-:"]
["R70","FECHA DE CONSTITUCIÓN -DD/MM/AA-:"]
["R70","DOMICILIO LEGAL:"]
["R70","LOCALIDAD:"]
["R70","PROVINCIA/ESTADO/REGIÓN:"]
["R70","PAÍS:"]
["R70","CARÁCTER EN LA QUE INTERVIENE -en calidad de socio, asociado, administrador, etc.-:"]
["R70","NOMBRE DE LA PERSONA JURÍDICA:"]
["R70","TIPO DE PERSONA JCA. -sociedad; fundación, asociación civil, etc.-:"]
["R70","CARÁCTER EN LA QUE INTERVIENE -en calidad de socio, asociado, administrador, etc.-:"]
["R70","CUIT -sin punto ni barras-:"]
["R70","FECHA DE CONSTITUCIÓN -DD/MM/AA-:"]
["R70","DOMICILIO LEGAL:"]
["R70","LOCALIDAD:"]
["R70","PROVINCIA/ESTADO/REGIÓN:"]
["R70","PAÍS:"]
["R70","CARÁCTER EN LA QUE INTERVIENE -en calidad de socio, asociado, administrador, etc.-:"]
["R70","NOMBRE DE LA PERSONA JURÍDICA:"]
["R70","TIPO DE PERSONA JCA. -sociedad; fundación, asociación civil, etc.-:"]
["R70","CARÁCTER EN LA QUE INTERVIENE -en calidad de socio, asociado, administrador, etc.-:"]
["R70","CUIT -sin punto ni barras-:"]
["R70","FECHA DE CONSTITUCIÓN -DD/MM/AA-:"]
["R70","DOMICILIO LEGAL:"]
["R70","LOCALIDAD:"]
["R70","PROVINCIA/ESTADO/REGIÓN:"]
["R70","PAÍS:"]
["R70","CARÁCTER EN LA QUE INTERVIENE -en calidad de socio, asociado, administrador, etc.-:"]
["R70","NOMBRE DE LA PERSONA JURÍDICA:"]
["R70","TIPO DE PERSONA JCA. -sociedad; fundación, asociación civil, etc.-:"]
["R70","CARÁCTER EN LA QUE INTERVIENE -en calidad de socio, asociado, administrador, etc.-:"]
["R70","CUIT -sin punto ni barras-:"]
["R70","FECHA DE CONSTITUCIÓN -DD/MM/AA-:"]
["R70","DOMICILIO LEGAL:"]
["R70","LOCALIDAD:"]
["R70","PROVINCIA/ESTADO/REGIÓN:"]
["R70","PAÍS:"]
["R70","CARÁCTER EN LA QUE INTERVIENE -en calidad de socio, asociado, administrador, etc.-:"]
["R70","NOMBRE DE LA PERSONA JURÍDICA:"]
["R70","TIPO DE PERSONA JCA. -sociedad; fundación, asociación civil, etc.-:"]
["R70","CARÁCTER EN LA QUE INTERVIENE -en calidad de socio, asociado, administrador, etc.-:"]
["R70","CUIT -sin punto ni barras-:"]
["R70","FECHA DE CONSTITUCIÓN -DD/MM/AA-:"]
["R70","DOMICILIO LEGAL:"]
["R70","LOCALIDAD:"]
["R70","PROVINCIA/ESTADO/REGIÓN:"]
["R70","PAÍS:"]
["R70","CARÁCTER EN LA QUE INTERVIENE -en calidad de socio, asociado, administrador, etc.-:"]
["R70","NOMBRE DE LA PERSONA JURÍDICA:"]
["R70","TIPO DE PERSONA JCA. -sociedad; fundación, asociación civil, etc.-:"]
["R70","CARÁCTER EN LA QUE INTERVIENE -en calidad de socio, asociado, administrador, etc.-:"]
["R70","CUIT -sin punto ni barras-:"]
["R70","FECHA DE CONSTITUCIÓN -DD/MM/AA-:"]
["R70","DOMICILIO LEGAL:"]
["R70","LOCALIDAD:"]
["R70","PROVINCIA/ESTADO/REGIÓN:"]
["R70","PAÍS:"]
["R70","CARÁCTER EN LA QUE INTERVIENE -en calidad de socio, asociado, administrador, etc.-:"]
["DECLARO que los datos consignados son verídicos a la fecha de la suscripción de la presente. A tal efecto cuento con la documental que acredita tal información, poniéndola a disposición de la Secretaría de Registro Público de Comercio del Juzgado Provincial de 1era. Instancia nro. UNO, en lo Civil, Comercial, Laboral y de Minería de Río Gallegos, de ser requerida."]
["FECHA:"]
[]
[]
[]
[]
[null,"FIRMA DE ESCRIBANO, DECLARANTE -frima certificada- O APODERADO -firma certificada-"]

{"sheet":"IND4","index":6,"n_rows":140,"n_cols":5,"rows_kept":140,"cut":false,"hidden":false,"merged":[[133,0,133,3],[134,0,134,1],[134,2,134,3],[127,2,127,3],[128,2,128,3],[129,2,129,3],[130,2,130,3],[131,2,131,3],[132,2,132,3],[121,2,121,3],[122,2,122,3],[123,2,123,3],[124,2,124,3],[125,2,125,3],[126,2,126,3],[115,2,115,3],[116,2,116,3],[117,2,117,3],[118,2,118,3],[119,2,119,3],[120,2,120,3],[109,2,109,3],[110,2,110,3],[111,2,111,3],[112,2,112,3],[113,2,113,3],[114,2,114,3],[103,2,103,3],[104,2,104,3],[105,2,105,3],[106,2,106,3],[107,2,107,3],[108,2,108,3],[97,2,97,3],[98,2,98,3],[99,2,99,3],[100,2,100,3],[101,2,101,3],[102,2,102,3],[91,2,91,3],[92,2,92,3],[93,2,93,3],[94,2,94,3],[95,2,95,3],[96,2,96,3],[85,2,85,3],[86,2,86,3],[87,2,87,3],[88,2,88,3],[89,2,89,3],[90,2,90,3],[79,2,79,3],[80,2,80,3],[81,2,81,3],[82,2,82,3],[83,2,83,3],[84,2,84,3],[73,2,73,3],[74,2,74,3],[75,2,75,3],[76,2,76,3],[77,2,77,3],[78,2,78,3],[67,2,67,3],[68,2,68,3],[69,2,69,3],[70,2,70,3],[71,2,71,3],[72,2,72,3],[61,2,61,3],[62,2,62,3],[63,2,63,3],[64,2,64,3],[65,2,65,3],[66,2,66,3],[55,2,55,3],[56,2,56,3],[57,2,57,3],[58,2,58,3],[59,2,59,3],[60,2,60,3],[49,2,49,3],[50,2,50,3],[51,2,51,3],[52,2,52,3],[53,2,53,3],[54,2,54,3],[43,2,43,3],[44,2,44,3],[45,2,45,3],[46,2,46,3],[47,2,47,3],[48,2,48,3],[39,2,39,3],[40,2,40,3],[41,2,41,3],[42,2,42,3],[31,2,31,3],[32,2,32,3],[33,2,33,3],[34,2,34,3],[35,2,35,3],[36,2,36,3],[30,2,30,3],[19,2,19,3],[20,2,20,3],[21,2,21,3],[22,2,22,3],[23,2,23,3],[24,2,24,3],[37,2,37,3],[38,2,38,3],[0,0,0,3],[1,0,1,1],[1,2,1,3],[4,0,4,2],[5,0,5,3],[6,2,6,3],[139,1,139,3],[13,2,13,3],[14,2,14,3],[15,2,15,3],[16,2,16,3],[17,2,17,3],[18,2,18,3],[7,2,7,3],[8,2,8,3],[9,2,9,3],[10,2,10,3],[11,0,11,3],[12,0,12,3],[25,2,25,3],[26,2,26,3],[27,2,27,3],[28,2,28,3],[29,2,29,3]]}
["DECLARACIÓN JURADA RESOLUCIÓN Nro. 70/2011 UIF -ART. 11- DEL SOCIO, ADMINISTRADOR Y/O REP. LEGAL",null,null,null,"F"]
["RAZÓN SOCIAL/ DENOMINACIÓN SOCIEDAD A INCRIBIR/INSCRIPTA RPC-RGL:",null,{"$f":"+'DATOS COMUN'!C3:D3","v":0},null,1]
["EXPTE:",null,{"$f":"+'DATOS COMUN'!C4","v":0},null,1]
[null,null,null,null,1]
["DECLARO QUE TENGO PARTICIPACIÓN EN LA CONSTITUCIÓN O EN LA ADMINISTRACIÓN DE CINCO (5) O MÁS PERSONA/S JURÍDICA/S. INTERVIENE -art. 11, inc. 2 RES. 70/2011 UIF-,",null,null,"ELEGIR",1]
["DATOS DE LA PERSONA HUMANA SOCIA/ADMINISTRADOR/REP. LEGAL DE LA SOCIEDAD A INSCRIBIR",null,null,null,1]
["R70","APELLIDO/S:",null,null,1]
["R70","NOMBRE/S:",null,null,1]
["R70","SOCIO:",null,null,1]
["R70","ADMINISTRADOR / REP. LEGAL(1):"]
["R70","CUIT/CUIL -sin puntos ni barras-:",null,null,1]
["(1) Nombre del cargo que ocupa en la sociedad a inscribir o inscripta en en RPC-RÍO GALLEGOS.",null,null,null,1]
["DATOS DE LAS OTRAS PERSONAS JURÍDICA QUE PARTICIPA EN LA CONST. Y/O ADMINISTRACIÓN",null,null,null,{"$f":"IF(D$5=\"NO\",0,1)","v":1}]
["R70","NOMBRE DE LA PERSONA JURÍDICA:",null,null,{"$f":"IF(C14=0,0,1)","v":0}]
["R70","TIPO DE PERSONA JCA. -sociedad; fundación, asociación civil, etc.-:",null,null,{"$f":"IF(C15=0,0,1)","v":0}]
["R70","CARÁCTER EN LA QUE INTERVIENE -en calidad de socio, asociado, administrador, etc.-:",null,null,0]
["R70","CUIT -sin punto ni barras-:",null,null,0]
["R70","FECHA DE CONSTITUCIÓN -DD/MM/AA-:",null,null,0]
["R70","DOMICILIO LEGAL:",null,null,0]
["R70","LOCALIDAD:",null,null,0]
["R70","PROVINCIA/ESTADO/REGIÓN:",null,null,0]
["R70","PAÍS:",null,null,0]
["R70","CARÁCTER EN LA QUE INTERVIENE -en calidad de socio, asociado, administrador, etc.-:",null,null,0]
["R70","NOMBRE DE LA PERSONA JURÍDICA:",null,null,0]
["R70","TIPO DE PERSONA JCA. -sociedad; fundación, asociación civil, etc.-:",null,null,0]
["R70","CARÁCTER EN LA QUE INTERVIENE -en calidad de socio, asociado, administrador, etc.-:",null,null,0]
["R70","CUIT -sin punto ni barras-:",null,null,0]
["R70","FECHA DE CONSTITUCIÓN -DD/MM/AA-:",null,null,0]
["R70","DOMICILIO LEGAL:",null,null,0]
["R70","LOCALIDAD:",null,null,0]
["R70","PROVINCIA/ESTADO/REGIÓN:",null,null,0]
["R70","PAÍS:",null,null,0]
["R70","CARÁCTER EN LA QUE INTERVIENE -en calidad de socio, asociado, administrador, etc.-:",null,null,0]
["R70","NOMBRE DE LA PERSONA JURÍDICA:",null,null,0]
["R70","TIPO DE PERSONA JCA. -sociedad; fundación, asociación civil, etc.-:",null,null,0]
["R70","CARÁCTER EN LA QUE INTERVIENE -en calidad de socio, asociado, administrador, etc.-:",null,null,0]
["R70","CUIT -sin punto ni barras-:",null,null,0]
["R70","FECHA DE CONSTITUCIÓN -DD/MM/AA-:",null,null,0]
["R70","DOMICILIO LEGAL:",null,null,0]
["R70","LOCALIDAD:",null,null,0]
["R70","PROVINCIA/ESTADO/REGIÓN:",null,null,0]
["R70","PAÍS:",null,null,0]
["R70","CARÁCTER EN LA QUE INTERVIENE -en calidad de socio, asociado, administrador, etc.-:",null,null,0]
["R70","NOMBRE DE LA PERSONA JURÍDICA:",null,null,0]
["R70","TIPO DE PERSONA JCA. -sociedad; fundación, asociación civil, etc.-:",null,null,0]
["R70","CARÁCTER EN LA QUE INTERVIENE -en calidad de socio, asociado, administrador, etc.-:",null,null,0]
["R70","CUIT -sin punto ni barras-:",null,null,0]
["R70","FECHA DE CONSTITUCIÓN -DD/MM/AA-:",null,null,0]
["R70","DOMICILIO LEGAL:",null,null,0]
["R70","LOCALIDAD:",null,null,0]
["R70","PROVINCIA/ESTADO/REGIÓN:",null,null,0]
["R70","PAÍS:",null,null,0]
["R70","CARÁCTER EN LA QUE INTERVIENE -en calidad de socio, asociado, administrador, etc.-:",null,null,0]
["R70","NOMBRE DE LA PERSONA JURÍDICA:",null,null,0]
["R70","TIPO DE PERSONA JCA. -sociedad; fundación, asociación civil, etc.-:",null,null,0]
["R70","CARÁCTER EN LA QUE INTERVIENE -en calidad de socio, asociado, administrador, etc.-:",null,null,0]
["R70","CUIT -sin punto ni barras-:",null,null,0]
["R70","FECHA DE CONSTITUCIÓN -DD/MM/AA-:",null,null,0]
["R70","DOMICILIO LEGAL:",null,null,0]
["R70","LOCALIDAD:",null,null,0]
["R70","PROVINCIA/ESTADO/REGIÓN:",null,null,0]
["R70","PAÍS:",null,null,0]
["R70","CARÁCTER EN LA QUE INTERVIENE -en calidad de socio, asociado, administrador, etc.-:",null,null,0]
["R70","NOMBRE DE LA PERSONA JURÍDICA:",null,null,0]
["R70","TIPO DE PERSONA JCA. -sociedad; fundación, asociación civil, etc.-:",null,null,0]
["R70","CARÁCTER EN LA QUE INTERVIENE -en calidad de socio, asociado, administrador, etc.-:",null,null,0]
["R70","CUIT -sin punto ni barras-:",null,null,0]
["R70","FECHA DE CONSTITUCIÓN -DD/MM/AA-:",null,null,0]
["R70","DOMICILIO LEGAL:",null,null,0]
["R70","LOCALIDAD:",null,null,0]
["R70","PROVINCIA/ESTADO/REGIÓN:",null,null,0]
["R70","PAÍS:",null,null,0]
["R70","CARÁCTER EN LA QUE INTERVIENE -en calidad de socio, asociado, administrador, etc.-:",null,null,0]
["R70","NOMBRE DE LA PERSONA JURÍDICA:",null,null,0]
["R70","TIPO DE PERSONA JCA. -sociedad; fundación, asociación civil, etc.-:",null,null,0]
["R70","CARÁCTER EN LA QUE INTERVIENE -en calidad de socio, asociado, administrador, etc.-:",null,null,0]
["R70","CUIT -sin punto ni barras-:",null,null,0]
["R70","FECHA DE CONSTITUCIÓN -DD/MM/AA-:",null,null,0]
["R70","DOMICILIO LEGAL:",null,null,{"$f":"IF(C79=0,0,1)","v":0}]
["R70","LOCALIDAD:",null,null,0]
["R70","PROVINCIA/ESTADO/REGIÓN:",null,null,0]
["R70","PAÍS:",null,null,0]
["R70","CARÁCTER EN LA QUE INTERVIENE -en calidad de socio, asociado, administrador, etc.-:",null,null,0]
["R70","NOMBRE DE LA PERSONA JURÍDICA:",null,null,0]
["R70","TIPO DE PERSONA JCA. -sociedad; fundación, asociación civil, etc.-:",null,null,0]
["R70","CARÁCTER EN LA QUE INTERVIENE -en calidad de socio, asociado, administrador, etc.-:",null,null,0]
["R70","CUIT -sin punto ni barras-:",null,null,0]
["R70","FECHA DE CONSTITUCIÓN -DD/MM/AA-:",null,null,0]
["R70","DOMICILIO LEGAL:",null,null,0]
["R70","LOCALIDAD:",null,null,0]
["R70","PROVINCIA/ESTADO/REGIÓN:",null,null,0]
["R70","PAÍS:",null,null,0]
["R70","CARÁCTER EN LA QUE INTERVIENE -en calidad de socio, asociado, administrador, etc.-:",null,null,0]
["R70","NOMBRE DE LA PERSONA JURÍDICA:",null,null,0]
["R70","TIPO DE PERSONA JCA. -sociedad; fundación, asociación civil, etc.-:",null,null,0]
["R70","CARÁCTER EN LA QUE INTERVIENE -en calidad de socio, asociado, administrador, etc.-:",null,null,0]
["R70","CUIT -sin punto ni barras-:",null,null,0]
["R70","FECHA DE CONSTITUCIÓN -DD/MM/AA-:",null,null,0]
["R70","DOMICILIO LEGAL:",null,null,0]
["R70","LOCALIDAD:",null,null,0]
["R70","PROVINCIA/ESTADO/REGIÓN:",null,null,0]
["R70","PAÍS:",null,null,0]
["R70","CARÁCTER EN LA QUE INTERVIENE -en calidad de socio, asociado, administrador, etc.-:",null,null,0]
["R70","NOMBRE DE LA PERSONA JURÍDICA:",null,null,0]
["R70","TIPO DE PERSONA JCA. -sociedad; fundación, asociación civil, etc.-:",null,null,0]
["R70","CARÁCTER EN LA QUE INTERVIENE -en calidad de socio, asociado, administrador, etc.-:",null,null,0]
["R70","CUIT -sin punto ni barras-:",null,null,0]
["R70","FECHA DE CONSTITUCIÓN -DD/MM/AA-:",null,null,0]
["R70","DOMICILIO LEGAL:",null,null,0]
["R70","LOCALIDAD:",null,null,0]
["R70","PROVINCIA/ESTADO/REGIÓN:",null,null,0]
["R70","PAÍS:",null,null,0]
["R70","CARÁCTER EN LA QUE INTERVIENE -en calidad de socio, asociado, administrador, etc.-:",null,null,0]
["R70","NOMBRE DE LA PERSONA JURÍDICA:",null,null,0]
["R70","TIPO DE PERSONA JCA. -sociedad; fundación, asociación civil, etc.-:",null,null,0]
["R70","CARÁCTER EN LA QUE INTERVIENE -en calidad de socio, asociado, administrador, etc.-:",null,null,0]
["R70","CUIT -sin punto ni barras-:",null,null,0]
["R70","FECHA DE CONSTITUCIÓN -DD/MM/AA-:",null,null,0]
["R70","DOMICILIO LEGAL:",null,null,0]
["R70","LOCALIDAD:",null,null,0]
["R70","PROVINCIA/ESTADO/REGIÓN:",null,null,0]
["R70","PAÍS:",null,null,0]
["R70","CARÁCTER EN LA QUE INTERVIENE -en calidad de socio, asociado, administrador, etc.-:",null,null,0]
["R70","NOMBRE DE LA PERSONA JURÍDICA:",null,null,0]
["R70","TIPO DE PERSONA JCA. -sociedad; fundación, asociación civil, etc.-:",null,null,0]
["R70","CARÁCTER EN LA QUE INTERVIENE -en calidad de socio, asociado, administrador, etc.-:",null,null,0]
["R70","CUIT -sin punto ni barras-:",null,null,0]
["R70","FECHA DE CONSTITUCIÓN -DD/MM/AA-:",null,null,0]
["R70","DOMICILIO LEGAL:",null,null,0]
["R70","LOCALIDAD:",null,null,0]
["R70","PROVINCIA/ESTADO/REGIÓN:",null,null,0]
["R70","PAÍS:",null,null,0]
["R70","CARÁCTER EN LA QUE INTERVIENE -en calidad de socio, asociado, administrador, etc.-:",null,null,0]
["DECLARO que los datos consignados son verídicos a la fecha de la suscripción de la presente. A tal efecto cuento con la documental que acredita tal información, poniéndola a disposición de la Secretaría de Registro Público de Comercio del Juzgado Provincial de 1era. Instancia nro. UNO, en lo Civil, Comercial, Laboral y de Minería de Río Gallegos, de ser requerida.",null,null,null,1]
["FECHA:",null,null,null,1]
[null,null,null,null,1]
[null,null,null,null,1]
[null,null,null,null,1]
[null,null,null,null,1]
[null,"FIRMA DE ESCRIBANO, DECLARANTE -frima certificada- O APODERADO -firma certificada-",null,null,1]

{"sheet":"IND5","index":7,"n_rows":140,"n_cols":5,"rows_kept":140,"cut":false,"hidden":false,"merged":[[133,0,133,3],[134,0,134,1],[134,2,134,3],[127,2,127,3],[128,2,128,3],[129,2,129,3],[130,2,130,3],[131,2,131,3],[132,2,132,3],[121,2,121,3],[122,2,122,3],[123,2,123,3],[124,2,124,3],[125,2,125,3],[126,2,126,3],[115,2,115,3],[116,2,116,3],[117,2,117,3],[118,2,118,3],[119,2,119,3],[120,2,120,3],[109,2,109,3],[110,2,110,3],[111,2,111,3],[112,2,112,3],[113,2,113,3],[114,2,114,3],[103,2,103,3],[104,2,104,3],[105,2,105,3],[106,2,106,3],[107,2,107,3],[108,2,108,3],[97,2,97,3],[98,2,98,3],[99,2,99,3],[100,2,100,3],[101,2,101,3],[102,2,102,3],[91,2,91,3],[92,2,92,3],[93,2,93,3],[94,2,94,3],[95,2,95,3],[96,2,96,3],[85,2,85,3],[86,2,86,3],[87,2,87,3],[88,2,88,3],[89,2,89,3],[90,2,90,3],[79,2,79,3],[80,2,80,3],[81,2,81,3],[82,2,82,3],[83,2,83,3],[84,2,84,3],[73,2,73,3],[74,2,74,3],[75,2,75,3],[76,2,76,3],[77,2,77,3],[78,2,78,3],[67,2,67,3],[68,2,68,3],[69,2,69,3],[70,2,70,3],[71,2,71,3],[72,2,72,3],[61,2,61,3],[62,2,62,3],[63,2,63,3],[64,2,64,3],[65,2,65,3],[66,2,66,3],[55,2,55,3],[56,2,56,3],[57,2,57,3],[58,2,58,3],[59,2,59,3],[60,2,60,3],[49,2,49,3],[50,2,50,3],[51,2,51,3],[52,2,52,3],[53,2,53,3],[54,2,54,3],[43,2,43,3],[44,2,44,3],[45,2,45,3],[46,2,46,3],[47,2,47,3],[48,2,48,3],[39,2,39,3],[40,2,40,3],[41,2,41,3],[42,2,42,3],[31,2,31,3],[32,2,32,3],[33,2,33,3],[34,2,34,3],[35,2,35,3],[36,2,36,3],[30,2,30,3],[19,2,19,3],[20,2,20,3],[21,2,21,3],[22,2,22,3],[23,2,23,3],[24,2,24,3],[37,2,37,3],[38,2,38,3],[0,0,0,3],[1,0,1,1],[1,2,1,3],[4,0,4,2],[5,0,5,3],[6,2,6,3],[139,1,139,3],[13,2,13,3],[14,2,14,3],[15,2,15,3],[16,2,16,3],[17,2,17,3],[18,2,18,3],[7,2,7,3],[8,2,8,3],[9,2,9,3],[10,2,10,3],[11,0,11,3],[12,0,12,3],[25,2,25,3],[26,2,26,3],[27,2,27,3],[28,2,28,3],[29,2,29,3]]}
["DECLARACIÓN JURADA RESOLUCIÓN Nro. 70/2011 UIF -ART. 11- DEL SOCIO, ADMINISTRADOR Y/O REP. LEGAL",null,null,null,"F"]
["RAZÓN SOCIAL/ DENOMINACIÓN SOCIEDAD A INCRIBIR/INSCRIPTA RPC-RGL:",null,{"$f":"+'DATOS COMUN'!C3:D3","v":0},null,1]
["EXPTE:",null,{"$f":"+'DATOS COMUN'!C4","v":0},null,1]
[null,null,null,null,1]
["DECLARO QUE TENGO PARTICIPACIÓN EN LA CONSTITUCIÓN O EN LA ADMINISTRACIÓN DE CINCO (5) O MÁS PERSONA/S JURÍDICA/S. INTERVIENE -art. 11, inc. 2 RES. 70/2011 UIF-,",null,null,"ELEGIR",1]
["DATOS DE LA PERSONA HUMANA SOCIA/ADMINISTRADOR/REP. LEGAL DE LA SOCIEDAD A INSCRIBIR",null,null,null,1]
["R70","APELLIDO/S:",null,null,1]
["R70","NOMBRE/S:",null,null,1]
["R70","SOCIO:",null,null,1]
["R70","ADMINISTRADOR / REP. LEGAL(1):"]
["R70","CUIT/CUIL -sin puntos ni barras-:",null,null,1]
["(1) Nombre del cargo que ocupa en la sociedad a inscribir o inscripta en en RPC-RÍO GALLEGOS.",null,null,null,1]
["DATOS DE LAS OTRAS PERSONAS JURÍDICA QUE PARTICIPA EN LA CONST. Y/O ADMINISTRACIÓN",null,null,null,{"$f":"IF(D$5=\"NO\",0,1)","v":1}]
["R70","NOMBRE DE LA PERSONA JURÍDICA:",null,null,{"$f":"IF(C14=0,0,1)","v":0}]
["R70","TIPO DE PERSONA JCA. -sociedad; fundación, asociación civil, etc.-:",null,null,{"$f":"IF(C15=0,0,1)","v":0}]
["R70","CARÁCTER EN LA QUE INTERVIENE -en calidad de socio, asociado, administrador, etc.-:",null,null,0]
["R70","CUIT -sin punto ni barras-:",null,null,0]
["R70","FECHA DE CONSTITUCIÓN -DD/MM/AA-:",null,null,0]
["R70","DOMICILIO LEGAL:",null,null,0]
["R70","LOCALIDAD:",null,null,0]
["R70","PROVINCIA/ESTADO/REGIÓN:",null,null,0]
["R70","PAÍS:",null,null,0]
["R70","CARÁCTER EN LA QUE INTERVIENE -en calidad de socio, asociado, administrador, etc.-:",null,null,0]
["R70","NOMBRE DE LA PERSONA JURÍDICA:",null,null,0]
["R70","TIPO DE PERSONA JCA. -sociedad; fundación, asociación civil, etc.-:",null,null,0]
["R70","CARÁCTER EN LA QUE INTERVIENE -en calidad de socio, asociado, administrador, etc.-:",null,null,0]
["R70","CUIT -sin punto ni barras-:",null,null,0]
["R70","FECHA DE CONSTITUCIÓN -DD/MM/AA-:",null,null,0]
["R70","DOMICILIO LEGAL:",null,null,0]
["R70","LOCALIDAD:",null,null,0]
["R70","PROVINCIA/ESTADO/REGIÓN:",null,null,0]
["R70","PAÍS:",null,null,0]
["R70","CARÁCTER EN LA QUE INTERVIENE -en calidad de socio, asociado, administrador, etc.-:",null,null,0]
["R70","NOMBRE DE LA PERSONA JURÍDICA:",null,null,0]
["R70","TIPO DE PERSONA JCA. -sociedad; fundación, asociación civil, etc.-:",null,null,0]
["R70","CARÁCTER EN LA QUE INTERVIENE -en calidad de socio, asociado, administrador, etc.-:",null,null,0]
["R70","CUIT -sin punto ni barras-:",null,null,0]
["R70","FECHA DE CONSTITUCIÓN -DD/MM/AA-:",null,null,0]
["R70","DOMICILIO LEGAL:",null,null,0]
["R70","LOCALIDAD:",null,null,0]
["R70","PROVINCIA/ESTADO/REGIÓN:",null,null,0]
["R70","PAÍS:",null,null,0]
["R70","CARÁCTER EN LA QUE INTERVIENE -en calidad de socio, asociado, administrador, etc.-:",null,null,0]
["R70","NOMBRE DE LA PERSONA JURÍDICA:",null,null,0]
["R70","TIPO DE PERSONA JCA. -sociedad; fundación, asociación civil, etc.-:",null,null,0]
["R70","CARÁCTER EN LA QUE INTERVIENE -en calidad de socio, asociado, administrador, etc.-:",null,null,0]
["R70","CUIT -sin punto ni barras-:",null,null,0]
["R70","FECHA DE CONSTITUCIÓN -DD/MM/AA-:",null,null,0]
["R70","DOMICILIO LEGAL:",null,null,0]
["R70","LOCALIDAD:",null,null,0]
["R70","PROVINCIA/ESTADO/REGIÓN:",null,null,0]
["R70","PAÍS:",null,null,0]
["R70","CARÁCTER EN LA QUE INTERVIENE -en calidad de socio, asociado, administrador, etc.-:",null,null,0]
["R70","NOMBRE DE LA PERSONA JURÍDICA:",null,null,0]
["R70","TIPO DE PERSONA JCA. -sociedad; fundación, asociación civil, etc.-:",null,null,0]
["R70","CARÁCTER EN LA QUE INTERVIENE -en calidad de socio, asociado, administrador, etc.-:",null,null,0]
["R70","CUIT -sin punto ni barras-:",null,null,0]
["R70","FECHA DE CONSTITUCIÓN -DD/MM/AA-:",null,null,0]
["R70","DOMICILIO LEGAL:",null,null,0]
["R70","LOCALIDAD:",null,null,0]
["R70","PROVINCIA/ESTADO/REGIÓN:",null,null,0]
["R70","PAÍS:",null,null,0]
["R70","CARÁCTER EN LA QUE INTERVIENE -en calidad de socio, asociado, administrador, etc.-:",null,null,0]
["R70","NOMBRE DE LA PERSONA JURÍDICA:",null,null,0]
["R70","TIPO DE PERSONA JCA. -sociedad; fundación, asociación civil, etc.-:",null,null,0]
["R70","CARÁCTER EN LA QUE INTERVIENE -en calidad de socio, asociado, administrador, etc.-:",null,null,0]
["R70","CUIT -sin punto ni barras-:",null,null,0]
["R70","FECHA DE CONSTITUCIÓN -DD/MM/AA-:",null,null,0]
["R70","DOMICILIO LEGAL:",null,null,0]
["R70","LOCALIDAD:",null,null,0]
["R70","PROVINCIA/ESTADO/REGIÓN:",null,null,0]
["R70","PAÍS:",null,null,0]
["R70","CARÁCTER EN LA QUE INTERVIENE -en calidad de socio, asociado, administrador, etc.-:",null,null,0]
["R70","NOMBRE DE LA PERSONA JURÍDICA:",null,null,0]
["R70","TIPO DE PERSONA JCA. -sociedad; fundación, asociación civil, etc.-:",null,null,0]
["R70","CARÁCTER EN LA QUE INTERVIENE -en calidad de socio, asociado, administrador, etc.-:",null,null,0]
["R70","CUIT -sin punto ni barras-:",null,null,0]
["R70","FECHA DE CONSTITUCIÓN -DD/MM/AA-:",null,null,0]
["R70","DOMICILIO LEGAL:",null,null,{"$f":"IF(C79=0,0,1)","v":0}]
["R70","LOCALIDAD:",null,null,0]
["R70","PROVINCIA/ESTADO/REGIÓN:",null,null,0]
["R70","PAÍS:",null,null,0]
["R70","CARÁCTER EN LA QUE INTERVIENE -en calidad de socio, asociado, administrador, etc.-:",null,null,0]
["R70","NOMBRE DE LA PERSONA JURÍDICA:",null,null,0]
["R70","TIPO DE PERSONA JCA. -sociedad; fundación, asociación civil, etc.-:",null,null,0]
["R70","CARÁCTER EN LA QUE INTERVIENE -en calidad de socio, asociado, administrador, etc.-:",null,null,0]
["R70","CUIT -sin punto ni barras-:",null,null,0]
["R70","FECHA DE CONSTITUCIÓN -DD/MM/AA-:",null,null,0]
["R70","DOMICILIO LEGAL:",null,null,0]
["R70","LOCALIDAD:",null,null,0]
["R70","PROVINCIA/ESTADO/REGIÓN:",null,null,0]
["R70","PAÍS:",null,null,0]
["R70","CARÁCTER EN LA QUE INTERVIENE -en calidad de socio, asociado, administrador, etc.-:",null,null,0]
["R70","NOMBRE DE LA PERSONA JURÍDICA:",null,null,0]
["R70","TIPO DE PERSONA JCA. -sociedad; fundación, asociación civil, etc.-:",null,null,0]
["R70","CARÁCTER EN LA QUE INTERVIENE -en calidad de socio, asociado, administrador, etc.-:",null,null,0]
["R70","CUIT -sin punto ni barras-:",null,null,0]
["R70","FECHA DE CONSTITUCIÓN -DD/MM/AA-:",null,null,0]
["R70","DOMICILIO LEGAL:",null,null,0]
["R70","LOCALIDAD:",null,null,0]
["R70","PROVINCIA/ESTADO/REGIÓN:",null,null,0]
["R70","PAÍS:",null,null,0]
["R70","CARÁCTER EN LA QUE INTERVIENE -en calidad de socio, asociado, administrador, etc.-:",null,null,0]
["R70","NOMBRE DE LA PERSONA JURÍDICA:",null,null,0]
["R70","TIPO DE PERSONA JCA. -sociedad; fundación, asociación civil, etc.-:",null,null,0]
["R70","CARÁCTER EN LA QUE INTERVIENE -en calidad de socio, asociado, administrador, etc.-:",null,null,0]
["R70","CUIT -sin punto ni barras-:",null,null,0]
["R70","FECHA DE CONSTITUCIÓN -DD/MM/AA-:",null,null,0]
["R70","DOMICILIO LEGAL:",null,null,0]
["R70","LOCALIDAD:",null,null,0]
["R70","PROVINCIA/ESTADO/REGIÓN:",null,null,0]
["R70","PAÍS:",null,null,0]
["R70","CARÁCTER EN LA QUE INTERVIENE -en calidad de socio, asociado, administrador, etc.-:",null,null,0]
["R70","NOMBRE DE LA PERSONA JURÍDICA:",null,null,0]
["R70","TIPO DE PERSONA JCA. -sociedad; fundación, asociación civil, etc.-:",null,null,0]
["R70","CARÁCTER EN LA QUE INTERVIENE -en calidad de socio, asociado, administrador, etc.-:",null,null,0]
["R70","CUIT -sin punto ni barras-:",null,null,0]
["R70","FECHA DE CONSTITUCIÓN -DD/MM/AA-:",null,null,0]
["R70","DOMICILIO LEGAL:",null,null,0]
["R70","LOCALIDAD:",null,null,0]
["R70","PROVINCIA/ESTADO/REGIÓN:",null,null,0]
["R70","PAÍS:",null,null,0]
["R70","CARÁCTER EN LA QUE INTERVIENE -en calidad de socio, asociado, administrador, etc.-:",null,null,0]
["R70","NOMBRE DE LA PERSONA JURÍDICA:",null,null,0]
["R70","TIPO DE PERSONA JCA. -sociedad; fundación, asociación civil, etc.-:",null,null,0]
["R70","CARÁCTER EN LA QUE INTERVIENE -en calidad de socio, asociado, administrador, etc.-:",null,null,0]
["R70","CUIT -sin punto ni barras-:",null,null,0]
["R70","FECHA DE CONSTITUCIÓN -DD/MM/AA-:",null,null,0]
["R70","DOMICILIO LEGAL:",null,null,0]
["R70","LOCALIDAD:",null,null,0]
["R70","PROVINCIA/ESTADO/REGIÓN:",null,null,0]
["R70","PAÍS:",null,null,0]
["R70","CARÁCTER EN LA QUE INTERVIENE -en calidad de socio, asociado, administrador, etc.-:",null,null,0]
["DECLARO que los datos consignados son verídicos a la fecha de la suscripción de la presente. A tal efecto cuento con la documental que acredita tal información, poniéndola a disposición de la Secretaría de Registro Público de Comercio del Juzgado Provincial de 1era. Instancia nro. UNO, en lo Civil, Comercial, Laboral y de Minería de Río Gallegos, de ser requerida.",null,null,null,1]
["FECHA:",null,null,null,1]
[null,null,null,null,1]
[null,null,null,null,1]
[null,null,null,null,1]
[null,null,null,null,1]
[null,"FIRMA DE ESCRIBANO, DECLARANTE -frima certificada- O APODERADO -firma certificada-",null,null,1]

{"sheet":"IND6","index":8,"n_rows":140,"n_cols":5,"rows_kept":140,"cut":false,"hidden":false,"merged":[[133,0,133,3],[134,0,134,1],[134,2,134,3],[127,2,127,3],[128,2,128,3],[129,2,129,3],[130,2,130,3],[131,2,131,3],[132,2,132,3],[121,2,121,3],[122,2,122,3],[123,2,123,3],[124,2,124,3],[125,2,125,3],[126,2,126,3],[115,2,115,3],[116,2,116,3],[117,2,117,3],[118,2,118,3],[119,2,119,3],[120,2,120,3],[109,2,109,3],[110,2,110,3],[111,2,111,3],[112,2,112,3],[113,2,113,3],[114,2,114,3],[103,2,103,3],[104,2,104,3],[105,2,105,3],[106,2,106,3],[107,2,107,3],[108,2,108,3],[97,2,97,3],[98,2,98,3],[99,2,99,3],[100,2,100,3],[101,2,101,3],[102,2,102,3],[91,2,91,3],[92,2,92,3],[93,2,93,3],[94,2,94,3],[95,2,95,3],[96,2,96,3],[85,2,85,3],[86,2,86,3],[87,2,87,3],[88,2,88,3],[89,2,89,3],[90,2,90,3],[79,2,79,3],[80,2,80,3],[81,2,81,3],[82,2,82,3],[83,2,83,3],[84,2,84,3],[73,2,73,3],[74,2,74,3],[75,2,75,3],[76,2,76,3],[77,2,77,3],[78,2,78,3],[67,2,67,3],[68,2,68,3],[69,2,69,3],[70,2,70,3],[71,2,71,3],[72,2,72,3],[61,2,61,3],[62,2,62,3],[63,2,63,3],[64,2,64,3],[65,2,65,3],[66,2,66,3],[55,2,55,3],[56,2,56,3],[57,2,57,3],[58,2,58,3],[59,2,59,3],[60,2,60,3],[49,2,49,3],[50,2,50,3],[51,2,51,3],[52,2,52,3],[53,2,53,3],[54,2,54,3],[43,2,43,3],[44,2,44,3],[45,2,45,3],[46,2,46,3],[47,2,47,3],[48,2,48,3],[39,2,39,3],[40,2,40,3],[41,2,41,3],[42,2,42,3],[31,2,31,3],[32,2,32,3],[33,2,33,3],[34,2,34,3],[35,2,35,3],[36,2,36,3],[30,2,30,3],[19,2,19,3],[20,2,20,3],[21,2,21,3],[22,2,22,3],[23,2,23,3],[24,2,24,3],[37,2,37,3],[38,2,38,3],[0,0,0,3],[1,0,1,1],[1,2,1,3],[4,0,4,2],[5,0,5,3],[6,2,6,3],[139,1,139,3],[13,2,13,3],[14,2,14,3],[15,2,15,3],[16,2,16,3],[17,2,17,3],[18,2,18,3],[7,2,7,3],[8,2,8,3],[9,2,9,3],[10,2,10,3],[11,0,11,3],[12,0,12,3],[25,2,25,3],[26,2,26,3],[27,2,27,3],[28,2,28,3],[29,2,29,3]]}
["DECLARACIÓN JURADA RESOLUCIÓN Nro. 70/2011 UIF -ART. 11- DEL SOCIO, ADMINISTRADOR Y/O REP. LEGAL",null,null,null,"F"]
["RAZÓN SOCIAL/ DENOMINACIÓN SOCIEDAD A INCRIBIR/INSCRIPTA RPC-RGL:",null,{"$f":"+'DATOS COMUN'!C3:D3","v":0},null,1]
["EXPTE:",null,{"$f":"+'DATOS COMUN'!C4","v":0},null,1]
[null,null,null,null,1]
["DECLARO QUE TENGO PARTICIPACIÓN EN LA CONSTITUCIÓN O EN LA ADMINISTRACIÓN DE CINCO (5) O MÁS PERSONA/S JURÍDICA/S. INTERVIENE -art. 11, inc. 2 RES. 70/2011 UIF-,",null,null,"ELEGIR",1]
["DATOS DE LA PERSONA HUMANA SOCIA/ADMINISTRADOR/REP. LEGAL DE LA SOCIEDAD A INSCRIBIR",null,null,null,1]
["R70","APELLIDO/S:",null,null,1]
["R70","NOMBRE/S:",null,null,1]
["R70","SOCIO:",null,null,1]
["R70","ADMINISTRADOR / REP. LEGAL(1):"]
["R70","CUIT/CUIL -sin puntos ni barras-:",null,null,1]
["(1) Nombre del cargo que ocupa en la sociedad a inscribir o inscripta en en RPC-RÍO GALLEGOS.",null,null,null,1]
["DATOS DE LAS OTRAS PERSONAS JURÍDICA QUE PARTICIPA EN LA CONST. Y/O ADMINISTRACIÓN",null,null,null,{"$f":"IF(D$5=\"NO\",0,1)","v":1}]
["R70","NOMBRE DE LA PERSONA JURÍDICA:",null,null,{"$f":"IF(C14=0,0,1)","v":0}]
["R70","TIPO DE PERSONA JCA. -sociedad; fundación, asociación civil, etc.-:",null,null,{"$f":"IF(C15=0,0,1)","v":0}]
["R70","CARÁCTER EN LA QUE INTERVIENE -en calidad de socio, asociado, administrador, etc.-:",null,null,0]
["R70","CUIT -sin punto ni barras-:",null,null,0]
["R70","FECHA DE CONSTITUCIÓN -DD/MM/AA-:",null,null,0]
["R70","DOMICILIO LEGAL:",null,null,0]
["R70","LOCALIDAD:",null,null,0]
["R70","PROVINCIA/ESTADO/REGIÓN:",null,null,0]
["R70","PAÍS:",null,null,0]
["R70","CARÁCTER EN LA QUE INTERVIENE -en calidad de socio, asociado, administrador, etc.-:",null,null,0]
["R70","NOMBRE DE LA PERSONA JURÍDICA:",null,null,0]
["R70","TIPO DE PERSONA JCA. -sociedad; fundación, asociación civil, etc.-:",null,null,0]
["R70","CARÁCTER EN LA QUE INTERVIENE -en calidad de socio, asociado, administrador, etc.-:",null,null,0]
["R70","CUIT -sin punto ni barras-:",null,null,0]
["R70","FECHA DE CONSTITUCIÓN -DD/MM/AA-:",null,null,0]
["R70","DOMICILIO LEGAL:",null,null,0]
["R70","LOCALIDAD:",null,null,0]
["R70","PROVINCIA/ESTADO/REGIÓN:",null,null,0]
["R70","PAÍS:",null,null,0]
["R70","CARÁCTER EN LA QUE INTERVIENE -en calidad de socio, asociado, administrador, etc.-:",null,null,0]
["R70","NOMBRE DE LA PERSONA JURÍDICA:",null,null,0]
["R70","TIPO DE PERSONA JCA. -sociedad; fundación, asociación civil, etc.-:",null,null,0]
["R70","CARÁCTER EN LA QUE INTERVIENE -en calidad de socio, asociado, administrador, etc.-:",null,null,0]
["R70","CUIT -sin punto ni barras-:",null,null,0]
["R70","FECHA DE CONSTITUCIÓN -DD/MM/AA-:",null,null,0]
["R70","DOMICILIO LEGAL:",null,null,0]
["R70","LOCALIDAD:",null,null,0]
["R70","PROVINCIA/ESTADO/REGIÓN:",null,null,0]
["R70","PAÍS:",null,null,0]
["R70","CARÁCTER EN LA QUE INTERVIENE -en calidad de socio, asociado, administrador, etc.-:",null,null,0]
["R70","NOMBRE DE LA PERSONA JURÍDICA:",null,null,0]
["R70","TIPO DE PERSONA JCA. -sociedad; fundación, asociación civil, etc.-:",null,null,0]
["R70","CARÁCTER EN LA QUE INTERVIENE -en calidad de socio, asociado, administrador, etc.-:",null,null,0]
["R70","CUIT -sin punto ni barras-:",null,null,0]
["R70","FECHA DE CONSTITUCIÓN -DD/MM/AA-:",null,null,0]
["R70","DOMICILIO LEGAL:",null,null,0]
["R70","LOCALIDAD:",null,null,0]
["R70","PROVINCIA/ESTADO/REGIÓN:",null,null,0]
["R70","PAÍS:",null,null,0]
["R70","CARÁCTER EN LA QUE INTERVIENE -en calidad de socio, asociado, administrador, etc.-:",null,null,0]
["R70","NOMBRE DE LA PERSONA JURÍDICA:",null,null,0]
["R70","TIPO DE PERSONA JCA. -sociedad; fundación, asociación civil, etc.-:",null,null,0]
["R70","CARÁCTER EN LA QUE INTERVIENE -en calidad de socio, asociado, administrador, etc.-:",null,null,0]
["R70","CUIT -sin punto ni barras-:",null,null,0]
["R70","FECHA DE CONSTITUCIÓN -DD/MM/AA-:",null,null,0]
["R70","DOMICILIO LEGAL:",null,null,0]
["R70","LOCALIDAD:",null,null,0]
["R70","PROVINCIA/ESTADO/REGIÓN:",null,null,0]
["R70","PAÍS:",null,null,0]
["R70","CARÁCTER EN LA QUE INTERVIENE -en calidad de socio, asociado, administrador, etc.-:",null,null,0]
["R70","NOMBRE DE LA PERSONA JURÍDICA:",null,null,0]
["R70","TIPO DE PERSONA JCA. -sociedad; fundación, asociación civil, etc.-:",null,null,0]
["R70","CARÁCTER EN LA QUE INTERVIENE -en calidad de socio, asociado, administrador, etc.-:",null,null,0]
["R70","CUIT -sin punto ni barras-:",null,null,0]
["R70","FECHA DE CONSTITUCIÓN -DD/MM/AA-:",null,null,0]
["R70","DOMICILIO LEGAL:",null,null,0]
["R70","LOCALIDAD:",null,null,0]
["R70","PROVINCIA/ESTADO/REGIÓN:",null,null,0]
["R70","PAÍS:",null,null,0]
["R70","CARÁCTER EN LA QUE INTERVIENE -en calidad de socio, asociado, administrador, etc.-:",null,null,0]
["R70","NOMBRE DE LA PERSONA JURÍDICA:",null,null,0]
["R70","TIPO DE PERSONA JCA. -sociedad; fundación, asociación civil, etc.-:",null,null,0]
["R70","CARÁCTER EN LA QUE INTERVIENE -en calidad de socio, asociado, administrador, etc.-:",null,null,0]
["R70","CUIT -sin punto ni barras-:",null,null,0]
["R70","FECHA DE CONSTITUCIÓN -DD/MM/AA-:",null,null,0]
["R70","DOMICILIO LEGAL:",null,null,{"$f":"IF(C79=0,0,1)","v":0}]
["R70","LOCALIDAD:",null,null,0]
["R70","PROVINCIA/ESTADO/REGIÓN:",null,null,0]
["R70","PAÍS:",null,null,0]
["R70","CARÁCTER EN LA QUE INTERVIENE -en calidad de socio, asociado, administrador, etc.-:",null,null,0]
["R70","NOMBRE DE LA PERSONA JURÍDICA:",null,null,0]
["R70","TIPO DE PERSONA JCA. -sociedad; fundación, asociación civil, etc.-:",null,null,0]
["R70","CARÁCTER EN LA QUE INTERVIENE -en calidad de socio, asociado, administrador, etc.-:",null,null,0]
["R70","CUIT -sin punto ni barras-:",null,null,0]
["R70","FECHA DE CONSTITUCIÓN -DD/MM/AA-:",null,null,0]
["R70","DOMICILIO LEGAL:",null,null,0]
["R70","LOCALIDAD:",null,null,0]
["R70","PROVINCIA/ESTADO/REGIÓN:",null,null,0]
["R70","PAÍS:",null,null,0]
["R70","CARÁCTER EN LA QUE INTERVIENE -en calidad de socio, asociado, administrador, etc.-:",null,null,0]
["R70","NOMBRE DE LA PERSONA JURÍDICA:",null,null,0]
["R70","TIPO DE PERSONA JCA. -sociedad; fundación, asociación civil, etc.-:",null,null,0]
["R70","CARÁCTER EN LA QUE INTERVIENE -en calidad de socio, asociado, administrador, etc.-:",null,null,0]
["R70","CUIT -sin punto ni barras-:",null,null,0]
["R70","FECHA DE CONSTITUCIÓN -DD/MM/AA-:",null,null,0]
["R70","DOMICILIO LEGAL:",null,null,0]
["R70","LOCALIDAD:",null,null,0]
["R70","PROVINCIA/ESTADO/REGIÓN:",null,null,0]
["R70","PAÍS:",null,null,0]
["R70","CARÁCTER EN LA QUE INTERVIENE -en calidad de socio, asociado, administrador, etc.-:",null,null,0]
["R70","NOMBRE DE LA PERSONA JURÍDICA:",null,null,0]
["R70","TIPO DE PERSONA JCA. -sociedad; fundación, asociación civil, etc.-:",null,null,0]
["R70","CARÁCTER EN LA QUE INTERVIENE -en calidad de socio, asociado, administrador, etc.-:",null,null,0]
["R70","CUIT -sin punto ni barras-:",null,null,0]
["R70","FECHA DE CONSTITUCIÓN -DD/MM/AA-:",null,null,0]
["R70","DOMICILIO LEGAL:",null,null,0]
["R70","LOCALIDAD:",null,null,0]
["R70","PROVINCIA/ESTADO/REGIÓN:",null,null,0]
["R70","PAÍS:",null,null,0]
["R70","CARÁCTER EN LA QUE INTERVIENE -en calidad de socio, asociado, administrador, etc.-:",null,null,0]
["R70","NOMBRE DE LA PERSONA JURÍDICA:",null,null,0]
["R70","TIPO DE PERSONA JCA. -sociedad; fundación, asociación civil, etc.-:",null,null,0]
["R70","CARÁCTER EN LA QUE INTERVIENE -en calidad de socio, asociado, administrador, etc.-:",null,null,0]
["R70","CUIT -sin punto ni barras-:",null,null,0]
["R70","FECHA DE CONSTITUCIÓN -DD/MM/AA-:",null,null,0]
["R70","DOMICILIO LEGAL:",null,null,0]
["R70","LOCALIDAD:",null,null,0]
["R70","PROVINCIA/ESTADO/REGIÓN:",null,null,0]
["R70","PAÍS:",null,null,0]
["R70","CARÁCTER EN LA QUE INTERVIENE -en calidad de socio, asociado, administrador, etc.-:",null,null,0]
["R70","NOMBRE DE LA PERSONA JURÍDICA:",null,null,0]
["R70","TIPO DE PERSONA JCA. -sociedad; fundación, asociación civil, etc.-:",null,null,0]
["R70","CARÁCTER EN LA QUE INTERVIENE -en calidad de socio, asociado, administrador, etc.-:",null,null,0]
["R70","CUIT -sin punto ni barras-:",null,null,0]
["R70","FECHA DE CONSTITUCIÓN -DD/MM/AA-:",null,null,0]
["R70","DOMICILIO LEGAL:",null,null,0]
["R70","LOCALIDAD:",null,null,0]
["R70","PROVINCIA/ESTADO/REGIÓN:",null,null,0]
["R70","PAÍS:",null,null,0]
["R70","CARÁCTER EN LA QUE INTERVIENE -en calidad de socio, asociado, administrador, etc.-:",null,null,0]
["DECLARO que los datos consignados son verídicos a la fecha de la suscripción de la presente. A tal efecto cuento con la documental que acredita tal información, poniéndola a disposición de la Secretaría de Registro Público de Comercio del Juzgado Provincial de 1era. Instancia nro. UNO, en lo Civil, Comercial, Laboral y de Minería de Río Gallegos, de ser requerida.",null,null,null,1]
["FECHA:",null,null,null,1]
[null,null,null,null,1]
[null,null,null,null,1]
[null,null,null,null,1]
[null,null,null,null,1]
[null,"FIRMA DE ESCRIBANO, DECLARANTE -frima certificada- O APODERADO -firma certificada-",null,null,1]

{"sheet":"IND7","index":9,"n_rows":140,"n_cols":5,"rows_kept":140,"cut":false,"hidden":false,"merged":[[133,0,133,3],[134,0,134,1],[134,2,134,3],[127,2,127,3],[128,2,128,3],[129,2,129,3],[130,2,130,3],[131,2,131,3],[132,2,132,3],[121,2,121,3],[122,2,122,3],[123,2,123,3],[124,2,124,3],[125,2,125,3],[126,2,126,3],[115,2,115,3],[116,2,116,3],[117,2,117,3],[118,2,118,3],[119,2,119,3],[120,2,120,3],[109,2,109,3],[110,2,110,3],[111,2,111,3],[112,2,112,3],[113,2,113,3],[114,2,114,3],[103,2,103,3],[104,2,104,3],[105,2,105,3],[106,2,106,3],[107,2,107,3],[108,2,108,3],[97,2,97,3],[98,2,98,3],[99,2,99,3],[100,2,100,3],[101,2,101,3],[102,2,102,3],[91,2,91,3],[92,2,92,3],[93,2,93,3],[94,2,94,3],[95,2,95,3],[96,2,96,3],[85,2,85,3],[86,2,86,3],[87,2,87,3],[88,2,88,3],[89,2,89,3],[90,2,90,3],[79,2,79,3],[80,2,80,3],[81,2,81,3],[82,2,82,3],[83,2,83,3],[84,2,84,3],[73,2,73,3],[74,2,74,3],[75,2,75,3],[76,2,76,3],[77,2,77,3],[78,2,78,3],[67,2,67,3],[68,2,68,3],[69,2,69,3],[70,2,70,3],[71,2,71,3],[72,2,72,3],[61,2,61,3],[62,2,62,3],[63,2,63,3],[64,2,64,3],[65,2,65,3],[66,2,66,3],[55,2,55,3],[56,2,56,3],[57,2,57,3],[58,2,58,3],[59,2,59,3],[60,2,60,3],[49,2,49,3],[50,2,50,3],[51,2,51,3],[52,2,52,3],[53,2,53,3],[54,2,54,3],[43,2,43,3],[44,2,44,3],[45,2,45,3],[46,2,46,3],[47,2,47,3],[48,2,48,3],[39,2,39,3],[40,2,40,3],[41,2,41,3],[42,2,42,3],[31,2,31,3],[32,2,32,3],[33,2,33,3],[34,2,34,3],[35,2,35,3],[36,2,36,3],[30,2,30,3],[19,2,19,3],[20,2,20,3],[21,2,21,3],[22,2,22,3],[23,2,23,3],[24,2,24,3],[37,2,37,3],[38,2,38,3],[0,0,0,3],[1,0,1,1],[1,2,1,3],[4,0,4,2],[5,0,5,3],[6,2,6,3],[139,1,139,3],[13,2,13,3],[14,2,14,3],[15,2,15,3],[16,2,16,3],[17,2,17,3],[18,2,18,3],[7,2,7,3],[8,2,8,3],[9,2,9,3],[10,2,10,3],[11,0,11,3],[12,0,12,3],[25,2,25,3],[26,2,26,3],[27,2,27,3],[28,2,28,3],[29,2,29,3]]}
["DECLARACIÓN JURADA RESOLUCIÓN Nro. 70/2011 UIF -ART. 11- DEL SOCIO, ADMINISTRADOR Y/O REP. LEGAL",null,null,null,"F"]
["RAZÓN SOCIAL/ DENOMINACIÓN SOCIEDAD A INCRIBIR/INSCRIPTA RPC-RGL:",null,{"$f":"+'DATOS COMUN'!C3:D3","v":0},null,1]
["EXPTE:",null,{"$f":"+'DATOS COMUN'!C4","v":0},null,1]
[null,null,null,null,1]
["DECLARO QUE TENGO PARTICIPACIÓN EN LA CONSTITUCIÓN O EN LA ADMINISTRACIÓN DE CINCO (5) O MÁS PERSONA/S JURÍDICA/S. INTERVIENE -art. 11, inc. 2 RES. 70/2011 UIF-,",null,null,"ELEGIR",1]
["DATOS DE LA PERSONA HUMANA SOCIA/ADMINISTRADOR/REP. LEGAL DE LA SOCIEDAD A INSCRIBIR",null,null,null,1]
["R70","APELLIDO/S:",null,null,1]
["R70","NOMBRE/S:",null,null,1]
["R70","SOCIO:",null,null,1]
["R70","ADMINISTRADOR / REP. LEGAL(1):"]
["R70","CUIT/CUIL -sin puntos ni barras-:",null,null,1]
["(1) Nombre del cargo que ocupa en la sociedad a inscribir o inscripta en en RPC-RÍO GALLEGOS.",null,null,null,1]
["DATOS DE LAS OTRAS PERSONAS JURÍDICA QUE PARTICIPA EN LA CONST. Y/O ADMINISTRACIÓN",null,null,null,{"$f":"IF(D$5=\"NO\",0,1)","v":1}]
["R70","NOMBRE DE LA PERSONA JURÍDICA:",null,null,{"$f":"IF(C14=0,0,1)","v":0}]
["R70","TIPO DE PERSONA JCA. -sociedad; fundación, asociación civil, etc.-:",null,null,{"$f":"IF(C15=0,0,1)","v":0}]
["R70","CARÁCTER EN LA QUE INTERVIENE -en calidad de socio, asociado, administrador, etc.-:",null,null,0]
["R70","CUIT -sin punto ni barras-:",null,null,0]
["R70","FECHA DE CONSTITUCIÓN -DD/MM/AA-:",null,null,0]
["R70","DOMICILIO LEGAL:",null,null,0]
["R70","LOCALIDAD:",null,null,0]
["R70","PROVINCIA/ESTADO/REGIÓN:",null,null,0]
["R70","PAÍS:",null,null,0]
["R70","CARÁCTER EN LA QUE INTERVIENE -en calidad de socio, asociado, administrador, etc.-:",null,null,0]
["R70","NOMBRE DE LA PERSONA JURÍDICA:",null,null,0]
["R70","TIPO DE PERSONA JCA. -sociedad; fundación, asociación civil, etc.-:",null,null,0]
["R70","CARÁCTER EN LA QUE INTERVIENE -en calidad de socio, asociado, administrador, etc.-:",null,null,0]
["R70","CUIT -sin punto ni barras-:",null,null,0]
["R70","FECHA DE CONSTITUCIÓN -DD/MM/AA-:",null,null,0]
["R70","DOMICILIO LEGAL:",null,null,0]
["R70","LOCALIDAD:",null,null,0]
["R70","PROVINCIA/ESTADO/REGIÓN:",null,null,0]
["R70","PAÍS:",null,null,0]
["R70","CARÁCTER EN LA QUE INTERVIENE -en calidad de socio, asociado, administrador, etc.-:",null,null,0]
["R70","NOMBRE DE LA PERSONA JURÍDICA:",null,null,0]
["R70","TIPO DE PERSONA JCA. -sociedad; fundación, asociación civil, etc.-:",null,null,0]
["R70","CARÁCTER EN LA QUE INTERVIENE -en calidad de socio, asociado, administrador, etc.-:",null,null,0]
["R70","CUIT -sin punto ni barras-:",null,null,0]
["R70","FECHA DE CONSTITUCIÓN -DD/MM/AA-:",null,null,0]
["R70","DOMICILIO LEGAL:",null,null,0]
["R70","LOCALIDAD:",null,null,0]
["R70","PROVINCIA/ESTADO/REGIÓN:",null,null,0]
["R70","PAÍS:",null,null,0]
["R70","CARÁCTER EN LA QUE INTERVIENE -en calidad de socio, asociado, administrador, etc.-:",null,null,0]
["R70","NOMBRE DE LA PERSONA JURÍDICA:",null,null,0]
["R70","TIPO DE PERSONA JCA. -sociedad; fundación, asociación civil, etc.-:",null,null,0]
["R70","CARÁCTER EN LA QUE INTERVIENE -en calidad de socio, asociado, administrador, etc.-:",null,null,0]
["R70","CUIT -sin punto ni barras-:",null,null,0]
["R70","FECHA DE CONSTITUCIÓN -DD/MM/AA-:",null,null,0]
["R70","DOMICILIO LEGAL:",null,null,0]
["R70","LOCALIDAD:",null,null,0]
["R70","PROVINCIA/ESTADO/REGIÓN:",null,null,0]
["R70","PAÍS:",null,null,0]
["R70","CARÁCTER EN LA QUE INTERVIENE -en calidad de socio, asociado, administrador, etc.-:",null,null,0]
["R70","NOMBRE DE LA PERSONA JURÍDICA:",null,null,0]
["R70","TIPO DE PERSONA JCA. -sociedad; fundación, asociación civil, etc.-:",null,null,0]
["R70","CARÁCTER EN LA QUE INTERVIENE -en calidad de socio, asociado, administrador, etc.-:",null,null,0]
["R70","CUIT -sin punto ni barras-:",null,null,0]
["R70","FECHA DE CONSTITUCIÓN -DD/MM/AA-:",null,null,0]
["R70","DOMICILIO LEGAL:",null,null,0]
["R70","LOCALIDAD:",null,null,0]
["R70","PROVINCIA/ESTADO/REGIÓN:",null,null,0]
["R70","PAÍS:",null,null,0]
["R70","CARÁCTER EN LA QUE INTERVIENE -en calidad de socio, asociado, administrador, etc.-:",null,null,0]
["R70","NOMBRE DE LA PERSONA JURÍDICA:",null,null,0]
["R70","TIPO DE PERSONA JCA. -sociedad; fundación, asociación civil, etc.-:",null,null,0]
["R70","CARÁCTER EN LA QUE INTERVIENE -en calidad de socio, asociado, administrador, etc.-:",null,null,0]
["R70","CUIT -sin punto ni barras-:",null,null,0]
["R70","FECHA DE CONSTITUCIÓN -DD/MM/AA-:",null,null,0]
["R70","DOMICILIO LEGAL:",null,null,0]
["R70","LOCALIDAD:",null,null,0]
["R70","PROVINCIA/ESTADO/REGIÓN:",null,null,0]
["R70","PAÍS:",null,null,0]
["R70","CARÁCTER EN LA QUE INTERVIENE -en calidad de socio, asociado, administrador, etc.-:",null,null,0]
["R70","NOMBRE DE LA PERSONA JURÍDICA:",null,null,0]
["R70","TIPO DE PERSONA JCA. -sociedad; fundación, asociación civil, etc.-:",null,null,0]
["R70","CARÁCTER EN LA QUE INTERVIENE -en calidad de socio, asociado, administrador, etc.-:",null,null,0]
["R70","CUIT -sin punto ni barras-:",null,null,0]
["R70","FECHA DE CONSTITUCIÓN -DD/MM/AA-:",null,null,0]
["R70","DOMICILIO LEGAL:",null,null,{"$f":"IF(C79=0,0,1)","v":0}]
["R70","LOCALIDAD:",null,null,0]
["R70","PROVINCIA/ESTADO/REGIÓN:",null,null,0]
["R70","PAÍS:",null,null,0]
["R70","CARÁCTER EN LA QUE INTERVIENE -en calidad de socio, asociado, administrador, etc.-:",null,null,0]
["R70","NOMBRE DE LA PERSONA JURÍDICA:",null,null,0]
["R70","TIPO DE PERSONA JCA. -sociedad; fundación, asociación civil, etc.-:",null,null,0]
["R70","CARÁCTER EN LA QUE INTERVIENE -en calidad de socio, asociado, administrador, etc.-:",null,null,0]
["R70","CUIT -sin punto ni barras-:",null,null,0]
["R70","FECHA DE CONSTITUCIÓN -DD/MM/AA-:",null,null,0]
["R70","DOMICILIO LEGAL:",null,null,0]
["R70","LOCALIDAD:",null,null,0]
["R70","PROVINCIA/ESTADO/REGIÓN:",null,null,0]
["R70","PAÍS:",null,null,0]
["R70","CARÁCTER EN LA QUE INTERVIENE -en calidad de socio, asociado, administrador, etc.-:",null,null,0]
["R70","NOMBRE DE LA PERSONA JURÍDICA:",null,null,0]
["R70","TIPO DE PERSONA JCA. -sociedad; fundación, asociación civil, etc.-:",null,null,0]
["R70","CARÁCTER EN LA QUE INTERVIENE -en calidad de socio, asociado, administrador, etc.-:",null,null,0]
["R70","CUIT -sin punto ni barras-:",null,null,0]
["R70","FECHA DE CONSTITUCIÓN -DD/MM/AA-:",null,null,0]
["R70","DOMICILIO LEGAL:",null,null,0]
["R70","LOCALIDAD:",null,null,0]
["R70","PROVINCIA/ESTADO/REGIÓN:",null,null,0]
["R70","PAÍS:",null,null,0]
["R70","CARÁCTER EN LA QUE INTERVIENE -en calidad de socio, asociado, administrador, etc.-:",null,null,0]
["R70","NOMBRE DE LA PERSONA JURÍDICA:",null,null,0]
["R70","TIPO DE PERSONA JCA. -sociedad; fundación, asociación civil, etc.-:",null,null,0]
["R70","CARÁCTER EN LA QUE INTERVIENE -en calidad de socio, asociado, administrador, etc.-:",null,null,0]
["R70","CUIT -sin punto ni barras-:",null,null,0]
["R70","FECHA DE CONSTITUCIÓN -DD/MM/AA-:",null,null,0]
["R70","DOMICILIO LEGAL:",null,null,0]
["R70","LOCALIDAD:",null,null,0]
["R70","PROVINCIA/ESTADO/REGIÓN:",null,null,0]
["R70","PAÍS:",null,null,0]
["R70","CARÁCTER EN LA QUE INTERVIENE -en calidad de socio, asociado, administrador, etc.-:",null,null,0]
["R70","NOMBRE DE LA PERSONA JURÍDICA:",null,null,0]
["R70","TIPO DE PERSONA JCA. -sociedad; fundación, asociación civil, etc.-:",null,null,0]
["R70","CARÁCTER EN LA QUE INTERVIENE -en calidad de socio, asociado, administrador, etc.-:",null,null,0]
["R70","CUIT -sin punto ni barras-:",null,null,0]
["R70","FECHA DE CONSTITUCIÓN -DD/MM/AA-:",null,null,0]
["R70","DOMICILIO LEGAL:",null,null,0]
["R70","LOCALIDAD:",null,null,0]
["R70","PROVINCIA/ESTADO/REGIÓN:",null,null,0]
["R70","PAÍS:",null,null,0]
["R70","CARÁCTER EN LA QUE INTERVIENE -en calidad de socio, asociado, administrador, etc.-:",null,null,0]
["R70","NOMBRE DE LA PERSONA JURÍDICA:",null,null,0]
["R70","TIPO DE PERSONA JCA. -sociedad; fundación, asociación civil, etc.-:",null,null,0]
["R70","CARÁCTER EN LA QUE INTERVIENE -en calidad de socio, asociado, administrador, etc.-:",null,null,0]
["R70","CUIT -sin punto ni barras-:",null,null,0]
["R70","FECHA DE CONSTITUCIÓN -DD/MM/AA-:",null,null,0]
["R70","DOMICILIO LEGAL:",null,null,0]
["R70","LOCALIDAD:",null,null,0]
["R70","PROVINCIA/ESTADO/REGIÓN:",null,null,0]
["R70","PAÍS:",null,null,0]
["R70","CARÁCTER EN LA QUE INTERVIENE -en calidad de socio, asociado, administrador, etc.-:",null,null,0]
["DECLARO que los datos consignados son verídicos a la fecha de la suscripción de la presente. A tal efecto cuento con la documental que acredita tal información, poniéndola a disposición de la Secretaría de Registro Público de Comercio del Juzgado Provincial de 1era. Instancia nro. UNO, en lo Civil, Comercial, Laboral y de Minería de Río Gallegos, de ser requerida.",null,null,null,1]
["FECHA:",null,null,null,1]
[null,null,null,null,1]
[null,null,null,null,1]
[null,null,null,null,1]
[null,null,null,null,1]
[null,"FIRMA DE ESCRIBANO, DECLARANTE -frima certificada- O APODERADO -firma certificada-",null,null,1]

{"sheet":"IND8","index":10,"n_rows":140,"n_cols":5,"rows_kept":140,"cut":false,"hidden":false,"merged":[[133,0,133,3],[134,0,134,1],[134,2,134,3],[127,2,127,3],[128,2,128,3],[129,2,129,3],[130,2,130,3],[131,2,131,3],[132,2,132,3],[121,2,121,3],[122,2,122,3],[123,2,123,3],[124,2,124,3],[125,2,125,3],[126,2,126,3],[115,2,115,3],[116,2,116,3],[117,2,117,3],[118,2,118,3],[119,2,119,3],[120,2,120,3],[109,2,109,3],[110,2,110,3],[111,2,111,3],[112,2,112,3],[113,2,113,3],[114,2,114,3],[103,2,103,3],[104,2,104,3],[105,2,105,3],[106,2,106,3],[107,2,107,3],[108,2,108,3],[97,2,97,3],[98,2,98,3],[99,2,99,3],[100,2,100,3],[101,2,101,3],[102,2,102,3],[91,2,91,3],[92,2,92,3],[93,2,93,3],[94,2,94,3],[95,2,95,3],[96,2,96,3],[85,2,85,3],[86,2,86,3],[87,2,87,3],[88,2,88,3],[89,2,89,3],[90,2,90,3],[79,2,79,3],[80,2,80,3],[81,2,81,3],[82,2,82,3],[83,2,83,3],[84,2,84,3],[73,2,73,3],[74,2,74,3],[75,2,75,3],[76,2,76,3],[77,2,77,3],[78,2,78,3],[67,2,67,3],[68,2,68,3],[69,2,69,3],[70,2,70,3],[71,2,71,3],[72,2,72,3],[61,2,61,3],[62,2,62,3],[63,2,63,3],[64,2,64,3],[65,2,65,3],[66,2,66,3],[55,2,55,3],[56,2,56,3],[57,2,57,3],[58,2,58,3],[59,2,59,3],[60,2,60,3],[49,2,49,3],[50,2,50,3],[51,2,51,3],[52,2,52,3],[53,2,53,3],[54,2,54,3],[43,2,43,3],[44,2,44,3],[45,2,45,3],[46,2,46,3],[47,2,47,3],[48,2,48,3],[39,2,39,3],[40,2,40,3],[41,2,41,3],[42,2,42,3],[31,2,31,3],[32,2,32,3],[33,2,33,3],[34,2,34,3],[35,2,35,3],[36,2,36,3],[30,2,30,3],[19,2,19,3],[20,2,20,3],[21,2,21,3],[22,2,22,3],[23,2,23,3],[24,2,24,3],[37,2,37,3],[38,2,38,3],[0,0,0,3],[1,0,1,1],[1,2,1,3],[4,0,4,2],[5,0,5,3],[6,2,6,3],[139,1,139,3],[13,2,13,3],[14,2,14,3],[15,2,15,3],[16,2,16,3],[17,2,17,3],[18,2,18,3],[7,2,7,3],[8,2,8,3],[9,2,9,3],[10,2,10,3],[11,0,11,3],[12,0,12,3],[25,2,25,3],[26,2,26,3],[27,2,27,3],[28,2,28,3],[29,2,29,3]]}
["DECLARACIÓN JURADA RESOLUCIÓN Nro. 70/2011 UIF -ART. 11- DEL SOCIO, ADMINISTRADOR Y/O REP. LEGAL",null,null,null,"F"]
["RAZÓN SOCIAL/ DENOMINACIÓN SOCIEDAD A INCRIBIR/INSCRIPTA RPC-RGL:",null,{"$f":"+'DATOS COMUN'!C3:D3","v":0},null,1]
["EXPTE:",null,{"$f":"+'DATOS COMUN'!C4","v":0},null,1]
[null,null,null,null,1]
["DECLARO QUE TENGO PARTICIPACIÓN EN LA CONSTITUCIÓN O EN LA ADMINISTRACIÓN DE CINCO (5) O MÁS PERSONA/S JURÍDICA/S. INTERVIENE -art. 11, inc. 2 RES. 70/2011 UIF-,",null,null,"ELEGIR",1]
["DATOS DE LA PERSONA HUMANA SOCIA/ADMINISTRADOR/REP. LEGAL DE LA SOCIEDAD A INSCRIBIR",null,null,null,1]
["R70","APELLIDO/S:",null,null,1]
["R70","NOMBRE/S:",null,null,1]
["R70","SOCIO:",null,null,1]
["R70","ADMINISTRADOR / REP. LEGAL(1):"]
["R70","CUIT/CUIL -sin puntos ni barras-:",null,null,1]
["(1) Nombre del cargo que ocupa en la sociedad a inscribir o inscripta en en RPC-RÍO GALLEGOS.",null,null,null,1]
["DATOS DE LAS OTRAS PERSONAS JURÍDICA QUE PARTICIPA EN LA CONST. Y/O ADMINISTRACIÓN",null,null,null,{"$f":"IF(D$5=\"NO\",0,1)","v":1}]
["R70","NOMBRE DE LA PERSONA JURÍDICA:",null,null,{"$f":"IF(C14=0,0,1)","v":0}]
["R70","TIPO DE PERSONA JCA. -sociedad; fundación, asociación civil, etc.-:",null,null,{"$f":"IF(C15=0,0,1)","v":0}]
["R70","CARÁCTER EN LA QUE INTERVIENE -en calidad de socio, asociado, administrador, etc.-:",null,null,0]
["R70","CUIT -sin punto ni barras-:",null,null,0]
["R70","FECHA DE CONSTITUCIÓN -DD/MM/AA-:",null,null,0]
["R70","DOMICILIO LEGAL:",null,null,0]
["R70","LOCALIDAD:",null,null,0]
["R70","PROVINCIA/ESTADO/REGIÓN:",null,null,0]
["R70","PAÍS:",null,null,0]
["R70","CARÁCTER EN LA QUE INTERVIENE -en calidad de socio, asociado, administrador, etc.-:",null,null,0]
["R70","NOMBRE DE LA PERSONA JURÍDICA:",null,null,0]
["R70","TIPO DE PERSONA JCA. -sociedad; fundación, asociación civil, etc.-:",null,null,0]
["R70","CARÁCTER EN LA QUE INTERVIENE -en calidad de socio, asociado, administrador, etc.-:",null,null,0]
["R70","CUIT -sin punto ni barras-:",null,null,0]
["R70","FECHA DE CONSTITUCIÓN -DD/MM/AA-:",null,null,0]
["R70","DOMICILIO LEGAL:",null,null,0]
["R70","LOCALIDAD:",null,null,0]
["R70","PROVINCIA/ESTADO/REGIÓN:",null,null,0]
["R70","PAÍS:",null,null,0]
["R70","CARÁCTER EN LA QUE INTERVIENE -en calidad de socio, asociado, administrador, etc.-:",null,null,0]
["R70","NOMBRE DE LA PERSONA JURÍDICA:",null,null,0]
["R70","TIPO DE PERSONA JCA. -sociedad; fundación, asociación civil, etc.-:",null,null,0]
["R70","CARÁCTER EN LA QUE INTERVIENE -en calidad de socio, asociado, administrador, etc.-:",null,null,0]
["R70","CUIT -sin punto ni barras-:",null,null,0]
["R70","FECHA DE CONSTITUCIÓN -DD/MM/AA-:",null,null,0]
["R70","DOMICILIO LEGAL:",null,null,0]
["R70","LOCALIDAD:",null,null,0]
["R70","PROVINCIA/ESTADO/REGIÓN:",null,null,0]
["R70","PAÍS:",null,null,0]
["R70","CARÁCTER EN LA QUE INTERVIENE -en calidad de socio, asociado, administrador, etc.-:",null,null,0]
["R70","NOMBRE DE LA PERSONA JURÍDICA:",null,null,0]
["R70","TIPO DE PERSONA JCA. -sociedad; fundación, asociación civil, etc.-:",null,null,0]
["R70","CARÁCTER EN LA QUE INTERVIENE -en calidad de socio, asociado, administrador, etc.-:",null,null,0]
["R70","CUIT -sin punto ni barras-:",null,null,0]
["R70","FECHA DE CONSTITUCIÓN -DD/MM/AA-:",null,null,0]
["R70","DOMICILIO LEGAL:",null,null,0]
["R70","LOCALIDAD:",null,null,0]
["R70","PROVINCIA/ESTADO/REGIÓN:",null,null,0]
["R70","PAÍS:",null,null,0]
["R70","CARÁCTER EN LA QUE INTERVIENE -en calidad de socio, asociado, administrador, etc.-:",null,null,0]
["R70","NOMBRE DE LA PERSONA JURÍDICA:",null,null,0]
["R70","TIPO DE PERSONA JCA. -sociedad; fundación, asociación civil, etc.-:",null,null,0]
["R70","CARÁCTER EN LA QUE INTERVIENE -en calidad de socio, asociado, administrador, etc.-:",null,null,0]
["R70","CUIT -sin punto ni barras-:",null,null,0]
["R70","FECHA DE CONSTITUCIÓN -DD/MM/AA-:",null,null,0]
["R70","DOMICILIO LEGAL:",null,null,0]
["R70","LOCALIDAD:",null,null,0]
["R70","PROVINCIA/ESTADO/REGIÓN:",null,null,0]
["R70","PAÍS:",null,null,0]
["R70","CARÁCTER EN LA QUE INTERVIENE -en calidad de socio, asociado, administrador, etc.-:",null,null,0]
["R70","NOMBRE DE LA PERSONA JURÍDICA:",null,null,0]
["R70","TIPO DE PERSONA JCA. -sociedad; fundación, asociación civil, etc.-:",null,null,0]
["R70","CARÁCTER EN LA QUE INTERVIENE -en calidad de socio, asociado, administrador, etc.-:",null,null,0]
["R70","CUIT -sin punto ni barras-:",null,null,0]
["R70","FECHA DE CONSTITUCIÓN -DD/MM/AA-:",null,null,0]
["R70","DOMICILIO LEGAL:",null,null,0]
["R70","LOCALIDAD:",null,null,0]
["R70","PROVINCIA/ESTADO/REGIÓN:",null,null,0]
["R70","PAÍS:",null,null,0]
["R70","CARÁCTER EN LA QUE INTERVIENE -en calidad de socio, asociado, administrador, etc.-:",null,null,0]
["R70","NOMBRE DE LA PERSONA JURÍDICA:",null,null,0]
["R70","TIPO DE PERSONA JCA. -sociedad; fundación, asociación civil, etc.-:",null,null,0]
["R70","CARÁCTER EN LA QUE INTERVIENE -en calidad de socio, asociado, administrador, etc.-:",null,null,0]
["R70","CUIT -sin punto ni barras-:",null,null,0]
["R70","FECHA DE CONSTITUCIÓN -DD/MM/AA-:",null,null,0]
["R70","DOMICILIO LEGAL:",null,null,{"$f":"IF(C79=0,0,1)","v":0}]
["R70","LOCALIDAD:",null,null,0]
["R70","PROVINCIA/ESTADO/REGIÓN:",null,null,0]
["R70","PAÍS:",null,null,0]
["R70","CARÁCTER EN LA QUE INTERVIENE -en calidad de socio, asociado, administrador, etc.-:",null,null,0]
["R70","NOMBRE DE LA PERSONA JURÍDICA:",null,null,0]
["R70","TIPO DE PERSONA JCA. -sociedad; fundación, asociación civil, etc.-:",null,null,0]
["R70","CARÁCTER EN LA QUE INTERVIENE -en calidad de socio, asociado, administrador, etc.-:",null,null,0]
["R70","CUIT -sin punto ni barras-:",null,null,0]
["R70","FECHA DE CONSTITUCIÓN -DD/MM/AA-:",null,null,0]
["R70","DOMICILIO LEGAL:",null,null,0]
["R70","LOCALIDAD:",null,null,0]
["R70","PROVINCIA/ESTADO/REGIÓN:",null,null,0]
["R70","PAÍS:",null,null,0]
["R70","CARÁCTER EN LA QUE INTERVIENE -en calidad de socio, asociado, administrador, etc.-:",null,null,0]
["R70","NOMBRE DE LA PERSONA JURÍDICA:",null,null,0]
["R70","TIPO DE PERSONA JCA. -sociedad; fundación, asociación civil, etc.-:",null,null,0]
["R70","CARÁCTER EN LA QUE INTERVIENE -en calidad de socio, asociado, administrador, etc.-:",null,null,0]
["R70","CUIT -sin punto ni barras-:",null,null,0]
["R70","FECHA DE CONSTITUCIÓN -DD/MM/AA-:",null,null,0]
["R70","DOMICILIO LEGAL:",null,null,0]
["R70","LOCALIDAD:",null,null,0]
["R70","PROVINCIA/ESTADO/REGIÓN:",null,null,0]
["R70","PAÍS:",null,null,0]
["R70","CARÁCTER EN LA QUE INTERVIENE -en calidad de socio, asociado, administrador, etc.-:",null,null,0]
["R70","NOMBRE DE LA PERSONA JURÍDICA:",null,null,0]
["R70","TIPO DE PERSONA JCA. -sociedad; fundación, asociación civil, etc.-:",null,null,0]
["R70","CARÁCTER EN LA QUE INTERVIENE -en calidad de socio, asociado, administrador, etc.-:",null,null,0]
["R70","CUIT -sin punto ni barras-:",null,null,0]
["R70","FECHA DE CONSTITUCIÓN -DD/MM/AA-:",null,null,0]
["R70","DOMICILIO LEGAL:",null,null,0]
["R70","LOCALIDAD:",null,null,0]
["R70","PROVINCIA/ESTADO/REGIÓN:",null,null,0]
["R70","PAÍS:",null,null,0]
["R70","CARÁCTER EN LA QUE INTERVIENE -en calidad de socio, asociado, administrador, etc.-:",null,null,0]
["R70","NOMBRE DE LA PERSONA JURÍDICA:",null,null,0]
["R70","TIPO DE PERSONA JCA. -sociedad; fundación, asociación civil, etc.-:",null,null,0]
["R70","CARÁCTER EN LA QUE INTERVIENE -en calidad de socio, asociado, administrador, etc.-:",null,null,0]
["R70","CUIT -sin punto ni barras-:",null,null,0]
["R70","FECHA DE CONSTITUCIÓN -DD/MM/AA-:",null,null,0]
["R70","DOMICILIO LEGAL:",null,null,0]
["R70","LOCALIDAD:",null,null,0]
["R70","PROVINCIA/ESTADO/REGIÓN:",null,null,0]
["R70","PAÍS:",null,null,0]
["R70","CARÁCTER EN LA QUE INTERVIENE -en calidad de socio, asociado, administrador, etc.-:",null,null,0]
["R70","NOMBRE DE LA PERSONA JURÍDICA:",null,null,0]
["R70","TIPO DE PERSONA JCA. -sociedad; fundación, asociación civil, etc.-:",null,null,0]
["R70","CARÁCTER EN LA QUE INTERVIENE -en calidad de socio, asociado, administrador, etc.-:",null,null,0]
["R70","CUIT -sin punto ni barras-:",null,null,0]
["R70","FECHA DE CONSTITUCIÓN -DD/MM/AA-:",null,null,0]
["R70","DOMICILIO LEGAL:",null,null,0]
["R70","LOCALIDAD:",null,null,0]
["R70","PROVINCIA/ESTADO/REGIÓN:",null,null,0]
["R70","PAÍS:",null,null,0]
["R70","CARÁCTER EN LA QUE INTERVIENE -en calidad de socio, asociado, administrador, etc.-:",null,null,0]
["DECLARO que los datos consignados son verídicos a la fecha de la suscripción de la presente. A tal efecto cuento con la documental que acredita tal información, poniéndola a disposición de la Secretaría de Registro Público de Comercio del Juzgado Provincial de 1era. Instancia nro. UNO, en lo Civil, Comercial, Laboral y de Minería de Río Gallegos, de ser requerida.",null,null,null,1]
["FECHA:",null,null,null,1]
[null,null,null,null,1]
[null,null,null,null,1]
[null,null,null,null,1]
[null,null,null,null,1]
[null,"FIRMA DE ESCRIBANO, DECLARANTE -frima certificada- O APODERADO -firma certificada-",null,null,1]

{"sheet":"BASE","index":11,"n_rows":1146,"n_cols":20,"rows_kept":1146,"cut":false,"hidden":true,"merged":[[4,13,4,17],[3,0,5,0],[3,1,5,1],[3,2,3,7],[3,8,3,12],[4,2,5,2],[4,3,5,3],[4,4,4,5],[4,6,5,6],[4,7,5,7],[4,9,5,9],[4,10,5,10],[4,11,5,11],[1,7,1,8],[2,4,2,5],[2,7,2,8],[4,8,5,8],[4,12,5,12]]}
["BASE DE DATOS"]
["EXPTE. NRO. DONDE SE DENUNCIÓ DATOS:",null,null,null,null,null,{"$f":"+'DATOS COMUN'!C4","v":0}]
[null,null,null,null,"NRO. DE LEGAJO",null,null,{"$f":"+IF(G3>0,\".\",\"ERROR llene NRO. LEGAJO\")","v":"ERROR llene NRO. LEGAJO"}]
["COD. Int.","Nro. FORM./LIBRO","DATOS DENUNCIADOS",null,null,null,null,null,"REGISTRADO/GLOSADO",null,null,null,null,null,null,null,null,null,"FORMULA"]
[null,null,"INSCRIPTO RPC","FECHA ALTA/MO-DIFICACIÓN","PERSONAS VINCULADAS",null,"CONCEPTO","DATOS","FECHA","NRO. DE LEGAJO","EXPTE./OTROS","FS.","NOTA/ OTROS","OBSERVACION",null,null,null,null,{"$f":"IF(AND(B5=B4,C5=C4,E5=E4,F5=F4,G5=G4,H5=H4),\"IGUAL\",\"\")","v":""}]
[null,null,null,null,"APELLIDOS / NOMB. P.J.","NOMBRES DE PILA PER. FISICAS",null,null,null,null,null,null,null,"FECHA","DETALLE","EXPTE./ OTRO/s","FS.","NOTA/ OTROS",{"$f":"IF(AND(B6=B5,C6=C5,E6=E5,F6=F5,G6=G5,H6=H5),\"IGUAL\",\"\")","v":""},{"$f":"IF(H6=\"<<<<>>>>NO COMPLETADO\",1,0)","v":0}]
[{"$f":"+A6+1","v":1},"R70-11/4",{"$f":"+'DATOS COMUN'!$C$3","v":0},null,{"$f":"+SOCIEDAD!C7","v":0},{"$f":"+SOCIEDAD!C7","v":0},"RELACIÓN:","COMPARTEN DOMICILIO",null,null,null,null,null,null,null,null,null,null,{"$f":"IF(AND(B7=B6,C7=C6,E7=E6,F7=F6,G7=G6,H7=H6),\"IGUAL\",\"\")","v":""},{"$f":"IF(H7=\"<<<<>>>>NO COMPLETADO\",1,0)","v":0}]
[{"$f":"+A7+1","v":2},"R70-11/4",{"$f":"+'DATOS COMUN'!$C$3","v":0},null,{"$f":"+SOCIEDAD!C7","v":0},{"$f":"+SOCIEDAD!C7","v":0},"TIPO DE PER. JCA.:",{"$f":"+SOCIEDAD!C8","v":0},null,null,null,null,null,null,null,null,null,null,{"$f":"IF(AND(B8=B7,C8=C7,E8=E7,F8=F7,G8=G7,H8=H7),\"IGUAL\",\"\")","v":""},{"$f":"IF(H8=\"<<<<>>>>NO COMPLETADO\",1,0)","v":0}]
[3,"R70-11/4",{"$f":"+'DATOS COMUN'!$C$3","v":0},null,{"$f":"+SOCIEDAD!C7","v":0},{"$f":"+SOCIEDAD!C7","v":0},"CUIT -sin punto ni barras-:",{"$f":"+SOCIEDAD!C9","v":0},null,null,null,null,null,null,null,null,null,null,{"$f":"IF(AND(B9=B8,C9=C8,E9=E8,F9=F8,G9=G8,H9=H8),\"IGUAL\",\"\")","v":""},0]
[4,"R70-11/4",{"$f":"+'DATOS COMUN'!$C$3","v":0},null,{"$f":"+SOCIEDAD!C7","v":0},{"$f":"+SOCIEDAD!C7","v":0},"FECHA DE CONSTITUCIÓN -DD/MM/AA-:",{"$f":"+SOCIEDAD!C10","v":"00:00:00"},null,null,null,null,null,null,null,null,null,null,{"$f":"IF(AND(B10=B9,C10=C9,E10=E9,F10=F9,G10=G9,H10=H9),\"IGUAL\",\"\")","v":""},{"$f":"IF(H10=\"<<<<>>>>NO COMPLETADO\",1,0)","v":0}]
[{"$f":"+A10+1","v":5},"R70-11/4",{"$f":"+'DATOS COMUN'!$C$3","v":0},null,{"$f":"+SOCIEDAD!C11","v":0},{"$f":"+SOCIEDAD!C11","v":0},"RELACIÓN:","COMPARTEN DOMICILIO",null,null,null,null,null,null,null,null,null,null,{"$f":"IF(AND(B11=B10,C11=C10,E11=E10,F11=F10,G11=G10,H11=H10),\"IGUAL\",\"\")","v":""},0]
[6,"R70-11/4",{"$f":"+'DATOS COMUN'!$C$3","v":0},null,{"$f":"+SOCIEDAD!C11","v":0},{"$f":"+SOCIEDAD!C11","v":0},"TIPO DE PER. JCA.:",{"$f":"+SOCIEDAD!C12","v":0},null,null,null,null,null,null,null,null,null,null,"",0]
[7,"R70-11/4",{"$f":"+'DATOS COMUN'!$C$3","v":0},null,{"$f":"+SOCIEDAD!C11","v":0},{"$f":"+SOCIEDAD!C11","v":0},"CUIT -sin punto ni barras-:",{"$f":"+SOCIEDAD!C13","v":0},null,null,null,null,null,null,null,null,null,null,"",0]
[8,"R70-11/4",{"$f":"+'DATOS COMUN'!$C$3","v":0},null,{"$f":"+SOCIEDAD!C11","v":0},{"$f":"+SOCIEDAD!C11","v":0},"FECHA DE CONSTITUCIÓN -DD/MM/AA-:",{"$f":"+SOCIEDAD!C14","v":"00:00:00"},null,null,null,null,null,null,null,null,null,null,"",0]
[9,"R70-11/4",{"$f":"+'DATOS COMUN'!$C$3","v":0},null,{"$f":"+SOCIEDAD!C15","v":0},{"$f":"+SOCIEDAD!C15","v":0},"RELACIÓN:","COMPARTEN DOMICILIO",null,null,null,null,null,null,null,null,null,null,"",0]
[10,"R70-11/4",{"$f":"+'DATOS COMUN'!$C$3","v":0},null,{"$f":"+SOCIEDAD!C15","v":0},{"$f":"+SOCIEDAD!C15","v":0},"TIPO DE PER. JCA.:",{"$f":"+SOCIEDAD!C16","v":0},null,null,null,null,null,null,null,null,null,null,"",0]
[11,"R70-11/4",{"$f":"+'DATOS COMUN'!$C$3","v":0},null,{"$f":"+SOCIEDAD!C15","v":0},{"$f":"+SOCIEDAD!C15","v":0},"CUIT -sin punto ni barras-:",{"$f":"+SOCIEDAD!C17","v":0},null,null,null,null,null,null,null,null,null,null,"",0]
[12,"R70-11/4",{"$f":"+'DATOS COMUN'!$C$3","v":0},null,{"$f":"+SOCIEDAD!C15","v":0},{"$f":"+SOCIEDAD!C15","v":0},"FECHA DE CONSTITUCIÓN -DD/MM/AA-:",{"$f":"+SOCIEDAD!C18","v":"00:00:00"},null,null,null,null,null,null,null,null,null,null,"",0]
[13,"R70-11/4",{"$f":"+'DATOS COMUN'!$C$3","v":0},null,{"$f":"+SOCIEDAD!C19","v":0},{"$f":"+SOCIEDAD!C19","v":0},"RELACIÓN:","COMPARTEN DOMICILIO",null,null,null,null,null,null,null,null,null,null,"",0]
[14,"R70-11/4",{"$f":"+'DATOS COMUN'!$C$3","v":0},null,{"$f":"+SOCIEDAD!C19","v":0},{"$f":"+SOCIEDAD!C19","v":0},"TIPO DE PER. JCA.:",{"$f":"+SOCIEDAD!C20","v":0},null,null,null,null,null,null,null,null,null,null,"",0]
[15,"R70-11/4",{"$f":"+'DATOS COMUN'!$C$3","v":0},null,{"$f":"+SOCIEDAD!C19","v":0},{"$f":"+SOCIEDAD!C19","v":0},"CUIT -sin punto ni barras-:",{"$f":"+SOCIEDAD!C21","v":0},null,null,null,null,null,null,null,null,null,null,"",0]
[16,"R70-11/4",{"$f":"+'DATOS COMUN'!$C$3","v":0},null,{"$f":"+SOCIEDAD!C19","v":0},{"$f":"+SOCIEDAD!C19","v":0},"FECHA DE CONSTITUCIÓN -DD/MM/AA-:",{"$f":"+SOCIEDAD!C22","v":"00:00:00"},null,null,null,null,null,null,null,null,null,null,"",0]
[17,"R70-11/4",{"$f":"+'DATOS COMUN'!$C$3","v":0},null,{"$f":"+SOCIEDAD!C23","v":0},{"$f":"+SOCIEDAD!C23","v":0},"RELACIÓN:","COMPARTEN DOMICILIO",null,null,null,null,null,null,null,null,null,null,"",0]
[18,"R70-11/4",{"$f":"+'DATOS COMUN'!$C$3","v":0},null,{"$f":"+SOCIEDAD!C23","v":0},{"$f":"+SOCIEDAD!C23","v":0},"TIPO DE PER. JCA.:",{"$f":"+SOCIEDAD!C24","v":0},null,null,null,null,null,null,null,null,null,null,"",0]
[19,"R70-11/4",{"$f":"+'DATOS COMUN'!$C$3","v":0},null,{"$f":"+SOCIEDAD!C23","v":0},{"$f":"+SOCIEDAD!C23","v":0},"CUIT -sin punto ni barras-:",{"$f":"+SOCIEDAD!C25","v":0},null,null,null,null,null,null,null,null,null,null,"",0]
[20,"R70-11/4",{"$f":"+'DATOS COMUN'!$C$3","v":0},null,{"$f":"+SOCIEDAD!C23","v":0},{"$f":"+SOCIEDAD!C23","v":0},"FECHA DE CONSTITUCIÓN -DD/MM/AA-:",{"$f":"+SOCIEDAD!C26","v":"00:00:00"},null,null,null,null,null,null,null,null,null,null,"",0]
[21,"R70-11/4",{"$f":"+'DATOS COMUN'!$C$3","v":0},null,{"$f":"+SOCIEDAD!C27","v":0},{"$f":"+SOCIEDAD!C27","v":0},"RELACIÓN:","COMPARTEN DOMICILIO",null,null,null,null,null,null,null,null,null,null,"",0]
[22,"R70-11/4",{"$f":"+'DATOS COMUN'!$C$3","v":0},null,{"$f":"+SOCIEDAD!C27","v":0},{"$f":"+SOCIEDAD!C27","v":0},"TIPO DE PER. JCA.:",{"$f":"+SOCIEDAD!C28","v":0},null,null,null,null,null,null,null,null,null,null,"",0]
[23,"R70-11/4",{"$f":"+'DATOS COMUN'!$C$3","v":0},null,{"$f":"+SOCIEDAD!C27","v":0},{"$f":"+SOCIEDAD!C27","v":0},"CUIT -sin punto ni barras-:",{"$f":"+SOCIEDAD!C29","v":0},null,null,null,null,null,null,null,null,null,null,"",0]
[24,"R70-11/4",{"$f":"+'DATOS COMUN'!$C$3","v":0},null,{"$f":"+SOCIEDAD!C27","v":0},{"$f":"+SOCIEDAD!C27","v":0},"FECHA DE CONSTITUCIÓN -DD/MM/AA-:",{"$f":"+SOCIEDAD!C30","v":"00:00:00"},null,null,null,null,null,null,null,null,null,null,"",0]
[25,"R70-11/4",{"$f":"+'DATOS COMUN'!$C$3","v":0},null,{"$f":"+SOCIEDAD!C31","v":0},{"$f":"+SOCIEDAD!C31","v":0},"RELACIÓN:","COMPARTEN DOMICILIO",null,null,null,null,null,null,null,null,null,null,"",0]
[26,"R70-11/4",{"$f":"+'DATOS COMUN'!$C$3","v":0},null,{"$f":"+SOCIEDAD!C31","v":0},{"$f":"+SOCIEDAD!C31","v":0},"TIPO DE PER. JCA.:",{"$f":"+SOCIEDAD!C32","v":0},null,null,null,null,null,null,null,null,null,null,"",0]
[27,"R70-11/4",{"$f":"+'DATOS COMUN'!$C$3","v":0},null,{"$f":"+SOCIEDAD!C31","v":0},{"$f":"+SOCIEDAD!C31","v":0},"CUIT -sin punto ni barras-:",{"$f":"+SOCIEDAD!C33","v":0},null,null,null,null,null,null,null,null,null,null,"",0]
[28,"R70-11/4",{"$f":"+'DATOS COMUN'!$C$3","v":0},null,{"$f":"+SOCIEDAD!C31","v":0},{"$f":"+SOCIEDAD!C31","v":0},"FECHA DE CONSTITUCIÓN -DD/MM/AA-:",{"$f":"+SOCIEDAD!C34","v":"00:00:00"},null,null,null,null,null,null,null,null,null,null,"",0]
[29,"R70-11/4",{"$f":"+'DATOS COMUN'!$C$3","v":0},null,{"$f":"+SOCIEDAD!C35","v":0},{"$f":"+SOCIEDAD!C35","v":0},"RELACIÓN:","COMPARTEN DOMICILIO",null,null,null,null,null,null,null,null,null,null,"",0]
[30,"R70-11/4",{"$f":"+'DATOS COMUN'!$C$3","v":0},null,{"$f":"+SOCIEDAD!C35","v":0},{"$f":"+SOCIEDAD!C35","v":0},"TIPO DE PER. JCA.:",{"$f":"+SOCIEDAD!C36","v":0},null,null,null,null,null,null,null,null,null,null,"",0]
[31,"R70-11/4",{"$f":"+'DATOS COMUN'!$C$3","v":0},null,{"$f":"+SOCIEDAD!C35","v":0},{"$f":"+SOCIEDAD!C35","v":0},"CUIT -sin punto ni barras-:",{"$f":"+SOCIEDAD!C37","v":0},null,null,null,null,null,null,null,null,null,null,"",0]
[32,"R70-11/4",{"$f":"+'DATOS COMUN'!$C$3","v":0},null,{"$f":"+SOCIEDAD!C35","v":0},{"$f":"+SOCIEDAD!C35","v":0},"FECHA DE CONSTITUCIÓN -DD/MM/AA-:",{"$f":"+SOCIEDAD!C38","v":"00:00:00"},null,null,null,null,null,null,null,null,null,null,"",0]
[33,"R70-11/4",{"$f":"+'DATOS COMUN'!$C$3","v":0},null,{"$f":"+SOCIEDAD!C39","v":0},{"$f":"+SOCIEDAD!C39","v":0},"RELACIÓN:","COMPARTEN DOMICILIO",null,null,null,null,null,null,null,null,null,null,"",0]
[34,"R70-11/4",{"$f":"+'DATOS COMUN'!$C$3","v":0},null,{"$f":"+SOCIEDAD!C39","v":0},{"$f":"+SOCIEDAD!C39","v":0},"TIPO DE PER. JCA.:",{"$f":"+SOCIEDAD!C40","v":0},null,null,null,null,null,null,null,null,null,null,"",0]
[35,"R70-11/4",{"$f":"+'DATOS COMUN'!$C$3","v":0},null,{"$f":"+SOCIEDAD!C39","v":0},{"$f":"+SOCIEDAD!C39","v":0},"CUIT -sin punto ni barras-:",{"$f":"+SOCIEDAD!C41","v":0},null,null,null,null,null,null,null,null,null,null,"",0]
[36,"R70-11/4",{"$f":"+'DATOS COMUN'!$C$3","v":0},null,{"$f":"+SOCIEDAD!C39","v":0},{"$f":"+SOCIEDAD!C39","v":0},"FECHA DE CONSTITUCIÓN -DD/MM/AA-:",{"$f":"+SOCIEDAD!C42","v":"00:00:00"},null,null,null,null,null,null,null,null,null,null,"",0]
[37,"R70-11/4",{"$f":"+'DATOS COMUN'!$C$3","v":0},null,{"$f":"+SOCIEDAD!C43","v":0},{"$f":"+SOCIEDAD!C43","v":0},"RELACIÓN:","COMPARTEN DOMICILIO",null,null,null,null,null,null,null,null,null,null,"",0]
[38,"R70-11/4",{"$f":"+'DATOS COMUN'!$C$3","v":0},null,{"$f":"+SOCIEDAD!C43","v":0},{"$f":"+SOCIEDAD!C43","v":0},"TIPO DE PER. JCA.:",{"$f":"+SOCIEDAD!C44","v":0},null,null,null,null,null,null,null,null,null,null,"",0]
[39,"R70-11/4",{"$f":"+'DATOS COMUN'!$C$3","v":0},null,{"$f":"+SOCIEDAD!C43","v":0},{"$f":"+SOCIEDAD!C43","v":0},"CUIT -sin punto ni barras-:",{"$f":"+SOCIEDAD!C45","v":0},null,null,null,null,null,null,null,null,null,null,"",0]
[40,"R70-11/4",{"$f":"+'DATOS COMUN'!$C$3","v":0},null,{"$f":"+SOCIEDAD!C43","v":0},{"$f":"+SOCIEDAD!C43","v":0},"FECHA DE CONSTITUCIÓN -DD/MM/AA-:",{"$f":"+SOCIEDAD!C46","v":"00:00:00"},null,null,null,null,null,null,null,null,null,null,"",0]
[41,"R70-11/4",{"$f":"+'DATOS COMUN'!$C$3","v":0},null,{"$f":"+SOCIEDAD!C47","v":0},{"$f":"+SOCIEDAD!C47","v":0},"RELACIÓN:","COMPARTEN DOMICILIO",null,null,null,null,null,null,null,null,null,null,"",0]
[42,"R70-11/4",{"$f":"+'DATOS COMUN'!$C$3","v":0},null,{"$f":"+SOCIEDAD!C47","v":0},{"$f":"+SOCIEDAD!C47","v":0},"TIPO DE PER. JCA.:",{"$f":"+SOCIEDAD!C48","v":0},null,null,null,null,null,null,null,null,null,null,"",0]
[43,"R70-11/4",{"$f":"+'DATOS COMUN'!$C$3","v":0},null,{"$f":"+SOCIEDAD!C47","v":0},{"$f":"+SOCIEDAD!C47","v":0},"CUIT -sin punto ni barras-:",{"$f":"+SOCIEDAD!C49","v":0},null,null,null,null,null,null,null,null,null,null,"",0]
[44,"R70-11/4",{"$f":"+'DATOS COMUN'!$C$3","v":0},null,{"$f":"+SOCIEDAD!C47","v":0},{"$f":"+SOCIEDAD!C47","v":0},"FECHA DE CONSTITUCIÓN -DD/MM/AA-:",{"$f":"+SOCIEDAD!C50","v":"00:00:00"},null,null,null,null,null,null,null,null,null,null,"",0]
[45,"R70-11/4",{"$f":"+'DATOS COMUN'!$C$3","v":0},null,{"$f":"+SOCIEDAD!C51","v":0},{"$f":"+SOCIEDAD!C51","v":0},"RELACIÓN:","COMPARTEN DOMICILIO",null,null,null,null,null,null,null,null,null,null,"",0]
[46,"R70-11/4",{"$f":"+'DATOS COMUN'!$C$3","v":0},null,{"$f":"+SOCIEDAD!C51","v":0},{"$f":"+SOCIEDAD!C51","v":0},"TIPO DE PER. JCA.:",{"$f":"+SOCIEDAD!C52","v":0},null,null,null,null,null,null,null,null,null,null,"",0]
[47,"R70-11/4",{"$f":"+'DATOS COMUN'!$C$3","v":0},null,{"$f":"+SOCIEDAD!C51","v":0},{"$f":"+SOCIEDAD!C51","v":0},"CUIT -sin punto ni barras-:",{"$f":"+SOCIEDAD!C53","v":0},null,null,null,null,null,null,null,null,null,null,"",0]
[48,"R70-11/4",{"$f":"+'DATOS COMUN'!$C$3","v":0},null,{"$f":"+SOCIEDAD!C51","v":0},{"$f":"+SOCIEDAD!C51","v":0},"FECHA DE CONSTITUCIÓN -DD/MM/AA-:",{"$f":"+SOCIEDAD!C54","v":"00:00:00"},null,null,null,null,null,null,null,null,null,null,"",0]
[49,"R70-11/4",{"$f":"+'DATOS COMUN'!$C$3","v":0},null,{"$f":"+SOCIEDAD!C55","v":0},{"$f":"+SOCIEDAD!C55","v":0},"RELACIÓN:","COMPARTEN DOMICILIO",null,null,null,null,null,null,null,null,null,null,"",0]
[50,"R70-11/4",{"$f":"+'DATOS COMUN'!$C$3","v":0},null,{"$f":"+SOCIEDAD!C55","v":0},{"$f":"+SOCIEDAD!C55","v":0},"TIPO DE PER. JCA.:",{"$f":"+SOCIEDAD!C56","v":0},null,null,null,null,null,null,null,null,null,null,"",0]
[51,"R70-11/4",{"$f":"+'DATOS COMUN'!$C$3","v":0},null,{"$f":"+SOCIEDAD!C55","v":0},{"$f":"+SOCIEDAD!C55","v":0},"CUIT -sin punto ni barras-:",{"$f":"+SOCIEDAD!C57","v":0},null,null,null,null,null,null,null,null,null,null,"",0]
[52,"R70-11/4",{"$f":"+'DATOS COMUN'!$C$3","v":0},null,{"$f":"+SOCIEDAD!C55","v":0},{"$f":"+SOCIEDAD!C55","v":0},"FECHA DE CONSTITUCIÓN -DD/MM/AA-:",{"$f":"+SOCIEDAD!C58","v":"00:00:00"},null,null,null,null,null,null,null,null,null,null,"",0]
[53,"R70-11/4",{"$f":"+'DATOS COMUN'!$C$3","v":0},null,{"$f":"+SOCIEDAD!C59","v":0},{"$f":"+SOCIEDAD!C59","v":0},"RELACIÓN:","COMPARTEN DOMICILIO",null,null,null,null,null,null,null,null,null,null,"",0]
[54,"R70-11/4",{"$f":"+'DATOS COMUN'!$C$3","v":0},null,{"$f":"+SOCIEDAD!C59","v":0},{"$f":"+SOCIEDAD!C59","v":0},"TIPO DE PER. JCA.:",{"$f":"+SOCIEDAD!C60","v":0},null,null,null,null,null,null,null,null,null,null,"",0]
[55,"R70-11/4",{"$f":"+'DATOS COMUN'!$C$3","v":0},null,{"$f":"+SOCIEDAD!C59","v":0},{"$f":"+SOCIEDAD!C59","v":0},"CUIT -sin punto ni barras-:",{"$f":"+SOCIEDAD!C61","v":0},null,null,null,null,null,null,null,null,null,null,"",0]
[56,"R70-11/4",{"$f":"+'DATOS COMUN'!$C$3","v":0},null,{"$f":"+SOCIEDAD!C59","v":0},{"$f":"+SOCIEDAD!C59","v":0},"FECHA DE CONSTITUCIÓN -DD/MM/AA-:",{"$f":"+SOCIEDAD!C62","v":"00:00:00"},null,null,null,null,null,null,null,null,null,null,"",0]
[57,"R70-11/4",{"$f":"+'DATOS COMUN'!$C$3","v":0},null,{"$f":"+SOCIEDAD!C63","v":0},{"$f":"+SOCIEDAD!C63","v":0},"RELACIÓN:","COMPARTEN DOMICILIO",null,null,null,null,null,null,null,null,null,null,"",0]
[58,"R70-11/4",{"$f":"+'DATOS COMUN'!$C$3","v":0},null,{"$f":"+SOCIEDAD!C63","v":0},{"$f":"+SOCIEDAD!C63","v":0},"TIPO DE PER. JCA.:",{"$f":"+SOCIEDAD!C64","v":0},null,null,null,null,null,null,null,null,null,null,"",0]
[59,"R70-11/4",{"$f":"+'DATOS COMUN'!$C$3","v":0},null,{"$f":"+SOCIEDAD!C63","v":0},{"$f":"+SOCIEDAD!C63","v":0},"CUIT -sin punto ni barras-:",{"$f":"+SOCIEDAD!C65","v":0},null,null,null,null,null,null,null,null,null,null,"",0]
[60,"R70-11/4",{"$f":"+'DATOS COMUN'!$C$3","v":0},null,{"$f":"+SOCIEDAD!C63","v":0},{"$f":"+SOCIEDAD!C63","v":0},"FECHA DE CONSTITUCIÓN -DD/MM/AA-:",{"$f":"+SOCIEDAD!C66","v":"00:00:00"},null,null,null,null,null,null,null,null,null,null,"",0]
[1,"R70-11/2",{"$f":"+'DATOS COMUN'!$C$3","v":0},null,{"$f":"+'IND1'!C$7","v":0},{"$f":"+'IND1'!C$8","v":0},"NOMBRE PERSONA JCA. QUE INTEGRA:",{"$f":"+'IND1'!C14","v":0},null,null,null,null,null,null,null,null,null,null,"",0]
[2,"R70-11/2",{"$f":"+'DATOS COMUN'!$C$3","v":0},null,{"$f":"+'IND1'!C$7","v":0},{"$f":"+'IND1'!C$8","v":0},"TIPO DE PERSONA JCA. -sociedad; fundación, asociación civil, etc.-:",{"$f":"+'IND1'!C15","v":0},null,null,null,null,null,null,null,null,null,null,"",0]
[3,"R70-11/2",{"$f":"+'DATOS COMUN'!$C$3","v":0},null,{"$f":"+'IND1'!C$7","v":0},{"$f":"+'IND1'!C$8","v":0},"CARÁCTER EN LA QUE INTERVIENE -en calidad de socio, asociado, administrador, etc.-:",{"$f":"+'IND1'!C16","v":0},null,null,null,null,null,null,null,null,null,null,"",0]
[4,"R70-11/2",{"$f":"+'DATOS COMUN'!$C$3","v":0},null,{"$f":"+'IND1'!C$7","v":0},{"$f":"+'IND1'!C$8","v":0},"CUIT -sin punto ni barras-:",{"$f":"+'IND1'!C17","v":0},null,null,null,null,null,null,null,null,null,null,"",0]
[5,"R70-11/2",{"$f":"+'DATOS COMUN'!$C$3","v":0},null,{"$f":"+'IND1'!C$7","v":0},{"$f":"+'IND1'!C$8","v":0},"FECHA DE CONSTITUCIÓN -DD/MM/AA-:",{"$f":"+'IND1'!C18","v":"00:00:00"},null,null,null,null,null,null,null,null,null,null,{"$f":"IF(AND(B71=B70,C71=C70,E71=E70,F71=F70,G71=G70,H71=H70),\"IGUAL\",\"\")","v":""},{"$f":"IF(H71=\"<<<<>>>>NO COMPLETADO\",1,0)","v":0}]
[6,"R70-11/2",{"$f":"+'DATOS COMUN'!$C$3","v":0},null,{"$f":"+'IND1'!C$7","v":0},{"$f":"+'IND1'!C$8","v":0},"DOMICILIO LEGAL:",{"$f":"+'IND1'!C19","v":0},null,null,null,null,null,null,null,null,null,null,"",0]
[7,"R70-11/2",{"$f":"+'DATOS COMUN'!$C$3","v":0},null,{"$f":"+'IND1'!C$7","v":0},{"$f":"+'IND1'!C$8","v":0},"LOCALIDAD:",{"$f":"+'IND1'!C20","v":0},null,null,null,null,null,null,null,null,null,null,"",0]
[8,"R70-11/2",{"$f":"+'DATOS COMUN'!$C$3","v":0},null,{"$f":"+'IND1'!C$7","v":0},{"$f":"+'IND1'!C$8","v":0},"PROVINCIA/ESTADO/REGIÓN:",{"$f":"+'IND1'!C21","v":0},null,null,null,null,null,null,null,null,null,null,"",0]
[9,"R70-11/2",{"$f":"+'DATOS COMUN'!$C$3","v":0},null,{"$f":"+'IND1'!C$7","v":0},{"$f":"+'IND1'!C$8","v":0},"PAÍS:",{"$f":"+'IND1'!C22","v":0},null,null,null,null,null,null,null,null,null,null,"",0]
[10,"R70-11/2",{"$f":"+'DATOS COMUN'!$C$3","v":0},null,{"$f":"+'IND1'!C$7","v":0},{"$f":"+'IND1'!C$8","v":0},"CARÁCTER EN LA QUE INTERVIENE -en calidad de socio, asociado, administrador, etc.-:",{"$f":"+'IND1'!C23","v":0},null,null,null,null,null,null,null,null,null,null,"",0]
[11,"R70-11/2",{"$f":"+'DATOS COMUN'!$C$3","v":0},null,{"$f":"+'IND1'!C$7","v":0},{"$f":"+'IND1'!C$8","v":0},"NOMBRE PERSONA JCA. QUE INTEGRA:",{"$f":"+'IND1'!C24","v":0},null,null,null,null,null,null,null,null,null,null,"",0]
[12,"R70-11/2",{"$f":"+'DATOS COMUN'!$C$3","v":0},null,{"$f":"+'IND1'!C$7","v":0},{"$f":"+'IND1'!C$8","v":0},"TIPO DE PERSONA JCA. -sociedad; fundación, asociación civil, etc.-:",{"$f":"+'IND1'!C25","v":0},null,null,null,null,null,null,null,null,null,null,"",0]
[13,"R70-11/2",{"$f":"+'DATOS COMUN'!$C$3","v":0},null,{"$f":"+'IND1'!C$7","v":0},{"$f":"+'IND1'!C$8","v":0},"CARÁCTER EN LA QUE INTERVIENE -en calidad de socio, asociado, administrador, etc.-:",{"$f":"+'IND1'!C26","v":0},null,null,null,null,null,null,null,null,null,null,"",0]
[14,"R70-11/2",{"$f":"+'DATOS COMUN'!$C$3","v":0},null,{"$f":"+'IND1'!C$7","v":0},{"$f":"+'IND1'!C$8","v":0},"CUIT -sin punto ni barras-:",{"$f":"+'IND1'!C27","v":0},null,null,null,null,null,null,null,null,null,null,"",0]
[15,"R70-11/2",{"$f":"+'DATOS COMUN'!$C$3","v":0},null,{"$f":"+'IND1'!C$7","v":0},{"$f":"+'IND1'!C$8","v":0},"FECHA DE CONSTITUCIÓN -DD/MM/AA-:",{"$f":"+'IND1'!C28","v":0},null,null,null,null,null,null,null,null,null,null,"",0]
[16,"R70-11/2",{"$f":"+'DATOS COMUN'!$C$3","v":0},null,{"$f":"+'IND1'!C$7","v":0},{"$f":"+'IND1'!C$8","v":0},"DOMICILIO LEGAL:",{"$f":"+'IND1'!C29","v":0},null,null,null,null,null,null,null,null,null,null,"",0]
[17,"R70-11/2",{"$f":"+'DATOS COMUN'!$C$3","v":0},null,{"$f":"+'IND1'!C$7","v":0},{"$f":"+'IND1'!C$8","v":0},"LOCALIDAD:",{"$f":"+'IND1'!C30","v":0},null,null,null,null,null,null,null,null,null,null,"",0]
[18,"R70-11/2",{"$f":"+'DATOS COMUN'!$C$3","v":0},null,{"$f":"+'IND1'!C$7","v":0},{"$f":"+'IND1'!C$8","v":0},"PROVINCIA/ESTADO/REGIÓN:",{"$f":"+'IND1'!C31","v":0},null,null,null,null,null,null,null,null,null,null,"",0]
[19,"R70-11/2",{"$f":"+'DATOS COMUN'!$C$3","v":0},null,{"$f":"+'IND1'!C$7","v":0},{"$f":"+'IND1'!C$8","v":0},"PAÍS:",{"$f":"+'IND1'!C32","v":0}]
[20,"R70-11/2",{"$f":"+'DATOS COMUN'!$C$3","v":0},null,{"$f":"+'IND1'!C$7","v":0},{"$f":"+'IND1'!C$8","v":0},"CARÁCTER EN LA QUE INTERVIENE -en calidad de socio, asociado, administrador, etc.-:",{"$f":"+'IND1'!C33","v":0}]
[21,"R70-11/2",{"$f":"+'DATOS COMUN'!$C$3","v":0},null,{"$f":"+'IND1'!C$7","v":0},{"$f":"+'IND1'!C$8","v":0},"NOMBRE PERSONA JCA. QUE INTEGRA:",{"$f":"+'IND1'!C34","v":0}]
[22,"R70-11/2",{"$f":"+'DATOS COMUN'!$C$3","v":0},null,{"$f":"+'IND1'!C$7","v":0},{"$f":"+'IND1'!C$8","v":0},"TIPO DE PERSONA JCA. -sociedad; fundación, asociación civil, etc.-:",{"$f":"+'IND1'!C35","v":0}]
[23,"R70-11/2",{"$f":"+'DATOS COMUN'!$C$3","v":0},null,{"$f":"+'IND1'!C$7","v":0},{"$f":"+'IND1'!C$8","v":0},"CARÁCTER EN LA QUE INTERVIENE -en calidad de socio, asociado, administrador, etc.-:",{"$f":"+'IND1'!C36","v":0}]
[24,"R70-11/2",{"$f":"+'DATOS COMUN'!$C$3","v":0},null,{"$f":"+'IND1'!C$7","v":0},{"$f":"+'IND1'!C$8","v":0},"CUIT -sin punto ni barras-:",{"$f":"+'IND1'!C37","v":0}]
[25,"R70-11/2",{"$f":"+'DATOS COMUN'!$C$3","v":0},null,{"$f":"+'IND1'!C$7","v":0},{"$f":"+'IND1'!C$8","v":0},"FECHA DE CONSTITUCIÓN -DD/MM/AA-:",{"$f":"+'IND1'!C38","v":0}]
[26,"R70-11/2",{"$f":"+'DATOS COMUN'!$C$3","v":0},null,{"$f":"+'IND1'!C$7","v":0},{"$f":"+'IND1'!C$8","v":0},"DOMICILIO LEGAL:",{"$f":"+'IND1'!C39","v":0}]
[27,"R70-11/2",{"$f":"+'DATOS COMUN'!$C$3","v":0},null,{"$f":"+'IND1'!C$7","v":0},{"$f":"+'IND1'!C$8","v":0},"LOCALIDAD:",{"$f":"+'IND1'!C40","v":0}]
[28,"R70-11/2",{"$f":"+'DATOS COMUN'!$C$3","v":0},null,{"$f":"+'IND1'!C$7","v":0},{"$f":"+'IND1'!C$8","v":0},"PROVINCIA/ESTADO/REGIÓN:",{"$f":"+'IND1'!C41","v":0}]
[29,"R70-11/2",{"$f":"+'DATOS COMUN'!$C$3","v":0},null,{"$f":"+'IND1'!C$7","v":0},{"$f":"+'IND1'!C$8","v":0},"PAÍS:",{"$f":"+'IND1'!C42","v":0}]
[30,"R70-11/2",{"$f":"+'DATOS COMUN'!$C$3","v":0},null,{"$f":"+'IND1'!C$7","v":0},{"$f":"+'IND1'!C$8","v":0},"CARÁCTER EN LA QUE INTERVIENE -en calidad de socio, asociado, administrador, etc.-:",{"$f":"+'IND1'!C43","v":0}]
[31,"R70-11/2",{"$f":"+'DATOS COMUN'!$C$3","v":0},null,{"$f":"+'IND1'!C$7","v":0},{"$f":"+'IND1'!C$8","v":0},"NOMBRE PERSONA JCA. QUE INTEGRA:",{"$f":"+'IND1'!C44","v":0}]
[32,"R70-11/2",{"$f":"+'DATOS COMUN'!$C$3","v":0},null,{"$f":"+'IND1'!C$7","v":0},{"$f":"+'IND1'!C$8","v":0},"TIPO DE PERSONA JCA. -sociedad; fundación, asociación civil, etc.-:",{"$f":"+'IND1'!C45","v":0}]
[33,"R70-11/2",{"$f":"+'DATOS COMUN'!$C$3","v":0},null,{"$f":"+'IND1'!C$7","v":0},{"$f":"+'IND1'!C$8","v":0},"CARÁCTER EN LA QUE INTERVIENE -en calidad de socio, asociado, administrador, etc.-:",{"$f":"+'IND1'!C46","v":0}]
[34,"R70-11/2",{"$f":"+'DATOS COMUN'!$C$3","v":0},null,{"$f":"+'IND1'!C$7","v":0},{"$f":"+'IND1'!C$8","v":0},"CUIT -sin punto ni barras-:",{"$f":"+'IND1'!C47","v":0}]
[35,"R70-11/2",{"$f":"+'DATOS COMUN'!$C$3","v":0},null,{"$f":"+'IND1'!C$7","v":0},{"$f":"+'IND1'!C$8","v":0},"FECHA DE CONSTITUCIÓN -DD/MM/AA-:",{"$f":"+'IND1'!C48","v":0}]
[36,"R70-11/2",{"$f":"+'DATOS COMUN'!$C$3","v":0},null,{"$f":"+'IND1'!C$7","v":0},{"$f":"+'IND1'!C$8","v":0},"DOMICILIO LEGAL:",{"$f":"+'IND1'!C49","v":0}]
[37,"R70-11/2",{"$f":"+'DATOS COMUN'!$C$3","v":0},null,{"$f":"+'IND1'!C$7","v":0},{"$f":"+'IND1'!C$8","v":0},"LOCALIDAD:",{"$f":"+'IND1'!C50","v":0}]
[38,"R70-11/2",{"$f":"+'DATOS COMUN'!$C$3","v":0},null,{"$f":"+'IND1'!C$7","v":0},{"$f":"+'IND1'!C$8","v":0},"PROVINCIA/ESTADO/REGIÓN:",{"$f":"+'IND1'!C51","v":0}]
[39,"R70-11/2",{"$f":"+'DATOS COMUN'!$C$3","v":0},null,{"$f":"+'IND1'!C$7","v":0},{"$f":"+'IND1'!C$8","v":0},"PAÍS:",{"$f":"+'IND1'!C52","v":0}]
[40,"R70-11/2",{"$f":"+'DATOS COMUN'!$C$3","v":0},null,{"$f":"+'IND1'!C$7","v":0},{"$f":"+'IND1'!C$8","v":0},"CARÁCTER EN LA QUE INTERVIENE -en calidad de socio, asociado, administrador, etc.-:",{"$f":"+'IND1'!C53","v":0}]
[41,"R70-11/2",{"$f":"+'DATOS COMUN'!$C$3","v":0},null,{"$f":"+'IND1'!C$7","v":0},{"$f":"+'IND1'!C$8","v":0},"NOMBRE PERSONA JCA. QUE INTEGRA:",{"$f":"+'IND1'!C54","v":0}]
[42,"R70-11/2",{"$f":"+'DATOS COMUN'!$C$3","v":0},null,{"$f":"+'IND1'!C$7","v":0},{"$f":"+'IND1'!C$8","v":0},"TIPO DE PERSONA JCA. -sociedad; fundación, asociación civil, etc.-:",{"$f":"+'IND1'!C55","v":0}]
[43,"R70-11/2",{"$f":"+'DATOS COMUN'!$C$3","v":0},null,{"$f":"+'IND1'!C$7","v":0},{"$f":"+'IND1'!C$8","v":0},"CARÁCTER EN LA QUE INTERVIENE -en calidad de socio, asociado, administrador, etc.-:",{"$f":"+'IND1'!C56","v":0}]
[44,"R70-11/2",{"$f":"+'DATOS COMUN'!$C$3","v":0},null,{"$f":"+'IND1'!C$7","v":0},{"$f":"+'IND1'!C$8","v":0},"CUIT -sin punto ni barras-:",{"$f":"+'IND1'!C57","v":0}]
[45,"R70-11/2",{"$f":"+'DATOS COMUN'!$C$3","v":0},null,{"$f":"+'IND1'!C$7","v":0},{"$f":"+'IND1'!C$8","v":0},"FECHA DE CONSTITUCIÓN -DD/MM/AA-:",{"$f":"+'IND1'!C58","v":0}]
[46,"R70-11/2",{"$f":"+'DATOS COMUN'!$C$3","v":0},null,{"$f":"+'IND1'!C$7","v":0},{"$f":"+'IND1'!C$8","v":0},"DOMICILIO LEGAL:",{"$f":"+'IND1'!C59","v":0}]
[47,"R70-11/2",{"$f":"+'DATOS COMUN'!$C$3","v":0},null,{"$f":"+'IND1'!C$7","v":0},{"$f":"+'IND1'!C$8","v":0},"LOCALIDAD:",{"$f":"+'IND1'!C60","v":0}]
[48,"R70-11/2",{"$f":"+'DATOS COMUN'!$C$3","v":0},null,{"$f":"+'IND1'!C$7","v":0},{"$f":"+'IND1'!C$8","v":0},"PROVINCIA/ESTADO/REGIÓN:",{"$f":"+'IND1'!C61","v":0}]
[49,"R70-11/2",{"$f":"+'DATOS COMUN'!$C$3","v":0},null,{"$f":"+'IND1'!C$7","v":0},{"$f":"+'IND1'!C$8","v":0},"PAÍS:",{"$f":"+'IND1'!C62","v":0}]
[50,"R70-11/2",{"$f":"+'DATOS COMUN'!$C$3","v":0},null,{"$f":"+'IND1'!C$7","v":0},{"$f":"+'IND1'!C$8","v":0},"CARÁCTER EN LA QUE INTERVIENE -en calidad de socio, asociado, administrador, etc.-:",{"$f":"+'IND1'!C63","v":0}]
[51,"R70-11/2",{"$f":"+'DATOS COMUN'!$C$3","v":0},null,{"$f":"+'IND1'!C$7","v":0},{"$f":"+'IND1'!C$8","v":0},"NOMBRE PERSONA JCA. QUE INTEGRA:",{"$f":"+'IND1'!C64","v":0}]
[52,"R70-11/2",{"$f":"+'DATOS COMUN'!$C$3","v":0},null,{"$f":"+'IND1'!C$7","v":0},{"$f":"+'IND1'!C$8","v":0},"TIPO DE PERSONA JCA. -sociedad; fundación, asociación civil, etc.-:",{"$f":"+'IND1'!C65","v":0}]
[53,"R70-11/2",{"$f":"+'DATOS COMUN'!$C$3","v":0},null,{"$f":"+'IND1'!C$7","v":0},{"$f":"+'IND1'!C$8","v":0},"CARÁCTER EN LA QUE INTERVIENE -en calidad de socio, asociado, administrador, etc.-:",{"$f":"+'IND1'!C66","v":0}]
[54,"R70-11/2",{"$f":"+'DATOS COMUN'!$C$3","v":0},null,{"$f":"+'IND1'!C$7","v":0},{"$f":"+'IND1'!C$8","v":0},"CUIT -sin punto ni barras-:",{"$f":"+'IND1'!C67","v":0}]
[55,"R70-11/2",{"$f":"+'DATOS COMUN'!$C$3","v":0},null,{"$f":"+'IND1'!C$7","v":0},{"$f":"+'IND1'!C$8","v":0},"FECHA DE CONSTITUCIÓN -DD/MM/AA-:",{"$f":"+'IND1'!C68","v":0}]
[56,"R70-11/2",{"$f":"+'DATOS COMUN'!$C$3","v":0},null,{"$f":"+'IND1'!C$7","v":0},{"$f":"+'IND1'!C$8","v":0},"DOMICILIO LEGAL:",{"$f":"+'IND1'!C69","v":0}]
[57,"R70-11/2",{"$f":"+'DATOS COMUN'!$C$3","v":0},null,{"$f":"+'IND1'!C$7","v":0},{"$f":"+'IND1'!C$8","v":0},"LOCALIDAD:",{"$f":"+'IND1'!C70","v":0}]
[58,"R70-11/2",{"$f":"+'DATOS COMUN'!$C$3","v":0},null,{"$f":"+'IND1'!C$7","v":0},{"$f":"+'IND1'!C$8","v":0},"PROVINCIA/ESTADO/REGIÓN:",{"$f":"+'IND1'!C71","v":0}]
[59,"R70-11/2",{"$f":"+'DATOS COMUN'!$C$3","v":0},null,{"$f":"+'IND1'!C$7","v":0},{"$f":"+'IND1'!C$8","v":0},"PAÍS:",{"$f":"+'IND1'!C72","v":0}]
[60,"R70-11/2",{"$f":"+'DATOS COMUN'!$C$3","v":0},null,{"$f":"+'IND1'!C$7","v":0},{"$f":"+'IND1'!C$8","v":0},"CARÁCTER EN LA QUE INTERVIENE -en calidad de socio, asociado, administrador, etc.-:",{"$f":"+'IND1'!C73","v":0}]
[61,"R70-11/2",{"$f":"+'DATOS COMUN'!$C$3","v":0},null,{"$f":"+'IND1'!C$7","v":0},{"$f":"+'IND1'!C$8","v":0},"NOMBRE PERSONA JCA. QUE INTEGRA:",{"$f":"+'IND1'!C74","v":0}]
[62,"R70-11/2",{"$f":"+'DATOS COMUN'!$C$3","v":0},null,{"$f":"+'IND1'!C$7","v":0},{"$f":"+'IND1'!C$8","v":0},"TIPO DE PERSONA JCA. -sociedad; fundación, asociación civil, etc.-:",{"$f":"+'IND1'!C75","v":0}]
[63,"R70-11/2",{"$f":"+'DATOS COMUN'!$C$3","v":0},null,{"$f":"+'IND1'!C$7","v":0},{"$f":"+'IND1'!C$8","v":0},"CARÁCTER EN LA QUE INTERVIENE -en calidad de socio, asociado, administrador, etc.-:",{"$f":"+'IND1'!C76","v":0}]
[64,"R70-11/2",{"$f":"+'DATOS COMUN'!$C$3","v":0},null,{"$f":"+'IND1'!C$7","v":0},{"$f":"+'IND1'!C$8","v":0},"CUIT -sin punto ni barras-:",{"$f":"+'IND1'!C77","v":0}]
[65,"R70-11/2",{"$f":"+'DATOS COMUN'!$C$3","v":0},null,{"$f":"+'IND1'!C$7","v":0},{"$f":"+'IND1'!C$8","v":0},"FECHA DE CONSTITUCIÓN -DD/MM/AA-:",{"$f":"+'IND1'!C78","v":0}]
[66,"R70-11/2",{"$f":"+'DATOS COMUN'!$C$3","v":0},null,{"$f":"+'IND1'!C$7","v":0},{"$f":"+'IND1'!C$8","v":0},"DOMICILIO LEGAL:",{"$f":"+'IND1'!C79","v":0}]
[67,"R70-11/2",{"$f":"+'DATOS COMUN'!$C$3","v":0},null,{"$f":"+'IND1'!C$7","v":0},{"$f":"+'IND1'!C$8","v":0},"LOCALIDAD:",{"$f":"+'IND1'!C80","v":0}]
[68,"R70-11/2",{"$f":"+'DATOS COMUN'!$C$3","v":0},null,{"$f":"+'IND1'!C$7","v":0},{"$f":"+'IND1'!C$8","v":0},"PROVINCIA/ESTADO/REGIÓN:",{"$f":"+'IND1'!C81","v":0}]
[69,"R70-11/2",{"$f":"+'DATOS COMUN'!$C$3","v":0},null,{"$f":"+'IND1'!C$7","v":0},{"$f":"+'IND1'!C$8","v":0},"PAÍS:",{"$f":"+'IND1'!C82","v":0}]
[70,"R70-11/2",{"$f":"+'DATOS COMUN'!$C$3","v":0},null,{"$f":"+'IND1'!C$7","v":0},{"$f":"+'IND1'!C$8","v":0},"CARÁCTER EN LA QUE INTERVIENE -en calidad de socio, asociado, administrador, etc.-:",{"$f":"+'IND1'!C83","v":0}]
[71,"R70-11/2",{"$f":"+'DATOS COMUN'!$C$3","v":0},null,{"$f":"+'IND1'!C$7","v":0},{"$f":"+'IND1'!C$8","v":0},"NOMBRE PERSONA JCA. QUE INTEGRA:",{"$f":"+'IND1'!C84","v":0}]
[72,"R70-11/2",{"$f":"+'DATOS COMUN'!$C$3","v":0},null,{"$f":"+'IND1'!C$7","v":0},{"$f":"+'IND1'!C$8","v":0},"TIPO DE PERSONA JCA. -sociedad; fundación, asociación civil, etc.-:",{"$f":"+'IND1'!C85","v":0}]
[73,"R70-11/2",{"$f":"+'DATOS COMUN'!$C$3","v":0},null,{"$f":"+'IND1'!C$7","v":0},{"$f":"+'IND1'!C$8","v":0},"CARÁCTER EN LA QUE INTERVIENE -en calidad de socio, asociado, administrador, etc.-:",{"$f":"+'IND1'!C86","v":0}]
[74,"R70-11/2",{"$f":"+'DATOS COMUN'!$C$3","v":0},null,{"$f":"+'IND1'!C$7","v":0},{"$f":"+'IND1'!C$8","v":0},"CUIT -sin punto ni barras-:",{"$f":"+'IND1'!C87","v":0}]
[75,"R70-11/2",{"$f":"+'DATOS COMUN'!$C$3","v":0},null,{"$f":"+'IND1'!C$7","v":0},{"$f":"+'IND1'!C$8","v":0},"FECHA DE CONSTITUCIÓN -DD/MM/AA-:",{"$f":"+'IND1'!C88","v":0}]
[76,"R70-11/2",{"$f":"+'DATOS COMUN'!$C$3","v":0},null,{"$f":"+'IND1'!C$7","v":0},{"$f":"+'IND1'!C$8","v":0},"DOMICILIO LEGAL:",{"$f":"+'IND1'!C89","v":0}]
[77,"R70-11/2",{"$f":"+'DATOS COMUN'!$C$3","v":0},null,{"$f":"+'IND1'!C$7","v":0},{"$f":"+'IND1'!C$8","v":0},"LOCALIDAD:",{"$f":"+'IND1'!C90","v":0}]
[78,"R70-11/2",{"$f":"+'DATOS COMUN'!$C$3","v":0},null,{"$f":"+'IND1'!C$7","v":0},{"$f":"+'IND1'!C$8","v":0},"PROVINCIA/ESTADO/REGIÓN:",{"$f":"+'IND1'!C91","v":0}]
[79,"R70-11/2",{"$f":"+'DATOS COMUN'!$C$3","v":0},null,{"$f":"+'IND1'!C$7","v":0},{"$f":"+'IND1'!C$8","v":0},"PAÍS:",{"$f":"+'IND1'!C92","v":0}]
[80,"R70-11/2",{"$f":"+'DATOS COMUN'!$C$3","v":0},null,{"$f":"+'IND1'!C$7","v":0},{"$f":"+'IND1'!C$8","v":0},"CARÁCTER EN LA QUE INTERVIENE -en calidad de socio, asociado, administrador, etc.-:",{"$f":"+'IND1'!C93","v":0}]
[81,"R70-11/2",{"$f":"+'DATOS COMUN'!$C$3","v":0},null,{"$f":"+'IND1'!C$7","v":0},{"$f":"+'IND1'!C$8","v":0},"NOMBRE PERSONA JCA. QUE INTEGRA:",{"$f":"+'IND1'!C94","v":0}]
[82,"R70-11/2",{"$f":"+'DATOS COMUN'!$C$3","v":0},null,{"$f":"+'IND1'!C$7","v":0},{"$f":"+'IND1'!C$8","v":0},"TIPO DE PERSONA JCA. -sociedad; fundación, asociación civil, etc.-:",{"$f":"+'IND1'!C95","v":0}]
[83,"R70-11/2",{"$f":"+'DATOS COMUN'!$C$3","v":0},null,{"$f":"+'IND1'!C$7","v":0},{"$f":"+'IND1'!C$8","v":0},"CARÁCTER EN LA QUE INTERVIENE -en calidad de socio, asociado, administrador, etc.-:",{"$f":"+'IND1'!C96","v":0}]
[84,"R70-11/2",{"$f":"+'DATOS COMUN'!$C$3","v":0},null,{"$f":"+'IND1'!C$7","v":0},{"$f":"+'IND1'!C$8","v":0},"CUIT -sin punto ni barras-:",{"$f":"+'IND1'!C97","v":0}]
[85,"R70-11/2",{"$f":"+'DATOS COMUN'!$C$3","v":0},null,{"$f":"+'IND1'!C$7","v":0},{"$f":"+'IND1'!C$8","v":0},"FECHA DE CONSTITUCIÓN -DD/MM/AA-:",{"$f":"+'IND1'!C98","v":0}]
[86,"R70-11/2",{"$f":"+'DATOS COMUN'!$C$3","v":0},null,{"$f":"+'IND1'!C$7","v":0},{"$f":"+'IND1'!C$8","v":0},"DOMICILIO LEGAL:",{"$f":"+'IND1'!C99","v":0}]
[87,"R70-11/2",{"$f":"+'DATOS COMUN'!$C$3","v":0},null,{"$f":"+'IND1'!C$7","v":0},{"$f":"+'IND1'!C$8","v":0},"LOCALIDAD:",{"$f":"+'IND1'!C100","v":0}]
[88,"R70-11/2",{"$f":"+'DATOS COMUN'!$C$3","v":0},null,{"$f":"+'IND1'!C$7","v":0},{"$f":"+'IND1'!C$8","v":0},"PROVINCIA/ESTADO/REGIÓN:",{"$f":"+'IND1'!C101","v":0}]
[89,"R70-11/2",{"$f":"+'DATOS COMUN'!$C$3","v":0},null,{"$f":"+'IND1'!C$7","v":0},{"$f":"+'IND1'!C$8","v":0},"PAÍS:",{"$f":"+'IND1'!C102","v":0}]
[90,"R70-11/2",{"$f":"+'DATOS COMUN'!$C$3","v":0},null,{"$f":"+'IND1'!C$7","v":0},{"$f":"+'IND1'!C$8","v":0},"CARÁCTER EN LA QUE INTERVIENE -en calidad de socio, asociado, administrador, etc.-:",{"$f":"+'IND1'!C103","v":0}]
[91,"R70-11/2",{"$f":"+'DATOS COMUN'!$C$3","v":0},null,{"$f":"+'IND1'!C$7","v":0},{"$f":"+'IND1'!C$8","v":0},"NOMBRE PERSONA JCA. QUE INTEGRA:",{"$f":"+'IND1'!C104","v":0}]
[92,"R70-11/2",{"$f":"+'DATOS COMUN'!$C$3","v":0},null,{"$f":"+'IND1'!C$7","v":0},{"$f":"+'IND1'!C$8","v":0},"TIPO DE PERSONA JCA. -sociedad; fundación, asociación civil, etc.-:",{"$f":"+'IND1'!C105","v":0}]
[93,"R70-11/2",{"$f":"+'DATOS COMUN'!$C$3","v":0},null,{"$f":"+'IND1'!C$7","v":0},{"$f":"+'IND1'!C$8","v":0},"CARÁCTER EN LA QUE INTERVIENE -en calidad de socio, asociado, administrador, etc.-:",{"$f":"+'IND1'!C106","v":0}]
[94,"R70-11/2",{"$f":"+'DATOS COMUN'!$C$3","v":0},null,{"$f":"+'IND1'!C$7","v":0},{"$f":"+'IND1'!C$8","v":0},"CUIT -sin punto ni barras-:",{"$f":"+'IND1'!C107","v":0}]
[95,"R70-11/2",{"$f":"+'DATOS COMUN'!$C$3","v":0},null,{"$f":"+'IND1'!C$7","v":0},{"$f":"+'IND1'!C$8","v":0},"FECHA DE CONSTITUCIÓN -DD/MM/AA-:",{"$f":"+'IND1'!C108","v":0}]
[96,"R70-11/2",{"$f":"+'DATOS COMUN'!$C$3","v":0},null,{"$f":"+'IND1'!C$7","v":0},{"$f":"+'IND1'!C$8","v":0},"DOMICILIO LEGAL:",{"$f":"+'IND1'!C109","v":0}]
[97,"R70-11/2",{"$f":"+'DATOS COMUN'!$C$3","v":0},null,{"$f":"+'IND1'!C$7","v":0},{"$f":"+'IND1'!C$8","v":0},"LOCALIDAD:",{"$f":"+'IND1'!C110","v":0}]
[98,"R70-11/2",{"$f":"+'DATOS COMUN'!$C$3","v":0},null,{"$f":"+'IND1'!C$7","v":0},{"$f":"+'IND1'!C$8","v":0},"PROVINCIA/ESTADO/REGIÓN:",{"$f":"+'IND1'!C111","v":0}]
[99,"R70-11/2",{"$f":"+'DATOS COMUN'!$C$3","v":0},null,{"$f":"+'IND1'!C$7","v":0},{"$f":"+'IND1'!C$8","v":0},"PAÍS:",{"$f":"+'IND1'!C112","v":0}]
[100,"R70-11/2",{"$f":"+'DATOS COMUN'!$C$3","v":0},null,{"$f":"+'IND1'!C$7","v":0},{"$f":"+'IND1'!C$8","v":0},"CARÁCTER EN LA QUE INTERVIENE -en calidad de socio, asociado, administrador, etc.-:",{"$f":"+'IND1'!C113","v":0}]
[101,"R70-11/2",{"$f":"+'DATOS COMUN'!$C$3","v":0},null,{"$f":"+'IND1'!C$7","v":0},{"$f":"+'IND1'!C$8","v":0},"NOMBRE PERSONA JCA. QUE INTEGRA:",{"$f":"+'IND1'!C114","v":0}]
[102,"R70-11/2",{"$f":"+'DATOS COMUN'!$C$3","v":0},null,{"$f":"+'IND1'!C$7","v":0},{"$f":"+'IND1'!C$8","v":0},"TIPO DE PERSONA JCA. -sociedad; fundación, asociación civil, etc.-:",{"$f":"+'IND1'!C115","v":0}]
[103,"R70-11/2",{"$f":"+'DATOS COMUN'!$C$3","v":0},null,{"$f":"+'IND1'!C$7","v":0},{"$f":"+'IND1'!C$8","v":0},"CARÁCTER EN LA QUE INTERVIENE -en calidad de socio, asociado, administrador, etc.-:",{"$f":"+'IND1'!C116","v":0}]
[104,"R70-11/2",{"$f":"+'DATOS COMUN'!$C$3","v":0},null,{"$f":"+'IND1'!C$7","v":0},{"$f":"+'IND1'!C$8","v":0},"CUIT -sin punto ni barras-:",{"$f":"+'IND1'!C117","v":0}]
[105,"R70-11/2",{"$f":"+'DATOS COMUN'!$C$3","v":0},null,{"$f":"+'IND1'!C$7","v":0},{"$f":"+'IND1'!C$8","v":0},"FECHA DE CONSTITUCIÓN -DD/MM/AA-:",{"$f":"+'IND1'!C118","v":0}]
[106,"R70-11/2",{"$f":"+'DATOS COMUN'!$C$3","v":0},null,{"$f":"+'IND1'!C$7","v":0},{"$f":"+'IND1'!C$8","v":0},"DOMICILIO LEGAL:",{"$f":"+'IND1'!C119","v":0}]
[107,"R70-11/2",{"$f":"+'DATOS COMUN'!$C$3","v":0},null,{"$f":"+'IND1'!C$7","v":0},{"$f":"+'IND1'!C$8","v":0},"LOCALIDAD:",{"$f":"+'IND1'!C120","v":0}]
[108,"R70-11/2",{"$f":"+'DATOS COMUN'!$C$3","v":0},null,{"$f":"+'IND1'!C$7","v":0},{"$f":"+'IND1'!C$8","v":0},"PROVINCIA/ESTADO/REGIÓN:",{"$f":"+'IND1'!C121","v":0}]
[109,"R70-11/2",{"$f":"+'DATOS COMUN'!$C$3","v":0},null,{"$f":"+'IND1'!C$7","v":0},{"$f":"+'IND1'!C$8","v":0},"PAÍS:",{"$f":"+'IND1'!C122","v":0}]
[110,"R70-11/2",{"$f":"+'DATOS COMUN'!$C$3","v":0},null,{"$f":"+'IND1'!C$7","v":0},{"$f":"+'IND1'!C$8","v":0},"CARÁCTER EN LA QUE INTERVIENE -en calidad de socio, asociado, administrador, etc.-:",{"$f":"+'IND1'!C123","v":0}]
[111,"R70-11/2",{"$f":"+'DATOS COMUN'!$C$3","v":0},null,{"$f":"+'IND1'!C$7","v":0},{"$f":"+'IND1'!C$8","v":0},"NOMBRE PERSONA JCA. QUE INTEGRA:",{"$f":"+'IND1'!C124","v":0}]
[112,"R70-11/2",{"$f":"+'DATOS COMUN'!$C$3","v":0},null,{"$f":"+'IND1'!C$7","v":0},{"$f":"+'IND1'!C$8","v":0},"TIPO DE PERSONA JCA. -sociedad; fundación, asociación civil, etc.-:",{"$f":"+'IND1'!C125","v":0}]
[113,"R70-11/2",{"$f":"+'DATOS COMUN'!$C$3","v":0},null,{"$f":"+'IND1'!C$7","v":0},{"$f":"+'IND1'!C$8","v":0},"CARÁCTER EN LA QUE INTERVIENE -en calidad de socio, asociado, administrador, etc.-:",{"$f":"+'IND1'!C126","v":0}]
[114,"R70-11/2",{"$f":"+'DATOS COMUN'!$C$3","v":0},null,{"$f":"+'IND1'!C$7","v":0},{"$f":"+'IND1'!C$8","v":0},"CUIT -sin punto ni barras-:",{"$f":"+'IND1'!C127","v":0}]
[115,"R70-11/2",{"$f":"+'DATOS COMUN'!$C$3","v":0},null,{"$f":"+'IND1'!C$7","v":0},{"$f":"+'IND1'!C$8","v":0},"FECHA DE CONSTITUCIÓN -DD/MM/AA-:",{"$f":"+'IND1'!C128","v":0}]
[116,"R70-11/2",{"$f":"+'DATOS COMUN'!$C$3","v":0},null,{"$f":"+'IND1'!C$7","v":0},{"$f":"+'IND1'!C$8","v":0},"DOMICILIO LEGAL:",{"$f":"+'IND1'!C129","v":0}]
[117,"R70-11/2",{"$f":"+'DATOS COMUN'!$C$3","v":0},null,{"$f":"+'IND1'!C$7","v":0},{"$f":"+'IND1'!C$8","v":0},"LOCALIDAD:",{"$f":"+'IND1'!C130","v":0}]
[118,"R70-11/2",{"$f":"+'DATOS COMUN'!$C$3","v":0},null,{"$f":"+'IND1'!C$7","v":0},{"$f":"+'IND1'!C$8","v":0},"PROVINCIA/ESTADO/REGIÓN:",{"$f":"+'IND1'!C131","v":0}]
[119,"R70-11/2",{"$f":"+'DATOS COMUN'!$C$3","v":0},null,{"$f":"+'IND1'!C$7","v":0},{"$f":"+'IND1'!C$8","v":0},"PAÍS:",{"$f":"+'IND1'!C132","v":0}]
[120,"R70-11/2",{"$f":"+'DATOS COMUN'!$C$3","v":0},null,{"$f":"+'IND1'!C$7","v":0},{"$f":"+'IND1'!C$8","v":0},"CARÁCTER EN LA QUE INTERVIENE -en calidad de socio, asociado, administrador, etc.-:",{"$f":"+'IND1'!C133","v":0}]
[1,"R70-11/2",{"$f":"+'DATOS COMUN'!$C$3","v":0},null,{"$f":"+'IND2'!C$7","v":0},{"$f":"+'IND2'!C$8","v":0},"NOMBRE PERSONA JCA. QUE INTEGRA:",{"$f":"+'IND2'!C134","v":0},null,null,null,null,null,null,null,null,null,null,{"$f":"IF(AND(B187=B186,C187=C186,E187=E186,F187=F186,G187=G186,H187=H186),\"IGUAL\",\"\")","v":""},{"$f":"IF(H187=\"<<<<>>>>NO COMPLETADO\",1,0)","v":0}]
[2,"R70-11/2",{"$f":"+'DATOS COMUN'!$C$3","v":0},null,{"$f":"+'IND2'!C$7","v":0},{"$f":"+'IND2'!C$8","v":0},"TIPO DE PERSONA JCA. -sociedad; fundación, asociación civil, etc.-:",{"$f":"+'IND2'!C135","v":"00:00:00"},null,null,null,null,null,null,null,null,null,null,"",0]
[3,"R70-11/2",{"$f":"+'DATOS COMUN'!$C$3","v":0},null,{"$f":"+'IND2'!C$7","v":0},{"$f":"+'IND2'!C$8","v":0},"CARÁCTER EN LA QUE INTERVIENE -en calidad de socio, asociado, administrador, etc.-:",{"$f":"+'IND2'!C136","v":0},null,null,null,null,null,null,null,null,null,null,"",0]
[4,"R70-11/2",{"$f":"+'DATOS COMUN'!$C$3","v":0},null,{"$f":"+'IND2'!C$7","v":0},{"$f":"+'IND2'!C$8","v":0},"CUIT -sin punto ni barras-:",{"$f":"+'IND2'!C137","v":0},null,null,null,null,null,null,null,null,null,null,"",0]
[5,"R70-11/2",{"$f":"+'DATOS COMUN'!$C$3","v":0},null,{"$f":"+'IND2'!C$7","v":0},{"$f":"+'IND2'!C$8","v":0},"FECHA DE CONSTITUCIÓN -DD/MM/AA-:",{"$f":"+'IND2'!C138","v":0},null,null,null,null,null,null,null,null,null,null,"",0]
[6,"R70-11/2",{"$f":"+'DATOS COMUN'!$C$3","v":0},null,{"$f":"+'IND2'!C$7","v":0},{"$f":"+'IND2'!C$8","v":0},"DOMICILIO LEGAL:",{"$f":"+'IND2'!C139","v":0},null,null,null,null,null,null,null,null,null,null,"",0]
[7,"R70-11/2",{"$f":"+'DATOS COMUN'!$C$3","v":0},null,{"$f":"+'IND2'!C$7","v":0},{"$f":"+'IND2'!C$8","v":0},"LOCALIDAD:",{"$f":"+'IND2'!C140","v":0},null,null,null,null,null,null,null,null,null,null,"",0]
[8,"R70-11/2",{"$f":"+'DATOS COMUN'!$C$3","v":0},null,{"$f":"+'IND2'!C$7","v":0},{"$f":"+'IND2'!C$8","v":0},"PROVINCIA/ESTADO/REGIÓN:",{"$f":"+'IND2'!C141","v":0},null,null,null,null,null,null,null,null,null,null,"",0]
[9,"R70-11/2",{"$f":"+'DATOS COMUN'!$C$3","v":0},null,{"$f":"+'IND2'!C$7","v":0},{"$f":"+'IND2'!C$8","v":0},"PAÍS:",{"$f":"+'IND2'!C142","v":0},null,null,null,null,null,null,null,null,null,null,"",0]
[10,"R70-11/2",{"$f":"+'DATOS COMUN'!$C$3","v":0},null,{"$f":"+'IND2'!C$7","v":0},{"$f":"+'IND2'!C$8","v":0},"CARÁCTER EN LA QUE INTERVIENE -en calidad de socio, asociado, administrador, etc.-:",{"$f":"+'IND2'!C143","v":0},null,null,null,null,null,null,null,null,null,null,"",0]
[11,"R70-11/2",{"$f":"+'DATOS COMUN'!$C$3","v":0},null,{"$f":"+'IND2'!C$7","v":0},{"$f":"+'IND2'!C$8","v":0},"NOMBRE PERSONA JCA. QUE INTEGRA:",{"$f":"+'IND2'!C144","v":0},null,null,null,null,null,null,null,null,null,null,"",0]
[12,"R70-11/2",{"$f":"+'DATOS COMUN'!$C$3","v":0},null,{"$f":"+'IND2'!C$7","v":0},{"$f":"+'IND2'!C$8","v":0},"TIPO DE PERSONA JCA. -sociedad; fundación, asociación civil, etc.-:",{"$f":"+'IND2'!C145","v":0},null,null,null,null,null,null,null,null,null,null,"",0]
[13,"R70-11/2",{"$f":"+'DATOS COMUN'!$C$3","v":0},null,{"$f":"+'IND2'!C$7","v":0},{"$f":"+'IND2'!C$8","v":0},"CARÁCTER EN LA QUE INTERVIENE -en calidad de socio, asociado, administrador, etc.-:",{"$f":"+'IND2'!C146","v":0},null,null,null,null,null,null,null,null,null,null,"",0]
[14,"R70-11/2",{"$f":"+'DATOS COMUN'!$C$3","v":0},null,{"$f":"+'IND2'!C$7","v":0},{"$f":"+'IND2'!C$8","v":0},"CUIT -sin punto ni barras-:",{"$f":"+'IND2'!C147","v":0},null,null,null,null,null,null,null,null,null,null,"",0]
[15,"R70-11/2",{"$f":"+'DATOS COMUN'!$C$3","v":0},null,{"$f":"+'IND2'!C$7","v":0},{"$f":"+'IND2'!C$8","v":0},"FECHA DE CONSTITUCIÓN -DD/MM/AA-:",{"$f":"+'IND2'!C148","v":0},null,null,null,null,null,null,null,null,null,null,"",0]
[16,"R70-11/2",{"$f":"+'DATOS COMUN'!$C$3","v":0},null,{"$f":"+'IND2'!C$7","v":0},{"$f":"+'IND2'!C$8","v":0},"DOMICILIO LEGAL:",{"$f":"+'IND2'!C149","v":0},null,null,null,null,null,null,null,null,null,null,"",0]
[17,"R70-11/2",{"$f":"+'DATOS COMUN'!$C$3","v":0},null,{"$f":"+'IND2'!C$7","v":0},{"$f":"+'IND2'!C$8","v":0},"LOCALIDAD:",{"$f":"+'IND2'!C150","v":0},null,null,null,null,null,null,null,null,null,null,"",0]
[18,"R70-11/2",{"$f":"+'DATOS COMUN'!$C$3","v":0},null,{"$f":"+'IND2'!C$7","v":0},{"$f":"+'IND2'!C$8","v":0},"PROVINCIA/ESTADO/REGIÓN:",{"$f":"+'IND2'!C151","v":0},null,null,null,null,null,null,null,null,null,null,"",0]
[19,"R70-11/2",{"$f":"+'DATOS COMUN'!$C$3","v":0},null,{"$f":"+'IND2'!C$7","v":0},{"$f":"+'IND2'!C$8","v":0},"PAÍS:",{"$f":"+'IND2'!C152","v":0}]
[20,"R70-11/2",{"$f":"+'DATOS COMUN'!$C$3","v":0},null,{"$f":"+'IND2'!C$7","v":0},{"$f":"+'IND2'!C$8","v":0},"CARÁCTER EN LA QUE INTERVIENE -en calidad de socio, asociado, administrador, etc.-:",{"$f":"+'IND2'!C153","v":0}]
[21,"R70-11/2",{"$f":"+'DATOS COMUN'!$C$3","v":0},null,{"$f":"+'IND2'!C$7","v":0},{"$f":"+'IND2'!C$8","v":0},"NOMBRE PERSONA JCA. QUE INTEGRA:",{"$f":"+'IND2'!C154","v":0}]
[22,"R70-11/2",{"$f":"+'DATOS COMUN'!$C$3","v":0},null,{"$f":"+'IND2'!C$7","v":0},{"$f":"+'IND2'!C$8","v":0},"TIPO DE PERSONA JCA. -sociedad; fundación, asociación civil, etc.-:",{"$f":"+'IND2'!C155","v":0}]
[23,"R70-11/2",{"$f":"+'DATOS COMUN'!$C$3","v":0},null,{"$f":"+'IND2'!C$7","v":0},{"$f":"+'IND2'!C$8","v":0},"CARÁCTER EN LA QUE INTERVIENE -en calidad de socio, asociado, administrador, etc.-:",{"$f":"+'IND2'!C156","v":0}]
[24,"R70-11/2",{"$f":"+'DATOS COMUN'!$C$3","v":0},null,{"$f":"+'IND2'!C$7","v":0},{"$f":"+'IND2'!C$8","v":0},"CUIT -sin punto ni barras-:",{"$f":"+'IND2'!C157","v":0}]
[25,"R70-11/2",{"$f":"+'DATOS COMUN'!$C$3","v":0},null,{"$f":"+'IND2'!C$7","v":0},{"$f":"+'IND2'!C$8","v":0},"FECHA DE CONSTITUCIÓN -DD/MM/AA-:",{"$f":"+'IND2'!C158","v":0}]
[26,"R70-11/2",{"$f":"+'DATOS COMUN'!$C$3","v":0},null,{"$f":"+'IND2'!C$7","v":0},{"$f":"+'IND2'!C$8","v":0},"DOMICILIO LEGAL:",{"$f":"+'IND2'!C159","v":0}]
[27,"R70-11/2",{"$f":"+'DATOS COMUN'!$C$3","v":0},null,{"$f":"+'IND2'!C$7","v":0},{"$f":"+'IND2'!C$8","v":0},"LOCALIDAD:",{"$f":"+'IND2'!C160","v":0}]
[28,"R70-11/2",{"$f":"+'DATOS COMUN'!$C$3","v":0},null,{"$f":"+'IND2'!C$7","v":0},{"$f":"+'IND2'!C$8","v":0},"PROVINCIA/ESTADO/REGIÓN:",{"$f":"+'IND2'!C161","v":0}]
[29,"R70-11/2",{"$f":"+'DATOS COMUN'!$C$3","v":0},null,{"$f":"+'IND2'!C$7","v":0},{"$f":"+'IND2'!C$8","v":0},"PAÍS:",{"$f":"+'IND2'!C162","v":0}]
[30,"R70-11/2",{"$f":"+'DATOS COMUN'!$C$3","v":0},null,{"$f":"+'IND2'!C$7","v":0},{"$f":"+'IND2'!C$8","v":0},"CARÁCTER EN LA QUE INTERVIENE -en calidad de socio, asociado, administrador, etc.-:",{"$f":"+'IND2'!C163","v":0}]
[31,"R70-11/2",{"$f":"+'DATOS COMUN'!$C$3","v":0},null,{"$f":"+'IND2'!C$7","v":0},{"$f":"+'IND2'!C$8","v":0},"NOMBRE PERSONA JCA. QUE INTEGRA:",{"$f":"+'IND2'!C164","v":0}]
[32,"R70-11/2",{"$f":"+'DATOS COMUN'!$C$3","v":0},null,{"$f":"+'IND2'!C$7","v":0},{"$f":"+'IND2'!C$8","v":0},"TIPO DE PERSONA JCA. -sociedad; fundación, asociación civil, etc.-:",{"$f":"+'IND2'!C165","v":0}]
[33,"R70-11/2",{"$f":"+'DATOS COMUN'!$C$3","v":0},null,{"$f":"+'IND2'!C$7","v":0},{"$f":"+'IND2'!C$8","v":0},"CARÁCTER EN LA QUE INTERVIENE -en calidad de socio, asociado, administrador, etc.-:",{"$f":"+'IND2'!C166","v":0}]
[34,"R70-11/2",{"$f":"+'DATOS COMUN'!$C$3","v":0},null,{"$f":"+'IND2'!C$7","v":0},{"$f":"+'IND2'!C$8","v":0},"CUIT -sin punto ni barras-:",{"$f":"+'IND2'!C167","v":0}]
[35,"R70-11/2",{"$f":"+'DATOS COMUN'!$C$3","v":0},null,{"$f":"+'IND2'!C$7","v":0},{"$f":"+'IND2'!C$8","v":0},"FECHA DE CONSTITUCIÓN -DD/MM/AA-:",{"$f":"+'IND2'!C168","v":0}]
[36,"R70-11/2",{"$f":"+'DATOS COMUN'!$C$3","v":0},null,{"$f":"+'IND2'!C$7","v":0},{"$f":"+'IND2'!C$8","v":0},"DOMICILIO LEGAL:",{"$f":"+'IND2'!C169","v":0}]
[37,"R70-11/2",{"$f":"+'DATOS COMUN'!$C$3","v":0},null,{"$f":"+'IND2'!C$7","v":0},{"$f":"+'IND2'!C$8","v":0},"LOCALIDAD:",{"$f":"+'IND2'!C170","v":0}]
[38,"R70-11/2",{"$f":"+'DATOS COMUN'!$C$3","v":0},null,{"$f":"+'IND2'!C$7","v":0},{"$f":"+'IND2'!C$8","v":0},"PROVINCIA/ESTADO/REGIÓN:",{"$f":"+'IND2'!C171","v":0}]
[39,"R70-11/2",{"$f":"+'DATOS COMUN'!$C$3","v":0},null,{"$f":"+'IND2'!C$7","v":0},{"$f":"+'IND2'!C$8","v":0},"PAÍS:",{"$f":"+'IND2'!C172","v":0}]
[40,"R70-11/2",{"$f":"+'DATOS COMUN'!$C$3","v":0},null,{"$f":"+'IND2'!C$7","v":0},{"$f":"+'IND2'!C$8","v":0},"CARÁCTER EN LA QUE INTERVIENE -en calidad de socio, asociado, administrador, etc.-:",{"$f":"+'IND2'!C173","v":0}]
[41,"R70-11/2",{"$f":"+'DATOS COMUN'!$C$3","v":0},null,{"$f":"+'IND2'!C$7","v":0},{"$f":"+'IND2'!C$8","v":0},"NOMBRE PERSONA JCA. QUE INTEGRA:",{"$f":"+'IND2'!C174","v":0}]
[42,"R70-11/2",{"$f":"+'DATOS COMUN'!$C$3","v":0},null,{"$f":"+'IND2'!C$7","v":0},{"$f":"+'IND2'!C$8","v":0},"TIPO DE PERSONA JCA. -sociedad; fundación, asociación civil, etc.-:",{"$f":"+'IND2'!C175","v":0}]
[43,"R70-11/2",{"$f":"+'DATOS COMUN'!$C$3","v":0},null,{"$f":"+'IND2'!C$7","v":0},{"$f":"+'IND2'!C$8","v":0},"CARÁCTER EN LA QUE INTERVIENE -en calidad de socio, asociado, administrador, etc.-:",{"$f":"+'IND2'!C176","v":0}]
[44,"R70-11/2",{"$f":"+'DATOS COMUN'!$C$3","v":0},null,{"$f":"+'IND2'!C$7","v":0},{"$f":"+'IND2'!C$8","v":0},"CUIT -sin punto ni barras-:",{"$f":"+'IND2'!C177","v":0}]
[45,"R70-11/2",{"$f":"+'DATOS COMUN'!$C$3","v":0},null,{"$f":"+'IND2'!C$7","v":0},{"$f":"+'IND2'!C$8","v":0},"FECHA DE CONSTITUCIÓN -DD/MM/AA-:",{"$f":"+'IND2'!C178","v":0}]
[46,"R70-11/2",{"$f":"+'DATOS COMUN'!$C$3","v":0},null,{"$f":"+'IND2'!C$7","v":0},{"$f":"+'IND2'!C$8","v":0},"DOMICILIO LEGAL:",{"$f":"+'IND2'!C179","v":0}]
[47,"R70-11/2",{"$f":"+'DATOS COMUN'!$C$3","v":0},null,{"$f":"+'IND2'!C$7","v":0},{"$f":"+'IND2'!C$8","v":0},"LOCALIDAD:",{"$f":"+'IND2'!C180","v":0}]
[48,"R70-11/2",{"$f":"+'DATOS COMUN'!$C$3","v":0},null,{"$f":"+'IND2'!C$7","v":0},{"$f":"+'IND2'!C$8","v":0},"PROVINCIA/ESTADO/REGIÓN:",{"$f":"+'IND2'!C181","v":0}]
[49,"R70-11/2",{"$f":"+'DATOS COMUN'!$C$3","v":0},null,{"$f":"+'IND2'!C$7","v":0},{"$f":"+'IND2'!C$8","v":0},"PAÍS:",{"$f":"+'IND2'!C182","v":0}]
[50,"R70-11/2",{"$f":"+'DATOS COMUN'!$C$3","v":0},null,{"$f":"+'IND2'!C$7","v":0},{"$f":"+'IND2'!C$8","v":0},"CARÁCTER EN LA QUE INTERVIENE -en calidad de socio, asociado, administrador, etc.-:",{"$f":"+'IND2'!C183","v":0}]
[51,"R70-11/2",{"$f":"+'DATOS COMUN'!$C$3","v":0},null,{"$f":"+'IND2'!C$7","v":0},{"$f":"+'IND2'!C$8","v":0},"NOMBRE PERSONA JCA. QUE INTEGRA:",{"$f":"+'IND2'!C184","v":0}]
[52,"R70-11/2",{"$f":"+'DATOS COMUN'!$C$3","v":0},null,{"$f":"+'IND2'!C$7","v":0},{"$f":"+'IND2'!C$8","v":0},"TIPO DE PERSONA JCA. -sociedad; fundación, asociación civil, etc.-:",{"$f":"+'IND2'!C185","v":0}]
[53,"R70-11/2",{"$f":"+'DATOS COMUN'!$C$3","v":0},null,{"$f":"+'IND2'!C$7","v":0},{"$f":"+'IND2'!C$8","v":0},"CARÁCTER EN LA QUE INTERVIENE -en calidad de socio, asociado, administrador, etc.-:",{"$f":"+'IND2'!C186","v":0}]
[54,"R70-11/2",{"$f":"+'DATOS COMUN'!$C$3","v":0},null,{"$f":"+'IND2'!C$7","v":0},{"$f":"+'IND2'!C$8","v":0},"CUIT -sin punto ni barras-:",{"$f":"+'IND2'!C187","v":0}]
[55,"R70-11/2",{"$f":"+'DATOS COMUN'!$C$3","v":0},null,{"$f":"+'IND2'!C$7","v":0},{"$f":"+'IND2'!C$8","v":0},"FECHA DE CONSTITUCIÓN -DD/MM/AA-:",{"$f":"+'IND2'!C188","v":0}]
[56,"R70-11/2",{"$f":"+'DATOS COMUN'!$C$3","v":0},null,{"$f":"+'IND2'!C$7","v":0},{"$f":"+'IND2'!C$8","v":0},"DOMICILIO LEGAL:",{"$f":"+'IND2'!C189","v":0}]
[57,"R70-11/2",{"$f":"+'DATOS COMUN'!$C$3","v":0},null,{"$f":"+'IND2'!C$7","v":0},{"$f":"+'IND2'!C$8","v":0},"LOCALIDAD:",{"$f":"+'IND2'!C190","v":0}]
[58,"R70-11/2",{"$f":"+'DATOS COMUN'!$C$3","v":0},null,{"$f":"+'IND2'!C$7","v":0},{"$f":"+'IND2'!C$8","v":0},"PROVINCIA/ESTADO/REGIÓN:",{"$f":"+'IND2'!C191","v":0}]
[59,"R70-11/2",{"$f":"+'DATOS COMUN'!$C$3","v":0},null,{"$f":"+'IND2'!C$7","v":0},{"$f":"+'IND2'!C$8","v":0},"PAÍS:",{"$f":"+'IND2'!C192","v":0}]
[60,"R70-11/2",{"$f":"+'DATOS COMUN'!$C$3","v":0},null,{"$f":"+'IND2'!C$7","v":0},{"$f":"+'IND2'!C$8","v":0},"CARÁCTER EN LA QUE INTERVIENE -en calidad de socio, asociado, administrador, etc.-:",{"$f":"+'IND2'!C193","v":0}]
[61,"R70-11/2",{"$f":"+'DATOS COMUN'!$C$3","v":0},null,{"$f":"+'IND2'!C$7","v":0},{"$f":"+'IND2'!C$8","v":0},"NOMBRE PERSONA JCA. QUE INTEGRA:",{"$f":"+'IND2'!C194","v":0}]
[62,"R70-11/2",{"$f":"+'DATOS COMUN'!$C$3","v":0},null,{"$f":"+'IND2'!C$7","v":0},{"$f":"+'IND2'!C$8","v":0},"TIPO DE PERSONA JCA. -sociedad; fundación, asociación civil, etc.-:",{"$f":"+'IND2'!C195","v":0}]
[63,"R70-11/2",{"$f":"+'DATOS COMUN'!$C$3","v":0},null,{"$f":"+'IND2'!C$7","v":0},{"$f":"+'IND2'!C$8","v":0},"CARÁCTER EN LA QUE INTERVIENE -en calidad de socio, asociado, administrador, etc.-:",{"$f":"+'IND2'!C196","v":0}]
[64,"R70-11/2",{"$f":"+'DATOS COMUN'!$C$3","v":0},null,{"$f":"+'IND2'!C$7","v":0},{"$f":"+'IND2'!C$8","v":0},"CUIT -sin punto ni barras-:",{"$f":"+'IND2'!C197","v":0}]
[65,"R70-11/2",{"$f":"+'DATOS COMUN'!$C$3","v":0},null,{"$f":"+'IND2'!C$7","v":0},{"$f":"+'IND2'!C$8","v":0},"FECHA DE CONSTITUCIÓN -DD/MM/AA-:",{"$f":"+'IND2'!C198","v":0}]
[66,"R70-11/2",{"$f":"+'DATOS COMUN'!$C$3","v":0},null,{"$f":"+'IND2'!C$7","v":0},{"$f":"+'IND2'!C$8","v":0},"DOMICILIO LEGAL:",{"$f":"+'IND2'!C199","v":0}]
[67,"R70-11/2",{"$f":"+'DATOS COMUN'!$C$3","v":0},null,{"$f":"+'IND2'!C$7","v":0},{"$f":"+'IND2'!C$8","v":0},"LOCALIDAD:",{"$f":"+'IND2'!C200","v":0}]
[68,"R70-11/2",{"$f":"+'DATOS COMUN'!$C$3","v":0},null,{"$f":"+'IND2'!C$7","v":0},{"$f":"+'IND2'!C$8","v":0},"PROVINCIA/ESTADO/REGIÓN:",{"$f":"+'IND2'!C201","v":0}]
[69,"R70-11/2",{"$f":"+'DATOS COMUN'!$C$3","v":0},null,{"$f":"+'IND2'!C$7","v":0},{"$f":"+'IND2'!C$8","v":0},"PAÍS:",{"$f":"+'IND2'!C202","v":0}]
[70,"R70-11/2",{"$f":"+'DATOS COMUN'!$C$3","v":0},null,{"$f":"+'IND2'!C$7","v":0},{"$f":"+'IND2'!C$8","v":0},"CARÁCTER EN LA QUE INTERVIENE -en calidad de socio, asociado, administrador, etc.-:",{"$f":"+'IND2'!C203","v":0}]
[71,"R70-11/2",{"$f":"+'DATOS COMUN'!$C$3","v":0},null,{"$f":"+'IND2'!C$7","v":0},{"$f":"+'IND2'!C$8","v":0},"NOMBRE PERSONA JCA. QUE INTEGRA:",{"$f":"+'IND2'!C204","v":0}]
[72,"R70-11/2",{"$f":"+'DATOS COMUN'!$C$3","v":0},null,{"$f":"+'IND2'!C$7","v":0},{"$f":"+'IND2'!C$8","v":0},"TIPO DE PERSONA JCA. -sociedad; fundación, asociación civil, etc.-:",{"$f":"+'IND2'!C205","v":0}]
[73,"R70-11/2",{"$f":"+'DATOS COMUN'!$C$3","v":0},null,{"$f":"+'IND2'!C$7","v":0},{"$f":"+'IND2'!C$8","v":0},"CARÁCTER EN LA QUE INTERVIENE -en calidad de socio, asociado, administrador, etc.-:",{"$f":"+'IND2'!C206","v":0}]
[74,"R70-11/2",{"$f":"+'DATOS COMUN'!$C$3","v":0},null,{"$f":"+'IND2'!C$7","v":0},{"$f":"+'IND2'!C$8","v":0},"CUIT -sin punto ni barras-:",{"$f":"+'IND2'!C207","v":0}]
[75,"R70-11/2",{"$f":"+'DATOS COMUN'!$C$3","v":0},null,{"$f":"+'IND2'!C$7","v":0},{"$f":"+'IND2'!C$8","v":0},"FECHA DE CONSTITUCIÓN -DD/MM/AA-:",{"$f":"+'IND2'!C208","v":0}]
[76,"R70-11/2",{"$f":"+'DATOS COMUN'!$C$3","v":0},null,{"$f":"+'IND2'!C$7","v":0},{"$f":"+'IND2'!C$8","v":0},"DOMICILIO LEGAL:",{"$f":"+'IND2'!C209","v":0}]
[77,"R70-11/2",{"$f":"+'DATOS COMUN'!$C$3","v":0},null,{"$f":"+'IND2'!C$7","v":0},{"$f":"+'IND2'!C$8","v":0},"LOCALIDAD:",{"$f":"+'IND2'!C210","v":0}]
[78,"R70-11/2",{"$f":"+'DATOS COMUN'!$C$3","v":0},null,{"$f":"+'IND2'!C$7","v":0},{"$f":"+'IND2'!C$8","v":0},"PROVINCIA/ESTADO/REGIÓN:",{"$f":"+'IND2'!C211","v":0}]
[79,"R70-11/2",{"$f":"+'DATOS COMUN'!$C$3","v":0},null,{"$f":"+'IND2'!C$7","v":0},{"$f":"+'IND2'!C$8","v":0},"PAÍS:",{"$f":"+'IND2'!C212","v":0}]
[80,"R70-11/2",{"$f":"+'DATOS COMUN'!$C$3","v":0},null,{"$f":"+'IND2'!C$7","v":0},{"$f":"+'IND2'!C$8","v":0},"CARÁCTER EN LA QUE INTERVIENE -en calidad de socio, asociado, administrador, etc.-:",{"$f":"+'IND2'!C213","v":0}]
[81,"R70-11/2",{"$f":"+'DATOS COMUN'!$C$3","v":0},null,{"$f":"+'IND2'!C$7","v":0},{"$f":"+'IND2'!C$8","v":0},"NOMBRE PERSONA JCA. QUE INTEGRA:",{"$f":"+'IND2'!C214","v":0}]
[82,"R70-11/2",{"$f":"+'DATOS COMUN'!$C$3","v":0},null,{"$f":"+'IND2'!C$7","v":0},{"$f":"+'IND2'!C$8","v":0},"TIPO DE PERSONA JCA. -sociedad; fundación, asociación civil, etc.-:",{"$f":"+'IND2'!C215","v":0}]
[83,"R70-11/2",{"$f":"+'DATOS COMUN'!$C$3","v":0},null,{"$f":"+'IND2'!C$7","v":0},{"$f":"+'IND2'!C$8","v":0},"CARÁCTER EN LA QUE INTERVIENE -en calidad de socio, asociado, administrador, etc.-:",{"$f":"+'IND2'!C216","v":0}]
[84,"R70-11/2",{"$f":"+'DATOS COMUN'!$C$3","v":0},null,{"$f":"+'IND2'!C$7","v":0},{"$f":"+'IND2'!C$8","v":0},"CUIT -sin punto ni barras-:",{"$f":"+'IND2'!C217","v":0}]
[85,"R70-11/2",{"$f":"+'DATOS COMUN'!$C$3","v":0},null,{"$f":"+'IND2'!C$7","v":0},{"$f":"+'IND2'!C$8","v":0},"FECHA DE CONSTITUCIÓN -DD/MM/AA-:",{"$f":"+'IND2'!C218","v":0}]
[86,"R70-11/2",{"$f":"+'DATOS COMUN'!$C$3","v":0},null,{"$f":"+'IND2'!C$7","v":0},{"$f":"+'IND2'!C$8","v":0},"DOMICILIO LEGAL:",{"$f":"+'IND2'!C219","v":0}]
[87,"R70-11/2",{"$f":"+'DATOS COMUN'!$C$3","v":0},null,{"$f":"+'IND2'!C$7","v":0},{"$f":"+'IND2'!C$8","v":0},"LOCALIDAD:",{"$f":"+'IND2'!C220","v":0}]
[88,"R70-11/2",{"$f":"+'DATOS COMUN'!$C$3","v":0},null,{"$f":"+'IND2'!C$7","v":0},{"$f":"+'IND2'!C$8","v":0},"PROVINCIA/ESTADO/REGIÓN:",{"$f":"+'IND2'!C221","v":0}]
[89,"R70-11/2",{"$f":"+'DATOS COMUN'!$C$3","v":0},null,{"$f":"+'IND2'!C$7","v":0},{"$f":"+'IND2'!C$8","v":0},"PAÍS:",{"$f":"+'IND2'!C222","v":0}]
[90,"R70-11/2",{"$f":"+'DATOS COMUN'!$C$3","v":0},null,{"$f":"+'IND2'!C$7","v":0},{"$f":"+'IND2'!C$8","v":0},"CARÁCTER EN LA QUE INTERVIENE -en calidad de socio, asociado, administrador, etc.-:",{"$f":"+'IND2'!C223","v":0}]
[91,"R70-11/2",{"$f":"+'DATOS COMUN'!$C$3","v":0},null,{"$f":"+'IND2'!C$7","v":0},{"$f":"+'IND2'!C$8","v":0},"NOMBRE PERSONA JCA. QUE INTEGRA:",{"$f":"+'IND2'!C224","v":0}]
[92,"R70-11/2",{"$f":"+'DATOS COMUN'!$C$3","v":0},null,{"$f":"+'IND2'!C$7","v":0},{"$f":"+'IND2'!C$8","v":0},"TIPO DE PERSONA JCA. -sociedad; fundación, asociación civil, etc.-:",{"$f":"+'IND2'!C225","v":0}]
[93,"R70-11/2",{"$f":"+'DATOS COMUN'!$C$3","v":0},null,{"$f":"+'IND2'!C$7","v":0},{"$f":"+'IND2'!C$8","v":0},"CARÁCTER EN LA QUE INTERVIENE -en calidad de socio, asociado, administrador, etc.-:",{"$f":"+'IND2'!C226","v":0}]
[94,"R70-11/2",{"$f":"+'DATOS COMUN'!$C$3","v":0},null,{"$f":"+'IND2'!C$7","v":0},{"$f":"+'IND2'!C$8","v":0},"CUIT -sin punto ni barras-:",{"$f":"+'IND2'!C227","v":0}]
[95,"R70-11/2",{"$f":"+'DATOS COMUN'!$C$3","v":0},null,{"$f":"+'IND2'!C$7","v":0},{"$f":"+'IND2'!C$8","v":0},"FECHA DE CONSTITUCIÓN -DD/MM/AA-:",{"$f":"+'IND2'!C228","v":0}]
[96,"R70-11/2",{"$f":"+'DATOS COMUN'!$C$3","v":0},null,{"$f":"+'IND2'!C$7","v":0},{"$f":"+'IND2'!C$8","v":0},"DOMICILIO LEGAL:",{"$f":"+'IND2'!C229","v":0}]
[97,"R70-11/2",{"$f":"+'DATOS COMUN'!$C$3","v":0},null,{"$f":"+'IND2'!C$7","v":0},{"$f":"+'IND2'!C$8","v":0},"LOCALIDAD:",{"$f":"+'IND2'!C230","v":0}]
[98,"R70-11/2",{"$f":"+'DATOS COMUN'!$C$3","v":0},null,{"$f":"+'IND2'!C$7","v":0},{"$f":"+'IND2'!C$8","v":0},"PROVINCIA/ESTADO/REGIÓN:",{"$f":"+'IND2'!C231","v":0}]
[99,"R70-11/2",{"$f":"+'DATOS COMUN'!$C$3","v":0},null,{"$f":"+'IND2'!C$7","v":0},{"$f":"+'IND2'!C$8","v":0},"PAÍS:",{"$f":"+'IND2'!C232","v":0}]
[100,"R70-11/2",{"$f":"+'DATOS COMUN'!$C$3","v":0},null,{"$f":"+'IND2'!C$7","v":0},{"$f":"+'IND2'!C$8","v":0},"CARÁCTER EN LA QUE INTERVIENE -en calidad de socio, asociado, administrador, etc.-:",{"$f":"+'IND2'!C233","v":0}]
[101,"R70-11/2",{"$f":"+'DATOS COMUN'!$C$3","v":0},null,{"$f":"+'IND2'!C$7","v":0},{"$f":"+'IND2'!C$8","v":0},"NOMBRE PERSONA JCA. QUE INTEGRA:",{"$f":"+'IND2'!C234","v":0}]
[102,"R70-11/2",{"$f":"+'DATOS COMUN'!$C$3","v":0},null,{"$f":"+'IND2'!C$7","v":0},{"$f":"+'IND2'!C$8","v":0},"TIPO DE PERSONA JCA. -sociedad; fundación, asociación civil, etc.-:",{"$f":"+'IND2'!C235","v":0}]
[103,"R70-11/2",{"$f":"+'DATOS COMUN'!$C$3","v":0},null,{"$f":"+'IND2'!C$7","v":0},{"$f":"+'IND2'!C$8","v":0},"CARÁCTER EN LA QUE INTERVIENE -en calidad de socio, asociado, administrador, etc.-:",{"$f":"+'IND2'!C236","v":0}]
[104,"R70-11/2",{"$f":"+'DATOS COMUN'!$C$3","v":0},null,{"$f":"+'IND2'!C$7","v":0},{"$f":"+'IND2'!C$8","v":0},"CUIT -sin punto ni barras-:",{"$f":"+'IND2'!C237","v":0}]
[105,"R70-11/2",{"$f":"+'DATOS COMUN'!$C$3","v":0},null,{"$f":"+'IND2'!C$7","v":0},{"$f":"+'IND2'!C$8","v":0},"FECHA DE CONSTITUCIÓN -DD/MM/AA-:",{"$f":"+'IND2'!C238","v":0}]
[106,"R70-11/2",{"$f":"+'DATOS COMUN'!$C$3","v":0},null,{"$f":"+'IND2'!C$7","v":0},{"$f":"+'IND2'!C$8","v":0},"DOMICILIO LEGAL:",{"$f":"+'IND2'!C239","v":0}]
[107,"R70-11/2",{"$f":"+'DATOS COMUN'!$C$3","v":0},null,{"$f":"+'IND2'!C$7","v":0},{"$f":"+'IND2'!C$8","v":0},"LOCALIDAD:",{"$f":"+'IND2'!C240","v":0}]
[108,"R70-11/2",{"$f":"+'DATOS COMUN'!$C$3","v":0},null,{"$f":"+'IND2'!C$7","v":0},{"$f":"+'IND2'!C$8","v":0},"PROVINCIA/ESTADO/REGIÓN:",{"$f":"+'IND2'!C241","v":0}]
[109,"R70-11/2",{"$f":"+'DATOS COMUN'!$C$3","v":0},null,{"$f":"+'IND2'!C$7","v":0},{"$f":"+'IND2'!C$8","v":0},"PAÍS:",{"$f":"+'IND2'!C242","v":0}]
[110,"R70-11/2",{"$f":"+'DATOS COMUN'!$C$3","v":0},null,{"$f":"+'IND2'!C$7","v":0},{"$f":"+'IND2'!C$8","v":0},"CARÁCTER EN LA QUE INTERVIENE -en calidad de socio, asociado, administrador, etc.-:",{"$f":"+'IND2'!C243","v":0}]
[111,"R70-11/2",{"$f":"+'DATOS COMUN'!$C$3","v":0},null,{"$f":"+'IND2'!C$7","v":0},{"$f":"+'IND2'!C$8","v":0},"NOMBRE PERSONA JCA. QUE INTEGRA:",{"$f":"+'IND2'!C244","v":0}]
[112,"R70-11/2",{"$f":"+'DATOS COMUN'!$C$3","v":0},null,{"$f":"+'IND2'!C$7","v":0},{"$f":"+'IND2'!C$8","v":0},"TIPO DE PERSONA JCA. -sociedad; fundación, asociación civil, etc.-:",{"$f":"+'IND2'!C245","v":0}]
[113,"R70-11/2",{"$f":"+'DATOS COMUN'!$C$3","v":0},null,{"$f":"+'IND2'!C$7","v":0},{"$f":"+'IND2'!C$8","v":0},"CARÁCTER EN LA QUE INTERVIENE -en calidad de socio, asociado, administrador, etc.-:",{"$f":"+'IND2'!C246","v":0}]
[114,"R70-11/2",{"$f":"+'DATOS COMUN'!$C$3","v":0},null,{"$f":"+'IND2'!C$7","v":0},{"$f":"+'IND2'!C$8","v":0},"CUIT -sin punto ni barras-:",{"$f":"+'IND2'!C247","v":0}]
[115,"R70-11/2",{"$f":"+'DATOS COMUN'!$C$3","v":0},null,{"$f":"+'IND2'!C$7","v":0},{"$f":"+'IND2'!C$8","v":0},"FECHA DE CONSTITUCIÓN -DD/MM/AA-:",{"$f":"+'IND2'!C248","v":0}]
[116,"R70-11/2",{"$f":"+'DATOS COMUN'!$C$3","v":0},null,{"$f":"+'IND2'!C$7","v":0},{"$f":"+'IND2'!C$8","v":0},"DOMICILIO LEGAL:",{"$f":"+'IND2'!C249","v":0}]
[117,"R70-11/2",{"$f":"+'DATOS COMUN'!$C$3","v":0},null,{"$f":"+'IND2'!C$7","v":0},{"$f":"+'IND2'!C$8","v":0},"LOCALIDAD:",{"$f":"+'IND2'!C250","v":0}]
[118,"R70-11/2",{"$f":"+'DATOS COMUN'!$C$3","v":0},null,{"$f":"+'IND2'!C$7","v":0},{"$f":"+'IND2'!C$8","v":0},"PROVINCIA/ESTADO/REGIÓN:",{"$f":"+'IND2'!C251","v":0}]
[119,"R70-11/2",{"$f":"+'DATOS COMUN'!$C$3","v":0},null,{"$f":"+'IND2'!C$7","v":0},{"$f":"+'IND2'!C$8","v":0},"PAÍS:",{"$f":"+'IND2'!C252","v":0}]
[120,"R70-11/2",{"$f":"+'DATOS COMUN'!$C$3","v":0},null,{"$f":"+'IND2'!C$7","v":0},{"$f":"+'IND2'!C$8","v":0},"CARÁCTER EN LA QUE INTERVIENE -en calidad de socio, asociado, administrador, etc.-:",{"$f":"+'IND2'!C253","v":0}]
[1,"R70-11/2",{"$f":"+'DATOS COMUN'!$C$3","v":0},null,{"$f":"+'IND3'!C$7","v":0},{"$f":"+'IND3'!C$8","v":0},"NOMBRE PERSONA JCA. QUE INTEGRA:",{"$f":"+'IND3'!C254","v":0},null,null,null,null,null,null,null,null,null,null,{"$f":"IF(AND(B307=B306,C307=C306,E307=E306,F307=F306,G307=G306,H307=H306),\"IGUAL\",\"\")","v":""},{"$f":"IF(H307=\"<<<<>>>>NO COMPLETADO\",1,0)","v":0}]
[2,"R70-11/2",{"$f":"+'DATOS COMUN'!$C$3","v":0},null,{"$f":"+'IND3'!C$7","v":0},{"$f":"+'IND3'!C$8","v":0},"TIPO DE PERSONA JCA. -sociedad; fundación, asociación civil, etc.-:",{"$f":"+'IND3'!C255","v":0},null,null,null,null,null,null,null,null,null,null,"",0]
[3,"R70-11/2",{"$f":"+'DATOS COMUN'!$C$3","v":0},null,{"$f":"+'IND3'!C$7","v":0},{"$f":"+'IND3'!C$8","v":0},"CARÁCTER EN LA QUE INTERVIENE -en calidad de socio, asociado, administrador, etc.-:",{"$f":"+'IND3'!C256","v":0},null,null,null,null,null,null,null,null,null,null,"",0]
[4,"R70-11/2",{"$f":"+'DATOS COMUN'!$C$3","v":0},null,{"$f":"+'IND3'!C$7","v":0},{"$f":"+'IND3'!C$8","v":0},"CUIT -sin punto ni barras-:",{"$f":"+'IND3'!C257","v":0},null,null,null,null,null,null,null,null,null,null,"",0]
[5,"R70-11/2",{"$f":"+'DATOS COMUN'!$C$3","v":0},null,{"$f":"+'IND3'!C$7","v":0},{"$f":"+'IND3'!C$8","v":0},"FECHA DE CONSTITUCIÓN -DD/MM/AA-:",{"$f":"+'IND3'!C258","v":0},null,null,null,null,null,null,null,null,null,null,"",0]
[6,"R70-11/2",{"$f":"+'DATOS COMUN'!$C$3","v":0},null,{"$f":"+'IND3'!C$7","v":0},{"$f":"+'IND3'!C$8","v":0},"DOMICILIO LEGAL:",{"$f":"+'IND3'!C259","v":0},null,null,null,null,null,null,null,null,null,null,"",0]
[7,"R70-11/2",{"$f":"+'DATOS COMUN'!$C$3","v":0},null,{"$f":"+'IND3'!C$7","v":0},{"$f":"+'IND3'!C$8","v":0},"LOCALIDAD:",{"$f":"+'IND3'!C260","v":0},null,null,null,null,null,null,null,null,null,null,"",0]
[8,"R70-11/2",{"$f":"+'DATOS COMUN'!$C$3","v":0},null,{"$f":"+'IND3'!C$7","v":0},{"$f":"+'IND3'!C$8","v":0},"PROVINCIA/ESTADO/REGIÓN:",{"$f":"+'IND3'!C261","v":0},null,null,null,null,null,null,null,null,null,null,"",0]
[9,"R70-11/2",{"$f":"+'DATOS COMUN'!$C$3","v":0},null,{"$f":"+'IND3'!C$7","v":0},{"$f":"+'IND3'!C$8","v":0},"PAÍS:",{"$f":"+'IND3'!C262","v":0},null,null,null,null,null,null,null,null,null,null,"",0]
[10,"R70-11/2",{"$f":"+'DATOS COMUN'!$C$3","v":0},null,{"$f":"+'IND3'!C$7","v":0},{"$f":"+'IND3'!C$8","v":0},"CARÁCTER EN LA QUE INTERVIENE -en calidad de socio, asociado, administrador, etc.-:",{"$f":"+'IND3'!C263","v":0},null,null,null,null,null,null,null,null,null,null,"",0]
[11,"R70-11/2",{"$f":"+'DATOS COMUN'!$C$3","v":0},null,{"$f":"+'IND3'!C$7","v":0},{"$f":"+'IND3'!C$8","v":0},"NOMBRE PERSONA JCA. QUE INTEGRA:",{"$f":"+'IND3'!C264","v":0},null,null,null,null,null,null,null,null,null,null,"",0]
[12,"R70-11/2",{"$f":"+'DATOS COMUN'!$C$3","v":0},null,{"$f":"+'IND3'!C$7","v":0},{"$f":"+'IND3'!C$8","v":0},"TIPO DE PERSONA JCA. -sociedad; fundación, asociación civil, etc.-:",{"$f":"+'IND3'!C265","v":0},null,null,null,null,null,null,null,null,null,null,"",0]
[13,"R70-11/2",{"$f":"+'DATOS COMUN'!$C$3","v":0},null,{"$f":"+'IND3'!C$7","v":0},{"$f":"+'IND3'!C$8","v":0},"CARÁCTER EN LA QUE INTERVIENE -en calidad de socio, asociado, administrador, etc.-:",{"$f":"+'IND3'!C266","v":0},null,null,null,null,null,null,null,null,null,null,"",0]
[14,"R70-11/2",{"$f":"+'DATOS COMUN'!$C$3","v":0},null,{"$f":"+'IND3'!C$7","v":0},{"$f":"+'IND3'!C$8","v":0},"CUIT -sin punto ni barras-:",{"$f":"+'IND3'!C267","v":0},null,null,null,null,null,null,null,null,null,null,"",0]
[15,"R70-11/2",{"$f":"+'DATOS COMUN'!$C$3","v":0},null,{"$f":"+'IND3'!C$7","v":0},{"$f":"+'IND3'!C$8","v":0},"FECHA DE CONSTITUCIÓN -DD/MM/AA-:",{"$f":"+'IND3'!C268","v":0},null,null,null,null,null,null,null,null,null,null,"",0]
[16,"R70-11/2",{"$f":"+'DATOS COMUN'!$C$3","v":0},null,{"$f":"+'IND3'!C$7","v":0},{"$f":"+'IND3'!C$8","v":0},"DOMICILIO LEGAL:",{"$f":"+'IND3'!C269","v":0},null,null,null,null,null,null,null,null,null,null,"",0]
[17,"R70-11/2",{"$f":"+'DATOS COMUN'!$C$3","v":0},null,{"$f":"+'IND3'!C$7","v":0},{"$f":"+'IND3'!C$8","v":0},"LOCALIDAD:",{"$f":"+'IND3'!C270","v":0},null,null,null,null,null,null,null,null,null,null,"",0]
[18,"R70-11/2",{"$f":"+'DATOS COMUN'!$C$3","v":0},null,{"$f":"+'IND3'!C$7","v":0},{"$f":"+'IND3'!C$8","v":0},"PROVINCIA/ESTADO/REGIÓN:",{"$f":"+'IND3'!C271","v":0},null,null,null,null,null,null,null,null,null,null,"",0]
[19,"R70-11/2",{"$f":"+'DATOS COMUN'!$C$3","v":0},null,{"$f":"+'IND3'!C$7","v":0},{"$f":"+'IND3'!C$8","v":0},"PAÍS:",{"$f":"+'IND3'!C272","v":0}]
[20,"R70-11/2",{"$f":"+'DATOS COMUN'!$C$3","v":0},null,{"$f":"+'IND3'!C$7","v":0},{"$f":"+'IND3'!C$8","v":0},"CARÁCTER EN LA QUE INTERVIENE -en calidad de socio, asociado, administrador, etc.-:",{"$f":"+'IND3'!C273","v":0}]
[21,"R70-11/2",{"$f":"+'DATOS COMUN'!$C$3","v":0},null,{"$f":"+'IND3'!C$7","v":0},{"$f":"+'IND3'!C$8","v":0},"NOMBRE PERSONA JCA. QUE INTEGRA:",{"$f":"+'IND3'!C274","v":0}]
[22,"R70-11/2",{"$f":"+'DATOS COMUN'!$C$3","v":0},null,{"$f":"+'IND3'!C$7","v":0},{"$f":"+'IND3'!C$8","v":0},"TIPO DE PERSONA JCA. -sociedad; fundación, asociación civil, etc.-:",{"$f":"+'IND3'!C275","v":0}]
[23,"R70-11/2",{"$f":"+'DATOS COMUN'!$C$3","v":0},null,{"$f":"+'IND3'!C$7","v":0},{"$f":"+'IND3'!C$8","v":0},"CARÁCTER EN LA QUE INTERVIENE -en calidad de socio, asociado, administrador, etc.-:",{"$f":"+'IND3'!C276","v":0}]
[24,"R70-11/2",{"$f":"+'DATOS COMUN'!$C$3","v":0},null,{"$f":"+'IND3'!C$7","v":0},{"$f":"+'IND3'!C$8","v":0},"CUIT -sin punto ni barras-:",{"$f":"+'IND3'!C277","v":0}]
[25,"R70-11/2",{"$f":"+'DATOS COMUN'!$C$3","v":0},null,{"$f":"+'IND3'!C$7","v":0},{"$f":"+'IND3'!C$8","v":0},"FECHA DE CONSTITUCIÓN -DD/MM/AA-:",{"$f":"+'IND3'!C278","v":0}]
[26,"R70-11/2",{"$f":"+'DATOS COMUN'!$C$3","v":0},null,{"$f":"+'IND3'!C$7","v":0},{"$f":"+'IND3'!C$8","v":0},"DOMICILIO LEGAL:",{"$f":"+'IND3'!C279","v":0}]
[27,"R70-11/2",{"$f":"+'DATOS COMUN'!$C$3","v":0},null,{"$f":"+'IND3'!C$7","v":0},{"$f":"+'IND3'!C$8","v":0},"LOCALIDAD:",{"$f":"+'IND3'!C280","v":0}]
[28,"R70-11/2",{"$f":"+'DATOS COMUN'!$C$3","v":0},null,{"$f":"+'IND3'!C$7","v":0},{"$f":"+'IND3'!C$8","v":0},"PROVINCIA/ESTADO/REGIÓN:",{"$f":"+'IND3'!C281","v":0}]
[29,"R70-11/2",{"$f":"+'DATOS COMUN'!$C$3","v":0},null,{"$f":"+'IND3'!C$7","v":0},{"$f":"+'IND3'!C$8","v":0},"PAÍS:",{"$f":"+'IND3'!C282","v":0}]
[30,"R70-11/2",{"$f":"+'DATOS COMUN'!$C$3","v":0},null,{"$f":"+'IND3'!C$7","v":0},{"$f":"+'IND3'!C$8","v":0},"CARÁCTER EN LA QUE INTERVIENE -en calidad de socio, asociado, administrador, etc.-:",{"$f":"+'IND3'!C283","v":0}]
[31,"R70-11/2",{"$f":"+'DATOS COMUN'!$C$3","v":0},null,{"$f":"+'IND3'!C$7","v":0},{"$f":"+'IND3'!C$8","v":0},"NOMBRE PERSONA JCA. QUE INTEGRA:",{"$f":"+'IND3'!C284","v":0}]
[32,"R70-11/2",{"$f":"+'DATOS COMUN'!$C$3","v":0},null,{"$f":"+'IND3'!C$7","v":0},{"$f":"+'IND3'!C$8","v":0},"TIPO DE PERSONA JCA. -sociedad; fundación, asociación civil, etc.-:",{"$f":"+'IND3'!C285","v":0}]
[33,"R70-11/2",{"$f":"+'DATOS COMUN'!$C$3","v":0},null,{"$f":"+'IND3'!C$7","v":0},{"$f":"+'IND3'!C$8","v":0},"CARÁCTER EN LA QUE INTERVIENE -en calidad de socio, asociado, administrador, etc.-:",{"$f":"+'IND3'!C286","v":0}]
[34,"R70-11/2",{"$f":"+'DATOS COMUN'!$C$3","v":0},null,{"$f":"+'IND3'!C$7","v":0},{"$f":"+'IND3'!C$8","v":0},"CUIT -sin punto ni barras-:",{"$f":"+'IND3'!C287","v":0}]
[35,"R70-11/2",{"$f":"+'DATOS COMUN'!$C$3","v":0},null,{"$f":"+'IND3'!C$7","v":0},{"$f":"+'IND3'!C$8","v":0},"FECHA DE CONSTITUCIÓN -DD/MM/AA-:",{"$f":"+'IND3'!C288","v":0}]
[36,"R70-11/2",{"$f":"+'DATOS COMUN'!$C$3","v":0},null,{"$f":"+'IND3'!C$7","v":0},{"$f":"+'IND3'!C$8","v":0},"DOMICILIO LEGAL:",{"$f":"+'IND3'!C289","v":0}]
[37,"R70-11/2",{"$f":"+'DATOS COMUN'!$C$3","v":0},null,{"$f":"+'IND3'!C$7","v":0},{"$f":"+'IND3'!C$8","v":0},"LOCALIDAD:",{"$f":"+'IND3'!C290","v":0}]
[38,"R70-11/2",{"$f":"+'DATOS COMUN'!$C$3","v":0},null,{"$f":"+'IND3'!C$7","v":0},{"$f":"+'IND3'!C$8","v":0},"PROVINCIA/ESTADO/REGIÓN:",{"$f":"+'IND3'!C291","v":0}]
[39,"R70-11/2",{"$f":"+'DATOS COMUN'!$C$3","v":0},null,{"$f":"+'IND3'!C$7","v":0},{"$f":"+'IND3'!C$8","v":0},"PAÍS:",{"$f":"+'IND3'!C292","v":0}]
[40,"R70-11/2",{"$f":"+'DATOS COMUN'!$C$3","v":0},null,{"$f":"+'IND3'!C$7","v":0},{"$f":"+'IND3'!C$8","v":0},"CARÁCTER EN LA QUE INTERVIENE -en calidad de socio, asociado, administrador, etc.-:",{"$f":"+'IND3'!C293","v":0}]
[41,"R70-11/2",{"$f":"+'DATOS COMUN'!$C$3","v":0},null,{"$f":"+'IND3'!C$7","v":0},{"$f":"+'IND3'!C$8","v":0},"NOMBRE PERSONA JCA. QUE INTEGRA:",{"$f":"+'IND3'!C294","v":0}]
[42,"R70-11/2",{"$f":"+'DATOS COMUN'!$C$3","v":0},null,{"$f":"+'IND3'!C$7","v":0},{"$f":"+'IND3'!C$8","v":0},"TIPO DE PERSONA JCA. -sociedad; fundación, asociación civil, etc.-:",{"$f":"+'IND3'!C295","v":0}]
[43,"R70-11/2",{"$f":"+'DATOS COMUN'!$C$3","v":0},null,{"$f":"+'IND3'!C$7","v":0},{"$f":"+'IND3'!C$8","v":0},"CARÁCTER EN LA QUE INTERVIENE -en calidad de socio, asociado, administrador, etc.-:",{"$f":"+'IND3'!C296","v":0}]
[44,"R70-11/2",{"$f":"+'DATOS COMUN'!$C$3","v":0},null,{"$f":"+'IND3'!C$7","v":0},{"$f":"+'IND3'!C$8","v":0},"CUIT -sin punto ni barras-:",{"$f":"+'IND3'!C297","v":0}]
[45,"R70-11/2",{"$f":"+'DATOS COMUN'!$C$3","v":0},null,{"$f":"+'IND3'!C$7","v":0},{"$f":"+'IND3'!C$8","v":0},"FECHA DE CONSTITUCIÓN -DD/MM/AA-:",{"$f":"+'IND3'!C298","v":0}]
[46,"R70-11/2",{"$f":"+'DATOS COMUN'!$C$3","v":0},null,{"$f":"+'IND3'!C$7","v":0},{"$f":"+'IND3'!C$8","v":0},"DOMICILIO LEGAL:",{"$f":"+'IND3'!C299","v":0}]
[47,"R70-11/2",{"$f":"+'DATOS COMUN'!$C$3","v":0},null,{"$f":"+'IND3'!C$7","v":0},{"$f":"+'IND3'!C$8","v":0},"LOCALIDAD:",{"$f":"+'IND3'!C300","v":0}]
[48,"R70-11/2",{"$f":"+'DATOS COMUN'!$C$3","v":0},null,{"$f":"+'IND3'!C$7","v":0},{"$f":"+'IND3'!C$8","v":0},"PROVINCIA/ESTADO/REGIÓN:",{"$f":"+'IND3'!C301","v":0}]
[49,"R70-11/2",{"$f":"+'DATOS COMUN'!$C$3","v":0},null,{"$f":"+'IND3'!C$7","v":0},{"$f":"+'IND3'!C$8","v":0},"PAÍS:",{"$f":"+'IND3'!C302","v":0}]
[50,"R70-11/2",{"$f":"+'DATOS COMUN'!$C$3","v":0},null,{"$f":"+'IND3'!C$7","v":0},{"$f":"+'IND3'!C$8","v":0},"CARÁCTER EN LA QUE INTERVIENE -en calidad de socio, asociado, administrador, etc.-:",{"$f":"+'IND3'!C303","v":0}]
[51,"R70-11/2",{"$f":"+'DATOS COMUN'!$C$3","v":0},null,{"$f":"+'IND3'!C$7","v":0},{"$f":"+'IND3'!C$8","v":0},"NOMBRE PERSONA JCA. QUE INTEGRA:",{"$f":"+'IND3'!C304","v":0}]
[52,"R70-11/2",{"$f":"+'DATOS COMUN'!$C$3","v":0},null,{"$f":"+'IND3'!C$7","v":0},{"$f":"+'IND3'!C$8","v":0},"TIPO DE PERSONA JCA. -sociedad; fundación, asociación civil, etc.-:",{"$f":"+'IND3'!C305","v":0}]
[53,"R70-11/2",{"$f":"+'DATOS COMUN'!$C$3","v":0},null,{"$f":"+'IND3'!C$7","v":0},{"$f":"+'IND3'!C$8","v":0},"CARÁCTER EN LA QUE INTERVIENE -en calidad de socio, asociado, administrador, etc.-:",{"$f":"+'IND3'!C306","v":0}]
[54,"R70-11/2",{"$f":"+'DATOS COMUN'!$C$3","v":0},null,{"$f":"+'IND3'!C$7","v":0},{"$f":"+'IND3'!C$8","v":0},"CUIT -sin punto ni barras-:",{"$f":"+'IND3'!C307","v":0}]
[55,"R70-11/2",{"$f":"+'DATOS COMUN'!$C$3","v":0},null,{"$f":"+'IND3'!C$7","v":0},{"$f":"+'IND3'!C$8","v":0},"FECHA DE CONSTITUCIÓN -DD/MM/AA-:",{"$f":"+'IND3'!C308","v":0}]
[56,"R70-11/2",{"$f":"+'DATOS COMUN'!$C$3","v":0},null,{"$f":"+'IND3'!C$7","v":0},{"$f":"+'IND3'!C$8","v":0},"DOMICILIO LEGAL:",{"$f":"+'IND3'!C309","v":0}]
[57,"R70-11/2",{"$f":"+'DATOS COMUN'!$C$3","v":0},null,{"$f":"+'IND3'!C$7","v":0},{"$f":"+'IND3'!C$8","v":0},"LOCALIDAD:",{"$f":"+'IND3'!C310","v":0}]
[58,"R70-11/2",{"$f":"+'DATOS COMUN'!$C$3","v":0},null,{"$f":"+'IND3'!C$7","v":0},{"$f":"+'IND3'!C$8","v":0},"PROVINCIA/ESTADO/REGIÓN:",{"$f":"+'IND3'!C311","v":0}]
[59,"R70-11/2",{"$f":"+'DATOS COMUN'!$C$3","v":0},null,{"$f":"+'IND3'!C$7","v":0},{"$f":"+'IND3'!C$8","v":0},"PAÍS:",{"$f":"+'IND3'!C312","v":0}]
[60,"R70-11/2",{"$f":"+'DATOS COMUN'!$C$3","v":0},null,{"$f":"+'IND3'!C$7","v":0},{"$f":"+'IND3'!C$8","v":0},"CARÁCTER EN LA QUE INTERVIENE -en calidad de socio, asociado, administrador, etc.-:",{"$f":"+'IND3'!C313","v":0}]
[61,"R70-11/2",{"$f":"+'DATOS COMUN'!$C$3","v":0},null,{"$f":"+'IND3'!C$7","v":0},{"$f":"+'IND3'!C$8","v":0},"NOMBRE PERSONA JCA. QUE INTEGRA:",{"$f":"+'IND3'!C314","v":0}]
[62,"R70-11/2",{"$f":"+'DATOS COMUN'!$C$3","v":0},null,{"$f":"+'IND3'!C$7","v":0},{"$f":"+'IND3'!C$8","v":0},"TIPO DE PERSONA JCA. -sociedad; fundación, asociación civil, etc.-:",{"$f":"+'IND3'!C315","v":0}]
[63,"R70-11/2",{"$f":"+'DATOS COMUN'!$C$3","v":0},null,{"$f":"+'IND3'!C$7","v":0},{"$f":"+'IND3'!C$8","v":0},"CARÁCTER EN LA QUE INTERVIENE -en calidad de socio, asociado, administrador, etc.-:",{"$f":"+'IND3'!C316","v":0}]
[64,"R70-11/2",{"$f":"+'DATOS COMUN'!$C$3","v":0},null,{"$f":"+'IND3'!C$7","v":0},{"$f":"+'IND3'!C$8","v":0},"CUIT -sin punto ni barras-:",{"$f":"+'IND3'!C317","v":0}]
[65,"R70-11/2",{"$f":"+'DATOS COMUN'!$C$3","v":0},null,{"$f":"+'IND3'!C$7","v":0},{"$f":"+'IND3'!C$8","v":0},"FECHA DE CONSTITUCIÓN -DD/MM/AA-:",{"$f":"+'IND3'!C318","v":0}]
[66,"R70-11/2",{"$f":"+'DATOS COMUN'!$C$3","v":0},null,{"$f":"+'IND3'!C$7","v":0},{"$f":"+'IND3'!C$8","v":0},"DOMICILIO LEGAL:",{"$f":"+'IND3'!C319","v":0}]
[67,"R70-11/2",{"$f":"+'DATOS COMUN'!$C$3","v":0},null,{"$f":"+'IND3'!C$7","v":0},{"$f":"+'IND3'!C$8","v":0},"LOCALIDAD:",{"$f":"+'IND3'!C320","v":0}]
[68,"R70-11/2",{"$f":"+'DATOS COMUN'!$C$3","v":0},null,{"$f":"+'IND3'!C$7","v":0},{"$f":"+'IND3'!C$8","v":0},"PROVINCIA/ESTADO/REGIÓN:",{"$f":"+'IND3'!C321","v":0}]
[69,"R70-11/2",{"$f":"+'DATOS COMUN'!$C$3","v":0},null,{"$f":"+'IND3'!C$7","v":0},{"$f":"+'IND3'!C$8","v":0},"PAÍS:",{"$f":"+'IND3'!C322","v":0}]
[70,"R70-11/2",{"$f":"+'DATOS COMUN'!$C$3","v":0},null,{"$f":"+'IND3'!C$7","v":0},{"$f":"+'IND3'!C$8","v":0},"CARÁCTER EN LA QUE INTERVIENE -en calidad de socio, asociado, administrador, etc.-:",{"$f":"+'IND3'!C323","v":0}]
[71,"R70-11/2",{"$f":"+'DATOS COMUN'!$C$3","v":0},null,{"$f":"+'IND3'!C$7","v":0},{"$f":"+'IND3'!C$8","v":0},"NOMBRE PERSONA JCA. QUE INTEGRA:",{"$f":"+'IND3'!C324","v":0}]
[72,"R70-11/2",{"$f":"+'DATOS COMUN'!$C$3","v":0},null,{"$f":"+'IND3'!C$7","v":0},{"$f":"+'IND3'!C$8","v":0},"TIPO DE PERSONA JCA. -sociedad; fundación, asociación civil, etc.-:",{"$f":"+'IND3'!C325","v":0}]
[73,"R70-11/2",{"$f":"+'DATOS COMUN'!$C$3","v":0},null,{"$f":"+'IND3'!C$7","v":0},{"$f":"+'IND3'!C$8","v":0},"CARÁCTER EN LA QUE INTERVIENE -en calidad de socio, asociado, administrador, etc.-:",{"$f":"+'IND3'!C326","v":0}]
[74,"R70-11/2",{"$f":"+'DATOS COMUN'!$C$3","v":0},null,{"$f":"+'IND3'!C$7","v":0},{"$f":"+'IND3'!C$8","v":0},"CUIT -sin punto ni barras-:",{"$f":"+'IND3'!C327","v":0}]
[75,"R70-11/2",{"$f":"+'DATOS COMUN'!$C$3","v":0},null,{"$f":"+'IND3'!C$7","v":0},{"$f":"+'IND3'!C$8","v":0},"FECHA DE CONSTITUCIÓN -DD/MM/AA-:",{"$f":"+'IND3'!C328","v":0}]
[76,"R70-11/2",{"$f":"+'DATOS COMUN'!$C$3","v":0},null,{"$f":"+'IND3'!C$7","v":0},{"$f":"+'IND3'!C$8","v":0},"DOMICILIO LEGAL:",{"$f":"+'IND3'!C329","v":0}]
[77,"R70-11/2",{"$f":"+'DATOS COMUN'!$C$3","v":0},null,{"$f":"+'IND3'!C$7","v":0},{"$f":"+'IND3'!C$8","v":0},"LOCALIDAD:",{"$f":"+'IND3'!C330","v":0}]
[78,"R70-11/2",{"$f":"+'DATOS COMUN'!$C$3","v":0},null,{"$f":"+'IND3'!C$7","v":0},{"$f":"+'IND3'!C$8","v":0},"PROVINCIA/ESTADO/REGIÓN:",{"$f":"+'IND3'!C331","v":0}]
[79,"R70-11/2",{"$f":"+'DATOS COMUN'!$C$3","v":0},null,{"$f":"+'IND3'!C$7","v":0},{"$f":"+'IND3'!C$8","v":0},"PAÍS:",{"$f":"+'IND3'!C332","v":0}]
[80,"R70-11/2",{"$f":"+'DATOS COMUN'!$C$3","v":0},null,{"$f":"+'IND3'!C$7","v":0},{"$f":"+'IND3'!C$8","v":0},"CARÁCTER EN LA QUE INTERVIENE -en calidad de socio, asociado, administrador, etc.-:",{"$f":"+'IND3'!C333","v":0}]
[81,"R70-11/2",{"$f":"+'DATOS COMUN'!$C$3","v":0},null,{"$f":"+'IND3'!C$7","v":0},{"$f":"+'IND3'!C$8","v":0},"NOMBRE PERSONA JCA. QUE INTEGRA:",{"$f":"+'IND3'!C334","v":0}]
[82,"R70-11/2",{"$f":"+'DATOS COMUN'!$C$3","v":0},null,{"$f":"+'IND3'!C$7","v":0},{"$f":"+'IND3'!C$8","v":0},"TIPO DE PERSONA JCA. -sociedad; fundación, asociación civil, etc.-:",{"$f":"+'IND3'!C335","v":0}]
[83,"R70-11/2",{"$f":"+'DATOS COMUN'!$C$3","v":0},null,{"$f":"+'IND3'!C$7","v":0},{"$f":"+'IND3'!C$8","v":0},"CARÁCTER EN LA QUE INTERVIENE -en calidad de socio, asociado, administrador, etc.-:",{"$f":"+'IND3'!C336","v":0}]
[84,"R70-11/2",{"$f":"+'DATOS COMUN'!$C$3","v":0},null,{"$f":"+'IND3'!C$7","v":0},{"$f":"+'IND3'!C$8","v":0},"CUIT -sin punto ni barras-:",{"$f":"+'IND3'!C337","v":0}]
[85,"R70-11/2",{"$f":"+'DATOS COMUN'!$C$3","v":0},null,{"$f":"+'IND3'!C$7","v":0},{"$f":"+'IND3'!C$8","v":0},"FECHA DE CONSTITUCIÓN -DD/MM/AA-:",{"$f":"+'IND3'!C338","v":0}]
[86,"R70-11/2",{"$f":"+'DATOS COMUN'!$C$3","v":0},null,{"$f":"+'IND3'!C$7","v":0},{"$f":"+'IND3'!C$8","v":0},"DOMICILIO LEGAL:",{"$f":"+'IND3'!C339","v":0}]
[87,"R70-11/2",{"$f":"+'DATOS COMUN'!$C$3","v":0},null,{"$f":"+'IND3'!C$7","v":0},{"$f":"+'IND3'!C$8","v":0},"LOCALIDAD:",{"$f":"+'IND3'!C340","v":0}]
[88,"R70-11/2",{"$f":"+'DATOS COMUN'!$C$3","v":0},null,{"$f":"+'IND3'!C$7","v":0},{"$f":"+'IND3'!C$8","v":0},"PROVINCIA/ESTADO/REGIÓN:",{"$f":"+'IND3'!C341","v":0}]
[89,"R70-11/2",{"$f":"+'DATOS COMUN'!$C$3","v":0},null,{"$f":"+'IND3'!C$7","v":0},{"$f":"+'IND3'!C$8","v":0},"PAÍS:",{"$f":"+'IND3'!C342","v":0}]
[90,"R70-11/2",{"$f":"+'DATOS COMUN'!$C$3","v":0},null,{"$f":"+'IND3'!C$7","v":0},{"$f":"+'IND3'!C$8","v":0},"CARÁCTER EN LA QUE INTERVIENE -en calidad de socio, asociado, administrador, etc.-:",{"$f":"+'IND3'!C343","v":0}]
[91,"R70-11/2",{"$f":"+'DATOS COMUN'!$C$3","v":0},null,{"$f":"+'IND3'!C$7","v":0},{"$f":"+'IND3'!C$8","v":0},"NOMBRE PERSONA JCA. QUE INTEGRA:",{"$f":"+'IND3'!C344","v":0}]
[92,"R70-11/2",{"$f":"+'DATOS COMUN'!$C$3","v":0},null,{"$f":"+'IND3'!C$7","v":0},{"$f":"+'IND3'!C$8","v":0},"TIPO DE PERSONA JCA. -sociedad; fundación, asociación civil, etc.-:",{"$f":"+'IND3'!C345","v":0}]
[93,"R70-11/2",{"$f":"+'DATOS COMUN'!$C$3","v":0},null,{"$f":"+'IND3'!C$7","v":0},{"$f":"+'IND3'!C$8","v":0},"CARÁCTER EN LA QUE INTERVIENE -en calidad de socio, asociado, administrador, etc.-:",{"$f":"+'IND3'!C346","v":0}]
[94,"R70-11/2",{"$f":"+'DATOS COMUN'!$C$3","v":0},null,{"$f":"+'IND3'!C$7","v":0},{"$f":"+'IND3'!C$8","v":0},"CUIT -sin punto ni barras-:",{"$f":"+'IND3'!C347","v":0}]
[95,"R70-11/2",{"$f":"+'DATOS COMUN'!$C$3","v":0},null,{"$f":"+'IND3'!C$7","v":0},{"$f":"+'IND3'!C$8","v":0},"FECHA DE CONSTITUCIÓN -DD/MM/AA-:",{"$f":"+'IND3'!C348","v":0}]
[96,"R70-11/2",{"$f":"+'DATOS COMUN'!$C$3","v":0},null,{"$f":"+'IND3'!C$7","v":0},{"$f":"+'IND3'!C$8","v":0},"DOMICILIO LEGAL:",{"$f":"+'IND3'!C349","v":0}]
[97,"R70-11/2",{"$f":"+'DATOS COMUN'!$C$3","v":0},null,{"$f":"+'IND3'!C$7","v":0},{"$f":"+'IND3'!C$8","v":0},"LOCALIDAD:",{"$f":"+'IND3'!C350","v":0}]
[98,"R70-11/2",{"$f":"+'DATOS COMUN'!$C$3","v":0},null,{"$f":"+'IND3'!C$7","v":0},{"$f":"+'IND3'!C$8","v":0},"PROVINCIA/ESTADO/REGIÓN:",{"$f":"+'IND3'!C351","v":0}]
[99,"R70-11/2",{"$f":"+'DATOS COMUN'!$C$3","v":0},null,{"$f":"+'IND3'!C$7","v":0},{"$f":"+'IND3'!C$8","v":0},"PAÍS:",{"$f":"+'IND3'!C352","v":0}]
[100,"R70-11/2",{"$f":"+'DATOS COMUN'!$C$3","v":0},null,{"$f":"+'IND3'!C$7","v":0},{"$f":"+'IND3'!C$8","v":0},"CARÁCTER EN LA QUE INTERVIENE -en calidad de socio, asociado, administrador, etc.-:",{"$f":"+'IND3'!C353","v":0}]
[101,"R70-11/2",{"$f":"+'DATOS COMUN'!$C$3","v":0},null,{"$f":"+'IND3'!C$7","v":0},{"$f":"+'IND3'!C$8","v":0},"NOMBRE PERSONA JCA. QUE INTEGRA:",{"$f":"+'IND3'!C354","v":0}]
[102,"R70-11/2",{"$f":"+'DATOS COMUN'!$C$3","v":0},null,{"$f":"+'IND3'!C$7","v":0},{"$f":"+'IND3'!C$8","v":0},"TIPO DE PERSONA JCA. -sociedad; fundación, asociación civil, etc.-:",{"$f":"+'IND3'!C355","v":0}]
[103,"R70-11/2",{"$f":"+'DATOS COMUN'!$C$3","v":0},null,{"$f":"+'IND3'!C$7","v":0},{"$f":"+'IND3'!C$8","v":0},"CARÁCTER EN LA QUE INTERVIENE -en calidad de socio, asociado, administrador, etc.-:",{"$f":"+'IND3'!C356","v":0}]
[104,"R70-11/2",{"$f":"+'DATOS COMUN'!$C$3","v":0},null,{"$f":"+'IND3'!C$7","v":0},{"$f":"+'IND3'!C$8","v":0},"CUIT -sin punto ni barras-:",{"$f":"+'IND3'!C357","v":0}]
[105,"R70-11/2",{"$f":"+'DATOS COMUN'!$C$3","v":0},null,{"$f":"+'IND3'!C$7","v":0},{"$f":"+'IND3'!C$8","v":0},"FECHA DE CONSTITUCIÓN -DD/MM/AA-:",{"$f":"+'IND3'!C358","v":0}]
[106,"R70-11/2",{"$f":"+'DATOS COMUN'!$C$3","v":0},null,{"$f":"+'IND3'!C$7","v":0},{"$f":"+'IND3'!C$8","v":0},"DOMICILIO LEGAL:",{"$f":"+'IND3'!C359","v":0}]
[107,"R70-11/2",{"$f":"+'DATOS COMUN'!$C$3","v":0},null,{"$f":"+'IND3'!C$7","v":0},{"$f":"+'IND3'!C$8","v":0},"LOCALIDAD:",{"$f":"+'IND3'!C360","v":0}]
[108,"R70-11/2",{"$f":"+'DATOS COMUN'!$C$3","v":0},null,{"$f":"+'IND3'!C$7","v":0},{"$f":"+'IND3'!C$8","v":0},"PROVINCIA/ESTADO/REGIÓN:",{"$f":"+'IND3'!C361","v":0}]
[109,"R70-11/2",{"$f":"+'DATOS COMUN'!$C$3","v":0},null,{"$f":"+'IND3'!C$7","v":0},{"$f":"+'IND3'!C$8","v":0},"PAÍS:",{"$f":"+'IND3'!C362","v":0}]
[110,"R70-11/2",{"$f":"+'DATOS COMUN'!$C$3","v":0},null,{"$f":"+'IND3'!C$7","v":0},{"$f":"+'IND3'!C$8","v":0},"CARÁCTER EN LA QUE INTERVIENE -en calidad de socio, asociado, administrador, etc.-:",{"$f":"+'IND3'!C363","v":0}]
[111,"R70-11/2",{"$f":"+'DATOS COMUN'!$C$3","v":0},null,{"$f":"+'IND3'!C$7","v":0},{"$f":"+'IND3'!C$8","v":0},"NOMBRE PERSONA JCA. QUE INTEGRA:",{"$f":"+'IND3'!C364","v":0}]
[112,"R70-11/2",{"$f":"+'DATOS COMUN'!$C$3","v":0},null,{"$f":"+'IND3'!C$7","v":0},{"$f":"+'IND3'!C$8","v":0},"TIPO DE PERSONA JCA. -sociedad; fundación, asociación civil, etc.-:",{"$f":"+'IND3'!C365","v":0}]
[113,"R70-11/2",{"$f":"+'DATOS COMUN'!$C$3","v":0},null,{"$f":"+'IND3'!C$7","v":0},{"$f":"+'IND3'!C$8","v":0},"CARÁCTER EN LA QUE INTERVIENE -en calidad de socio, asociado, administrador, etc.-:",{"$f":"+'IND3'!C366","v":0}]
[114,"R70-11/2",{"$f":"+'DATOS COMUN'!$C$3","v":0},null,{"$f":"+'IND3'!C$7","v":0},{"$f":"+'IND3'!C$8","v":0},"CUIT -sin punto ni barras-:",{"$f":"+'IND3'!C367","v":0}]
[115,"R70-11/2",{"$f":"+'DATOS COMUN'!$C$3","v":0},null,{"$f":"+'IND3'!C$7","v":0},{"$f":"+'IND3'!C$8","v":0},"FECHA DE CONSTITUCIÓN -DD/MM/AA-:",{"$f":"+'IND3'!C368","v":0}]
[116,"R70-11/2",{"$f":"+'DATOS COMUN'!$C$3","v":0},null,{"$f":"+'IND3'!C$7","v":0},{"$f":"+'IND3'!C$8","v":0},"DOMICILIO LEGAL:",{"$f":"+'IND3'!C369","v":0}]
[117,"R70-11/2",{"$f":"+'DATOS COMUN'!$C$3","v":0},null,{"$f":"+'IND3'!C$7","v":0},{"$f":"+'IND3'!C$8","v":0},"LOCALIDAD:",{"$f":"+'IND3'!C370","v":0}]
[118,"R70-11/2",{"$f":"+'DATOS COMUN'!$C$3","v":0},null,{"$f":"+'IND3'!C$7","v":0},{"$f":"+'IND3'!C$8","v":0},"PROVINCIA/ESTADO/REGIÓN:",{"$f":"+'IND3'!C371","v":0}]
[119,"R70-11/2",{"$f":"+'DATOS COMUN'!$C$3","v":0},null,{"$f":"+'IND3'!C$7","v":0},{"$f":"+'IND3'!C$8","v":0},"PAÍS:",{"$f":"+'IND3'!C372","v":0}]
[120,"R70-11/2",{"$f":"+'DATOS COMUN'!$C$3","v":0},null,{"$f":"+'IND3'!C$7","v":0},{"$f":"+'IND3'!C$8","v":0},"CARÁCTER EN LA QUE INTERVIENE -en calidad de socio, asociado, administrador, etc.-:",{"$f":"+'IND3'!C373","v":0}]
[1,"R70-11/2",{"$f":"+'DATOS COMUN'!$C$3","v":0},null,{"$f":"+'IND4'!C$7","v":0},{"$f":"+'IND4'!C$8","v":0},"NOMBRE PERSONA JCA. QUE INTEGRA:",{"$f":"+'IND4'!C374","v":0},null,null,null,null,null,null,null,null,null,null,{"$f":"IF(AND(B427=B426,C427=C426,E427=E426,F427=F426,G427=G426,H427=H426),\"IGUAL\",\"\")","v":""},{"$f":"IF(H427=\"<<<<>>>>NO COMPLETADO\",1,0)","v":0}]
[2,"R70-11/2",{"$f":"+'DATOS COMUN'!$C$3","v":0},null,{"$f":"+'IND4'!C$7","v":0},{"$f":"+'IND4'!C$8","v":0},"TIPO DE PERSONA JCA. -sociedad; fundación, asociación civil, etc.-:",{"$f":"+'IND4'!C375","v":0},null,null,null,null,null,null,null,null,null,null,"",0]
[3,"R70-11/2",{"$f":"+'DATOS COMUN'!$C$3","v":0},null,{"$f":"+'IND4'!C$7","v":0},{"$f":"+'IND4'!C$8","v":0},"CARÁCTER EN LA QUE INTERVIENE -en calidad de socio, asociado, administrador, etc.-:",{"$f":"+'IND4'!C376","v":0},null,null,null,null,null,null,null,null,null,null,"",0]
[4,"R70-11/2",{"$f":"+'DATOS COMUN'!$C$3","v":0},null,{"$f":"+'IND4'!C$7","v":0},{"$f":"+'IND4'!C$8","v":0},"CUIT -sin punto ni barras-:",{"$f":"+'IND4'!C377","v":0},null,null,null,null,null,null,null,null,null,null,"",0]
[5,"R70-11/2",{"$f":"+'DATOS COMUN'!$C$3","v":0},null,{"$f":"+'IND4'!C$7","v":0},{"$f":"+'IND4'!C$8","v":0},"FECHA DE CONSTITUCIÓN -DD/MM/AA-:",{"$f":"+'IND4'!C378","v":0},null,null,null,null,null,null,null,null,null,null,"",0]
[6,"R70-11/2",{"$f":"+'DATOS COMUN'!$C$3","v":0},null,{"$f":"+'IND4'!C$7","v":0},{"$f":"+'IND4'!C$8","v":0},"DOMICILIO LEGAL:",{"$f":"+'IND4'!C379","v":0},null,null,null,null,null,null,null,null,null,null,"",0]
[7,"R70-11/2",{"$f":"+'DATOS COMUN'!$C$3","v":0},null,{"$f":"+'IND4'!C$7","v":0},{"$f":"+'IND4'!C$8","v":0},"LOCALIDAD:",{"$f":"+'IND4'!C380","v":0},null,null,null,null,null,null,null,null,null,null,"",0]
[8,"R70-11/2",{"$f":"+'DATOS COMUN'!$C$3","v":0},null,{"$f":"+'IND4'!C$7","v":0},{"$f":"+'IND4'!C$8","v":0},"PROVINCIA/ESTADO/REGIÓN:",{"$f":"+'IND4'!C381","v":0},null,null,null,null,null,null,null,null,null,null,"",0]
[9,"R70-11/2",{"$f":"+'DATOS COMUN'!$C$3","v":0},null,{"$f":"+'IND4'!C$7","v":0},{"$f":"+'IND4'!C$8","v":0},"PAÍS:",{"$f":"+'IND4'!C382","v":0},null,null,null,null,null,null,null,null,null,null,"",0]
[10,"R70-11/2",{"$f":"+'DATOS COMUN'!$C$3","v":0},null,{"$f":"+'IND4'!C$7","v":0},{"$f":"+'IND4'!C$8","v":0},"CARÁCTER EN LA QUE INTERVIENE -en calidad de socio, asociado, administrador, etc.-:",{"$f":"+'IND4'!C383","v":0},null,null,null,null,null,null,null,null,null,null,"",0]
[11,"R70-11/2",{"$f":"+'DATOS COMUN'!$C$3","v":0},null,{"$f":"+'IND4'!C$7","v":0},{"$f":"+'IND4'!C$8","v":0},"NOMBRE PERSONA JCA. QUE INTEGRA:",{"$f":"+'IND4'!C384","v":0},null,null,null,null,null,null,null,null,null,null,"",0]
[12,"R70-11/2",{"$f":"+'DATOS COMUN'!$C$3","v":0},null,{"$f":"+'IND4'!C$7","v":0},{"$f":"+'IND4'!C$8","v":0},"TIPO DE PERSONA JCA. -sociedad; fundación, asociación civil, etc.-:",{"$f":"+'IND4'!C385","v":0},null,null,null,null,null,null,null,null,null,null,"",0]
[13,"R70-11/2",{"$f":"+'DATOS COMUN'!$C$3","v":0},null,{"$f":"+'IND4'!C$7","v":0},{"$f":"+'IND4'!C$8","v":0},"CARÁCTER EN LA QUE INTERVIENE -en calidad de socio, asociado, administrador, etc.-:",{"$f":"+'IND4'!C386","v":0},null,null,null,null,null,null,null,null,null,null,"",0]
[14,"R70-11/2",{"$f":"+'DATOS COMUN'!$C$3","v":0},null,{"$f":"+'IND4'!C$7","v":0},{"$f":"+'IND4'!C$8","v":0},"CUIT -sin punto ni barras-:",{"$f":"+'IND4'!C387","v":0},null,null,null,null,null,null,null,null,null,null,"",0]
[15,"R70-11/2",{"$f":"+'DATOS COMUN'!$C$3","v":0},null,{"$f":"+'IND4'!C$7","v":0},{"$f":"+'IND4'!C$8","v":0},"FECHA DE CONSTITUCIÓN -DD/MM/AA-:",{"$f":"+'IND4'!C388","v":0},null,null,null,null,null,null,null,null,null,null,"",0]
[16,"R70-11/2",{"$f":"+'DATOS COMUN'!$C$3","v":0},null,{"$f":"+'IND4'!C$7","v":0},{"$f":"+'IND4'!C$8","v":0},"DOMICILIO LEGAL:",{"$f":"+'IND4'!C389","v":0},null,null,null,null,null,null,null,null,null,null,"",0]
[17,"R70-11/2",{"$f":"+'DATOS COMUN'!$C$3","v":0},null,{"$f":"+'IND4'!C$7","v":0},{"$f":"+'IND4'!C$8","v":0},"LOCALIDAD:",{"$f":"+'IND4'!C390","v":0},null,null,null,null,null,null,null,null,null,null,"",0]
[18,"R70-11/2",{"$f":"+'DATOS COMUN'!$C$3","v":0},null,{"$f":"+'IND4'!C$7","v":0},{"$f":"+'IND4'!C$8","v":0},"PROVINCIA/ESTADO/REGIÓN:",{"$f":"+'IND4'!C391","v":0},null,null,null,null,null,null,null,null,null,null,"",0]
[19,"R70-11/2",{"$f":"+'DATOS COMUN'!$C$3","v":0},null,{"$f":"+'IND4'!C$7","v":0},{"$f":"+'IND4'!C$8","v":0},"PAÍS:",{"$f":"+'IND4'!C392","v":0}]
[20,"R70-11/2",{"$f":"+'DATOS COMUN'!$C$3","v":0},null,{"$f":"+'IND4'!C$7","v":0},{"$f":"+'IND4'!C$8","v":0},"CARÁCTER EN LA QUE INTERVIENE -en calidad de socio, asociado, administrador, etc.-:",{"$f":"+'IND4'!C393","v":0}]
[21,"R70-11/2",{"$f":"+'DATOS COMUN'!$C$3","v":0},null,{"$f":"+'IND4'!C$7","v":0},{"$f":"+'IND4'!C$8","v":0},"NOMBRE PERSONA JCA. QUE INTEGRA:",{"$f":"+'IND4'!C394","v":0}]
[22,"R70-11/2",{"$f":"+'DATOS COMUN'!$C$3","v":0},null,{"$f":"+'IND4'!C$7","v":0},{"$f":"+'IND4'!C$8","v":0},"TIPO DE PERSONA JCA. -sociedad; fundación, asociación civil, etc.-:",{"$f":"+'IND4'!C395","v":0}]
[23,"R70-11/2",{"$f":"+'DATOS COMUN'!$C$3","v":0},null,{"$f":"+'IND4'!C$7","v":0},{"$f":"+'IND4'!C$8","v":0},"CARÁCTER EN LA QUE INTERVIENE -en calidad de socio, asociado, administrador, etc.-:",{"$f":"+'IND4'!C396","v":0}]
[24,"R70-11/2",{"$f":"+'DATOS COMUN'!$C$3","v":0},null,{"$f":"+'IND4'!C$7","v":0},{"$f":"+'IND4'!C$8","v":0},"CUIT -sin punto ni barras-:",{"$f":"+'IND4'!C397","v":0}]
[25,"R70-11/2",{"$f":"+'DATOS COMUN'!$C$3","v":0},null,{"$f":"+'IND4'!C$7","v":0},{"$f":"+'IND4'!C$8","v":0},"FECHA DE CONSTITUCIÓN -DD/MM/AA-:",{"$f":"+'IND4'!C398","v":0}]
[26,"R70-11/2",{"$f":"+'DATOS COMUN'!$C$3","v":0},null,{"$f":"+'IND4'!C$7","v":0},{"$f":"+'IND4'!C$8","v":0},"DOMICILIO LEGAL:",{"$f":"+'IND4'!C399","v":0}]
[27,"R70-11/2",{"$f":"+'DATOS COMUN'!$C$3","v":0},null,{"$f":"+'IND4'!C$7","v":0},{"$f":"+'IND4'!C$8","v":0},"LOCALIDAD:",{"$f":"+'IND4'!C400","v":0}]
[28,"R70-11/2",{"$f":"+'DATOS COMUN'!$C$3","v":0},null,{"$f":"+'IND4'!C$7","v":0},{"$f":"+'IND4'!C$8","v":0},"PROVINCIA/ESTADO/REGIÓN:",{"$f":"+'IND4'!C401","v":0}]
[29,"R70-11/2",{"$f":"+'DATOS COMUN'!$C$3","v":0},null,{"$f":"+'IND4'!C$7","v":0},{"$f":"+'IND4'!C$8","v":0},"PAÍS:",{"$f":"+'IND4'!C402","v":0}]
[30,"R70-11/2",{"$f":"+'DATOS COMUN'!$C$3","v":0},null,{"$f":"+'IND4'!C$7","v":0},{"$f":"+'IND4'!C$8","v":0},"CARÁCTER EN LA QUE INTERVIENE -en calidad de socio, asociado, administrador, etc.-:",{"$f":"+'IND4'!C403","v":0}]
[31,"R70-11/2",{"$f":"+'DATOS COMUN'!$C$3","v":0},null,{"$f":"+'IND4'!C$7","v":0},{"$f":"+'IND4'!C$8","v":0},"NOMBRE PERSONA JCA. QUE INTEGRA:",{"$f":"+'IND4'!C404","v":0}]
[32,"R70-11/2",{"$f":"+'DATOS COMUN'!$C$3","v":0},null,{"$f":"+'IND4'!C$7","v":0},{"$f":"+'IND4'!C$8","v":0},"TIPO DE PERSONA JCA. -sociedad; fundación, asociación civil, etc.-:",{"$f":"+'IND4'!C405","v":0}]
[33,"R70-11/2",{"$f":"+'DATOS COMUN'!$C$3","v":0},null,{"$f":"+'IND4'!C$7","v":0},{"$f":"+'IND4'!C$8","v":0},"CARÁCTER EN LA QUE INTERVIENE -en calidad de socio, asociado, administrador, etc.-:",{"$f":"+'IND4'!C406","v":0}]
[34,"R70-11/2",{"$f":"+'DATOS COMUN'!$C$3","v":0},null,{"$f":"+'IND4'!C$7","v":0},{"$f":"+'IND4'!C$8","v":0},"CUIT -sin punto ni barras-:",{"$f":"+'IND4'!C407","v":0}]
[35,"R70-11/2",{"$f":"+'DATOS COMUN'!$C$3","v":0},null,{"$f":"+'IND4'!C$7","v":0},{"$f":"+'IND4'!C$8","v":0},"FECHA DE CONSTITUCIÓN -DD/MM/AA-:",{"$f":"+'IND4'!C408","v":0}]
[36,"R70-11/2",{"$f":"+'DATOS COMUN'!$C$3","v":0},null,{"$f":"+'IND4'!C$7","v":0},{"$f":"+'IND4'!C$8","v":0},"DOMICILIO LEGAL:",{"$f":"+'IND4'!C409","v":0}]
[37,"R70-11/2",{"$f":"+'DATOS COMUN'!$C$3","v":0},null,{"$f":"+'IND4'!C$7","v":0},{"$f":"+'IND4'!C$8","v":0},"LOCALIDAD:",{"$f":"+'IND4'!C410","v":0}]
[38,"R70-11/2",{"$f":"+'DATOS COMUN'!$C$3","v":0},null,{"$f":"+'IND4'!C$7","v":0},{"$f":"+'IND4'!C$8","v":0},"PROVINCIA/ESTADO/REGIÓN:",{"$f":"+'IND4'!C411","v":0}]
[39,"R70-11/2",{"$f":"+'DATOS COMUN'!$C$3","v":0},null,{"$f":"+'IND4'!C$7","v":0},{"$f":"+'IND4'!C$8","v":0},"PAÍS:",{"$f":"+'IND4'!C412","v":0}]
[40,"R70-11/2",{"$f":"+'DATOS COMUN'!$C$3","v":0},null,{"$f":"+'IND4'!C$7","v":0},{"$f":"+'IND4'!C$8","v":0},"CARÁCTER EN LA QUE INTERVIENE -en calidad de socio, asociado, administrador, etc.-:",{"$f":"+'IND4'!C413","v":0}]
[41,"R70-11/2",{"$f":"+'DATOS COMUN'!$C$3","v":0},null,{"$f":"+'IND4'!C$7","v":0},{"$f":"+'IND4'!C$8","v":0},"NOMBRE PERSONA JCA. QUE INTEGRA:",{"$f":"+'IND4'!C414","v":0}]
[42,"R70-11/2",{"$f":"+'DATOS COMUN'!$C$3","v":0},null,{"$f":"+'IND4'!C$7","v":0},{"$f":"+'IND4'!C$8","v":0},"TIPO DE PERSONA JCA. -sociedad; fundación, asociación civil, etc.-:",{"$f":"+'IND4'!C415","v":0}]
[43,"R70-11/2",{"$f":"+'DATOS COMUN'!$C$3","v":0},null,{"$f":"+'IND4'!C$7","v":0},{"$f":"+'IND4'!C$8","v":0},"CARÁCTER EN LA QUE INTERVIENE -en calidad de socio, asociado, administrador, etc.-:",{"$f":"+'IND4'!C416","v":0}]
[44,"R70-11/2",{"$f":"+'DATOS COMUN'!$C$3","v":0},null,{"$f":"+'IND4'!C$7","v":0},{"$f":"+'IND4'!C$8","v":0},"CUIT -sin punto ni barras-:",{"$f":"+'IND4'!C417","v":0}]
[45,"R70-11/2",{"$f":"+'DATOS COMUN'!$C$3","v":0},null,{"$f":"+'IND4'!C$7","v":0},{"$f":"+'IND4'!C$8","v":0},"FECHA DE CONSTITUCIÓN -DD/MM/AA-:",{"$f":"+'IND4'!C418","v":0}]
[46,"R70-11/2",{"$f":"+'DATOS COMUN'!$C$3","v":0},null,{"$f":"+'IND4'!C$7","v":0},{"$f":"+'IND4'!C$8","v":0},"DOMICILIO LEGAL:",{"$f":"+'IND4'!C419","v":0}]
[47,"R70-11/2",{"$f":"+'DATOS COMUN'!$C$3","v":0},null,{"$f":"+'IND4'!C$7","v":0},{"$f":"+'IND4'!C$8","v":0},"LOCALIDAD:",{"$f":"+'IND4'!C420","v":0}]
[48,"R70-11/2",{"$f":"+'DATOS COMUN'!$C$3","v":0},null,{"$f":"+'IND4'!C$7","v":0},{"$f":"+'IND4'!C$8","v":0},"PROVINCIA/ESTADO/REGIÓN:",{"$f":"+'IND4'!C421","v":0}]
[49,"R70-11/2",{"$f":"+'DATOS COMUN'!$C$3","v":0},null,{"$f":"+'IND4'!C$7","v":0},{"$f":"+'IND4'!C$8","v":0},"PAÍS:",{"$f":"+'IND4'!C422","v":0}]
[50,"R70-11/2",{"$f":"+'DATOS COMUN'!$C$3","v":0},null,{"$f":"+'IND4'!C$7","v":0},{"$f":"+'IND4'!C$8","v":0},"CARÁCTER EN LA QUE INTERVIENE -en calidad de socio, asociado, administrador, etc.-:",{"$f":"+'IND4'!C423","v":0}]
[51,"R70-11/2",{"$f":"+'DATOS COMUN'!$C$3","v":0},null,{"$f":"+'IND4'!C$7","v":0},{"$f":"+'IND4'!C$8","v":0},"NOMBRE PERSONA JCA. QUE INTEGRA:",{"$f":"+'IND4'!C424","v":0}]
[52,"R70-11/2",{"$f":"+'DATOS COMUN'!$C$3","v":0},null,{"$f":"+'IND4'!C$7","v":0},{"$f":"+'IND4'!C$8","v":0},"TIPO DE PERSONA JCA. -sociedad; fundación, asociación civil, etc.-:",{"$f":"+'IND4'!C425","v":0}]
[53,"R70-11/2",{"$f":"+'DATOS COMUN'!$C$3","v":0},null,{"$f":"+'IND4'!C$7","v":0},{"$f":"+'IND4'!C$8","v":0},"CARÁCTER EN LA QUE INTERVIENE -en calidad de socio, asociado, administrador, etc.-:",{"$f":"+'IND4'!C426","v":0}]
[54,"R70-11/2",{"$f":"+'DATOS COMUN'!$C$3","v":0},null,{"$f":"+'IND4'!C$7","v":0},{"$f":"+'IND4'!C$8","v":0},"CUIT -sin punto ni barras-:",{"$f":"+'IND4'!C427","v":0}]
[55,"R70-11/2",{"$f":"+'DATOS COMUN'!$C$3","v":0},null,{"$f":"+'IND4'!C$7","v":0},{"$f":"+'IND4'!C$8","v":0},"FECHA DE CONSTITUCIÓN -DD/MM/AA-:",{"$f":"+'IND4'!C428","v":0}]
[56,"R70-11/2",{"$f":"+'DATOS COMUN'!$C$3","v":0},null,{"$f":"+'IND4'!C$7","v":0},{"$f":"+'IND4'!C$8","v":0},"DOMICILIO LEGAL:",{"$f":"+'IND4'!C429","v":0}]
[57,"R70-11/2",{"$f":"+'DATOS COMUN'!$C$3","v":0},null,{"$f":"+'IND4'!C$7","v":0},{"$f":"+'IND4'!C$8","v":0},"LOCALIDAD:",{"$f":"+'IND4'!C430","v":0}]
[58,"R70-11/2",{"$f":"+'DATOS COMUN'!$C$3","v":0},null,{"$f":"+'IND4'!C$7","v":0},{"$f":"+'IND4'!C$8","v":0},"PROVINCIA/ESTADO/REGIÓN:",{"$f":"+'IND4'!C431","v":0}]
[59,"R70-11/2",{"$f":"+'DATOS COMUN'!$C$3","v":0},null,{"$f":"+'IND4'!C$7","v":0},{"$f":"+'IND4'!C$8","v":0},"PAÍS:",{"$f":"+'IND4'!C432","v":0}]
[60,"R70-11/2",{"$f":"+'DATOS COMUN'!$C$3","v":0},null,{"$f":"+'IND4'!C$7","v":0},{"$f":"+'IND4'!C$8","v":0},"CARÁCTER EN LA QUE INTERVIENE -en calidad de socio, asociado, administrador, etc.-:",{"$f":"+'IND4'!C433","v":0}]
[61,"R70-11/2",{"$f":"+'DATOS COMUN'!$C$3","v":0},null,{"$f":"+'IND4'!C$7","v":0},{"$f":"+'IND4'!C$8","v":0},"NOMBRE PERSONA JCA. QUE INTEGRA:",{"$f":"+'IND4'!C434","v":0}]
[62,"R70-11/2",{"$f":"+'DATOS COMUN'!$C$3","v":0},null,{"$f":"+'IND4'!C$7","v":0},{"$f":"+'IND4'!C$8","v":0},"TIPO DE PERSONA JCA. -sociedad; fundación, asociación civil, etc.-:",{"$f":"+'IND4'!C435","v":0}]
[63,"R70-11/2",{"$f":"+'DATOS COMUN'!$C$3","v":0},null,{"$f":"+'IND4'!C$7","v":0},{"$f":"+'IND4'!C$8","v":0},"CARÁCTER EN LA QUE INTERVIENE -en calidad de socio, asociado, administrador, etc.-:",{"$f":"+'IND4'!C436","v":0}]
[64,"R70-11/2",{"$f":"+'DATOS COMUN'!$C$3","v":0},null,{"$f":"+'IND4'!C$7","v":0},{"$f":"+'IND4'!C$8","v":0},"CUIT -sin punto ni barras-:",{"$f":"+'IND4'!C437","v":0}]
[65,"R70-11/2",{"$f":"+'DATOS COMUN'!$C$3","v":0},null,{"$f":"+'IND4'!C$7","v":0},{"$f":"+'IND4'!C$8","v":0},"FECHA DE CONSTITUCIÓN -DD/MM/AA-:",{"$f":"+'IND4'!C438","v":0}]
[66,"R70-11/2",{"$f":"+'DATOS COMUN'!$C$3","v":0},null,{"$f":"+'IND4'!C$7","v":0},{"$f":"+'IND4'!C$8","v":0},"DOMICILIO LEGAL:",{"$f":"+'IND4'!C439","v":0}]
[67,"R70-11/2",{"$f":"+'DATOS COMUN'!$C$3","v":0},null,{"$f":"+'IND4'!C$7","v":0},{"$f":"+'IND4'!C$8","v":0},"LOCALIDAD:",{"$f":"+'IND4'!C440","v":0}]
[68,"R70-11/2",{"$f":"+'DATOS COMUN'!$C$3","v":0},null,{"$f":"+'IND4'!C$7","v":0},{"$f":"+'IND4'!C$8","v":0},"PROVINCIA/ESTADO/REGIÓN:",{"$f":"+'IND4'!C441","v":0}]
[69,"R70-11/2",{"$f":"+'DATOS COMUN'!$C$3","v":0},null,{"$f":"+'IND4'!C$7","v":0},{"$f":"+'IND4'!C$8","v":0},"PAÍS:",{"$f":"+'IND4'!C442","v":0}]
[70,"R70-11/2",{"$f":"+'DATOS COMUN'!$C$3","v":0},null,{"$f":"+'IND4'!C$7","v":0},{"$f":"+'IND4'!C$8","v":0},"CARÁCTER EN LA QUE INTERVIENE -en calidad de socio, asociado, administrador, etc.-:",{"$f":"+'IND4'!C443","v":0}]
[71,"R70-11/2",{"$f":"+'DATOS COMUN'!$C$3","v":0},null,{"$f":"+'IND4'!C$7","v":0},{"$f":"+'IND4'!C$8","v":0},"NOMBRE PERSONA JCA. QUE INTEGRA:",{"$f":"+'IND4'!C444","v":0}]
[72,"R70-11/2",{"$f":"+'DATOS COMUN'!$C$3","v":0},null,{"$f":"+'IND4'!C$7","v":0},{"$f":"+'IND4'!C$8","v":0},"TIPO DE PERSONA JCA. -sociedad; fundación, asociación civil, etc.-:",{"$f":"+'IND4'!C445","v":0}]
[73,"R70-11/2",{"$f":"+'DATOS COMUN'!$C$3","v":0},null,{"$f":"+'IND4'!C$7","v":0},{"$f":"+'IND4'!C$8","v":0},"CARÁCTER EN LA QUE INTERVIENE -en calidad de socio, asociado, administrador, etc.-:",{"$f":"+'IND4'!C446","v":0}]
[74,"R70-11/2",{"$f":"+'DATOS COMUN'!$C$3","v":0},null,{"$f":"+'IND4'!C$7","v":0},{"$f":"+'IND4'!C$8","v":0},"CUIT -sin punto ni barras-:",{"$f":"+'IND4'!C447","v":0}]
[75,"R70-11/2",{"$f":"+'DATOS COMUN'!$C$3","v":0},null,{"$f":"+'IND4'!C$7","v":0},{"$f":"+'IND4'!C$8","v":0},"FECHA DE CONSTITUCIÓN -DD/MM/AA-:",{"$f":"+'IND4'!C448","v":0}]
[76,"R70-11/2",{"$f":"+'DATOS COMUN'!$C$3","v":0},null,{"$f":"+'IND4'!C$7","v":0},{"$f":"+'IND4'!C$8","v":0},"DOMICILIO LEGAL:",{"$f":"+'IND4'!C449","v":0}]
[77,"R70-11/2",{"$f":"+'DATOS COMUN'!$C$3","v":0},null,{"$f":"+'IND4'!C$7","v":0},{"$f":"+'IND4'!C$8","v":0},"LOCALIDAD:",{"$f":"+'IND4'!C450","v":0}]
[78,"R70-11/2",{"$f":"+'DATOS COMUN'!$C$3","v":0},null,{"$f":"+'IND4'!C$7","v":0},{"$f":"+'IND4'!C$8","v":0},"PROVINCIA/ESTADO/REGIÓN:",{"$f":"+'IND4'!C451","v":0}]
[79,"R70-11/2",{"$f":"+'DATOS COMUN'!$C$3","v":0},null,{"$f":"+'IND4'!C$7","v":0},{"$f":"+'IND4'!C$8","v":0},"PAÍS:",{"$f":"+'IND4'!C452","v":0}]
[80,"R70-11/2",{"$f":"+'DATOS COMUN'!$C$3","v":0},null,{"$f":"+'IND4'!C$7","v":0},{"$f":"+'IND4'!C$8","v":0},"CARÁCTER EN LA QUE INTERVIENE -en calidad de socio, asociado, administrador, etc.-:",{"$f":"+'IND4'!C453","v":0}]
[81,"R70-11/2",{"$f":"+'DATOS COMUN'!$C$3","v":0},null,{"$f":"+'IND4'!C$7","v":0},{"$f":"+'IND4'!C$8","v":0},"NOMBRE PERSONA JCA. QUE INTEGRA:",{"$f":"+'IND4'!C454","v":0}]
[82,"R70-11/2",{"$f":"+'DATOS COMUN'!$C$3","v":0},null,{"$f":"+'IND4'!C$7","v":0},{"$f":"+'IND4'!C$8","v":0},"TIPO DE PERSONA JCA. -sociedad; fundación, asociación civil, etc.-:",{"$f":"+'IND4'!C455","v":0}]
[83,"R70-11/2",{"$f":"+'DATOS COMUN'!$C$3","v":0},null,{"$f":"+'IND4'!C$7","v":0},{"$f":"+'IND4'!C$8","v":0},"CARÁCTER EN LA QUE INTERVIENE -en calidad de socio, asociado, administrador, etc.-:",{"$f":"+'IND4'!C456","v":0}]
[84,"R70-11/2",{"$f":"+'DATOS COMUN'!$C$3","v":0},null,{"$f":"+'IND4'!C$7","v":0},{"$f":"+'IND4'!C$8","v":0},"CUIT -sin punto ni barras-:",{"$f":"+'IND4'!C457","v":0}]
[85,"R70-11/2",{"$f":"+'DATOS COMUN'!$C$3","v":0},null,{"$f":"+'IND4'!C$7","v":0},{"$f":"+'IND4'!C$8","v":0},"FECHA DE CONSTITUCIÓN -DD/MM/AA-:",{"$f":"+'IND4'!C458","v":0}]
[86,"R70-11/2",{"$f":"+'DATOS COMUN'!$C$3","v":0},null,{"$f":"+'IND4'!C$7","v":0},{"$f":"+'IND4'!C$8","v":0},"DOMICILIO LEGAL:",{"$f":"+'IND4'!C459","v":0}]
[87,"R70-11/2",{"$f":"+'DATOS COMUN'!$C$3","v":0},null,{"$f":"+'IND4'!C$7","v":0},{"$f":"+'IND4'!C$8","v":0},"LOCALIDAD:",{"$f":"+'IND4'!C460","v":0}]
[88,"R70-11/2",{"$f":"+'DATOS COMUN'!$C$3","v":0},null,{"$f":"+'IND4'!C$7","v":0},{"$f":"+'IND4'!C$8","v":0},"PROVINCIA/ESTADO/REGIÓN:",{"$f":"+'IND4'!C461","v":0}]
[89,"R70-11/2",{"$f":"+'DATOS COMUN'!$C$3","v":0},null,{"$f":"+'IND4'!C$7","v":0},{"$f":"+'IND4'!C$8","v":0},"PAÍS:",{"$f":"+'IND4'!C462","v":0}]
[90,"R70-11/2",{"$f":"+'DATOS COMUN'!$C$3","v":0},null,{"$f":"+'IND4'!C$7","v":0},{"$f":"+'IND4'!C$8","v":0},"CARÁCTER EN LA QUE INTERVIENE -en calidad de socio, asociado, administrador, etc.-:",{"$f":"+'IND4'!C463","v":0}]
[91,"R70-11/2",{"$f":"+'DATOS COMUN'!$C$3","v":0},null,{"$f":"+'IND4'!C$7","v":0},{"$f":"+'IND4'!C$8","v":0},"NOMBRE PERSONA JCA. QUE INTEGRA:",{"$f":"+'IND4'!C464","v":0}]
[92,"R70-11/2",{"$f":"+'DATOS COMUN'!$C$3","v":0},null,{"$f":"+'IND4'!C$7","v":0},{"$f":"+'IND4'!C$8","v":0},"TIPO DE PERSONA JCA. -sociedad; fundación, asociación civil, etc.-:",{"$f":"+'IND4'!C465","v":0}]
[93,"R70-11/2",{"$f":"+'DATOS COMUN'!$C$3","v":0},null,{"$f":"+'IND4'!C$7","v":0},{"$f":"+'IND4'!C$8","v":0},"CARÁCTER EN LA QUE INTERVIENE -en calidad de socio, asociado, administrador, etc.-:",{"$f":"+'IND4'!C466","v":0}]
[94,"R70-11/2",{"$f":"+'DATOS COMUN'!$C$3","v":0},null,{"$f":"+'IND4'!C$7","v":0},{"$f":"+'IND4'!C$8","v":0},"CUIT -sin punto ni barras-:",{"$f":"+'IND4'!C467","v":0}]
[95,"R70-11/2",{"$f":"+'DATOS COMUN'!$C$3","v":0},null,{"$f":"+'IND4'!C$7","v":0},{"$f":"+'IND4'!C$8","v":0},"FECHA DE CONSTITUCIÓN -DD/MM/AA-:",{"$f":"+'IND4'!C468","v":0}]
[96,"R70-11/2",{"$f":"+'DATOS COMUN'!$C$3","v":0},null,{"$f":"+'IND4'!C$7","v":0},{"$f":"+'IND4'!C$8","v":0},"DOMICILIO LEGAL:",{"$f":"+'IND4'!C469","v":0}]
[97,"R70-11/2",{"$f":"+'DATOS COMUN'!$C$3","v":0},null,{"$f":"+'IND4'!C$7","v":0},{"$f":"+'IND4'!C$8","v":0},"LOCALIDAD:",{"$f":"+'IND4'!C470","v":0}]
[98,"R70-11/2",{"$f":"+'DATOS COMUN'!$C$3","v":0},null,{"$f":"+'IND4'!C$7","v":0},{"$f":"+'IND4'!C$8","v":0},"PROVINCIA/ESTADO/REGIÓN:",{"$f":"+'IND4'!C471","v":0}]
[99,"R70-11/2",{"$f":"+'DATOS COMUN'!$C$3","v":0},null,{"$f":"+'IND4'!C$7","v":0},{"$f":"+'IND4'!C$8","v":0},"PAÍS:",{"$f":"+'IND4'!C472","v":0}]
[100,"R70-11/2",{"$f":"+'DATOS COMUN'!$C$3","v":0},null,{"$f":"+'IND4'!C$7","v":0},{"$f":"+'IND4'!C$8","v":0},"CARÁCTER EN LA QUE INTERVIENE -en calidad de socio, asociado, administrador, etc.-:",{"$f":"+'IND4'!C473","v":0}]
[101,"R70-11/2",{"$f":"+'DATOS COMUN'!$C$3","v":0},null,{"$f":"+'IND4'!C$7","v":0},{"$f":"+'IND4'!C$8","v":0},"NOMBRE PERSONA JCA. QUE INTEGRA:",{"$f":"+'IND4'!C474","v":0}]
[102,"R70-11/2",{"$f":"+'DATOS COMUN'!$C$3","v":0},null,{"$f":"+'IND4'!C$7","v":0},{"$f":"+'IND4'!C$8","v":0},"TIPO DE PERSONA JCA. -sociedad; fundación, asociación civil, etc.-:",{"$f":"+'IND4'!C475","v":0}]
[103,"R70-11/2",{"$f":"+'DATOS COMUN'!$C$3","v":0},null,{"$f":"+'IND4'!C$7","v":0},{"$f":"+'IND4'!C$8","v":0},"CARÁCTER EN LA QUE INTERVIENE -en calidad de socio, asociado, administrador, etc.-:",{"$f":"+'IND4'!C476","v":0}]
[104,"R70-11/2",{"$f":"+'DATOS COMUN'!$C$3","v":0},null,{"$f":"+'IND4'!C$7","v":0},{"$f":"+'IND4'!C$8","v":0},"CUIT -sin punto ni barras-:",{"$f":"+'IND4'!C477","v":0}]
[105,"R70-11/2",{"$f":"+'DATOS COMUN'!$C$3","v":0},null,{"$f":"+'IND4'!C$7","v":0},{"$f":"+'IND4'!C$8","v":0},"FECHA DE CONSTITUCIÓN -DD/MM/AA-:",{"$f":"+'IND4'!C478","v":0}]
[106,"R70-11/2",{"$f":"+'DATOS COMUN'!$C$3","v":0},null,{"$f":"+'IND4'!C$7","v":0},{"$f":"+'IND4'!C$8","v":0},"DOMICILIO LEGAL:",{"$f":"+'IND4'!C479","v":0}]
[107,"R70-11/2",{"$f":"+'DATOS COMUN'!$C$3","v":0},null,{"$f":"+'IND4'!C$7","v":0},{"$f":"+'IND4'!C$8","v":0},"LOCALIDAD:",{"$f":"+'IND4'!C480","v":0}]
[108,"R70-11/2",{"$f":"+'DATOS COMUN'!$C$3","v":0},null,{"$f":"+'IND4'!C$7","v":0},{"$f":"+'IND4'!C$8","v":0},"PROVINCIA/ESTADO/REGIÓN:",{"$f":"+'IND4'!C481","v":0}]
[109,"R70-11/2",{"$f":"+'DATOS COMUN'!$C$3","v":0},null,{"$f":"+'IND4'!C$7","v":0},{"$f":"+'IND4'!C$8","v":0},"PAÍS:",{"$f":"+'IND4'!C482","v":0}]
[110,"R70-11/2",{"$f":"+'DATOS COMUN'!$C$3","v":0},null,{"$f":"+'IND4'!C$7","v":0},{"$f":"+'IND4'!C$8","v":0},"CARÁCTER EN LA QUE INTERVIENE -en calidad de socio, asociado, administrador, etc.-:",{"$f":"+'IND4'!C483","v":0}]
[111,"R70-11/2",{"$f":"+'DATOS COMUN'!$C$3","v":0},null,{"$f":"+'IND4'!C$7","v":0},{"$f":"+'IND4'!C$8","v":0},"NOMBRE PERSONA JCA. QUE INTEGRA:",{"$f":"+'IND4'!C484","v":0}]
[112,"R70-11/2",{"$f":"+'DATOS COMUN'!$C$3","v":0},null,{"$f":"+'IND4'!C$7","v":0},{"$f":"+'IND4'!C$8","v":0},"TIPO DE PERSONA JCA. -sociedad; fundación, asociación civil, etc.-:",{"$f":"+'IND4'!C485","v":0}]
[113,"R70-11/2",{"$f":"+'DATOS COMUN'!$C$3","v":0},null,{"$f":"+'IND4'!C$7","v":0},{"$f":"+'IND4'!C$8","v":0},"CARÁCTER EN LA QUE INTERVIENE -en calidad de socio, asociado, administrador, etc.-:",{"$f":"+'IND4'!C486","v":0}]
[114,"R70-11/2",{"$f":"+'DATOS COMUN'!$C$3","v":0},null,{"$f":"+'IND4'!C$7","v":0},{"$f":"+'IND4'!C$8","v":0},"CUIT -sin punto ni barras-:",{"$f":"+'IND4'!C487","v":0}]
[115,"R70-11/2",{"$f":"+'DATOS COMUN'!$C$3","v":0},null,{"$f":"+'IND4'!C$7","v":0},{"$f":"+'IND4'!C$8","v":0},"FECHA DE CONSTITUCIÓN -DD/MM/AA-:",{"$f":"+'IND4'!C488","v":0}]
[116,"R70-11/2",{"$f":"+'DATOS COMUN'!$C$3","v":0},null,{"$f":"+'IND4'!C$7","v":0},{"$f":"+'IND4'!C$8","v":0},"DOMICILIO LEGAL:",{"$f":"+'IND4'!C489","v":0}]
[117,"R70-11/2",{"$f":"+'DATOS COMUN'!$C$3","v":0},null,{"$f":"+'IND4'!C$7","v":0},{"$f":"+'IND4'!C$8","v":0},"LOCALIDAD:",{"$f":"+'IND4'!C490","v":0}]
[118,"R70-11/2",{"$f":"+'DATOS COMUN'!$C$3","v":0},null,{"$f":"+'IND4'!C$7","v":0},{"$f":"+'IND4'!C$8","v":0},"PROVINCIA/ESTADO/REGIÓN:",{"$f":"+'IND4'!C491","v":0}]
[119,"R70-11/2",{"$f":"+'DATOS COMUN'!$C$3","v":0},null,{"$f":"+'IND4'!C$7","v":0},{"$f":"+'IND4'!C$8","v":0},"PAÍS:",{"$f":"+'IND4'!C492","v":0}]
[120,"R70-11/2",{"$f":"+'DATOS COMUN'!$C$3","v":0},null,{"$f":"+'IND4'!C$7","v":0},{"$f":"+'IND4'!C$8","v":0},"CARÁCTER EN LA QUE INTERVIENE -en calidad de socio, asociado, administrador, etc.-:",{"$f":"+'IND4'!C493","v":0}]
[1,"R70-11/2",{"$f":"+'DATOS COMUN'!$C$3","v":0},null,{"$f":"+'IND5'!C$7","v":0},{"$f":"+'IND5'!C$8","v":0},"NOMBRE PERSONA JCA. QUE INTEGRA:",{"$f":"+'IND5'!C494","v":0},null,null,null,null,null,null,null,null,null,null,{"$f":"IF(AND(B547=B546,C547=C546,E547=E546,F547=F546,G547=G546,H547=H546),\"IGUAL\",\"\")","v":""},{"$f":"IF(H547=\"<<<<>>>>NO COMPLETADO\",1,0)","v":0}]
[2,"R70-11/2",{"$f":"+'DATOS COMUN'!$C$3","v":0},null,{"$f":"+'IND5'!C$7","v":0},{"$f":"+'IND5'!C$8","v":0},"TIPO DE PERSONA JCA. -sociedad; fundación, asociación civil, etc.-:",{"$f":"+'IND5'!C495","v":0},null,null,null,null,null,null,null,null,null,null,"",0]
[3,"R70-11/2",{"$f":"+'DATOS COMUN'!$C$3","v":0},null,{"$f":"+'IND5'!C$7","v":0},{"$f":"+'IND5'!C$8","v":0},"CARÁCTER EN LA QUE INTERVIENE -en calidad de socio, asociado, administrador, etc.-:",{"$f":"+'IND5'!C496","v":0},null,null,null,null,null,null,null,null,null,null,"",0]
[4,"R70-11/2",{"$f":"+'DATOS COMUN'!$C$3","v":0},null,{"$f":"+'IND5'!C$7","v":0},{"$f":"+'IND5'!C$8","v":0},"CUIT -sin punto ni barras-:",{"$f":"+'IND5'!C497","v":0},null,null,null,null,null,null,null,null,null,null,"",0]
[5,"R70-11/2",{"$f":"+'DATOS COMUN'!$C$3","v":0},null,{"$f":"+'IND5'!C$7","v":0},{"$f":"+'IND5'!C$8","v":0},"FECHA DE CONSTITUCIÓN -DD/MM/AA-:",{"$f":"+'IND5'!C498","v":0},null,null,null,null,null,null,null,null,null,null,"",0]
[6,"R70-11/2",{"$f":"+'DATOS COMUN'!$C$3","v":0},null,{"$f":"+'IND5'!C$7","v":0},{"$f":"+'IND5'!C$8","v":0},"DOMICILIO LEGAL:",{"$f":"+'IND5'!C499","v":0},null,null,null,null,null,null,null,null,null,null,"",0]
[7,"R70-11/2",{"$f":"+'DATOS COMUN'!$C$3","v":0},null,{"$f":"+'IND5'!C$7","v":0},{"$f":"+'IND5'!C$8","v":0},"LOCALIDAD:",{"$f":"+'IND5'!C500","v":0},null,null,null,null,null,null,null,null,null,null,"",0]
[8,"R70-11/2",{"$f":"+'DATOS COMUN'!$C$3","v":0},null,{"$f":"+'IND5'!C$7","v":0},{"$f":"+'IND5'!C$8","v":0},"PROVINCIA/ESTADO/REGIÓN:",{"$f":"+'IND5'!C501","v":0},null,null,null,null,null,null,null,null,null,null,"",0]
[9,"R70-11/2",{"$f":"+'DATOS COMUN'!$C$3","v":0},null,{"$f":"+'IND5'!C$7","v":0},{"$f":"+'IND5'!C$8","v":0},"PAÍS:",{"$f":"+'IND5'!C502","v":0},null,null,null,null,null,null,null,null,null,null,"",0]
[10,"R70-11/2",{"$f":"+'DATOS COMUN'!$C$3","v":0},null,{"$f":"+'IND5'!C$7","v":0},{"$f":"+'IND5'!C$8","v":0},"CARÁCTER EN LA QUE INTERVIENE -en calidad de socio, asociado, administrador, etc.-:",{"$f":"+'IND5'!C503","v":0},null,null,null,null,null,null,null,null,null,null,"",0]
[11,"R70-11/2",{"$f":"+'DATOS COMUN'!$C$3","v":0},null,{"$f":"+'IND5'!C$7","v":0},{"$f":"+'IND5'!C$8","v":0},"NOMBRE PERSONA JCA. QUE INTEGRA:",{"$f":"+'IND5'!C504","v":0},null,null,null,null,null,null,null,null,null,null,"",0]
[12,"R70-11/2",{"$f":"+'DATOS COMUN'!$C$3","v":0},null,{"$f":"+'IND5'!C$7","v":0},{"$f":"+'IND5'!C$8","v":0},"TIPO DE PERSONA JCA. -sociedad; fundación, asociación civil, etc.-:",{"$f":"+'IND5'!C505","v":0},null,null,null,null,null,null,null,null,null,null,"",0]
[13,"R70-11/2",{"$f":"+'DATOS COMUN'!$C$3","v":0},null,{"$f":"+'IND5'!C$7","v":0},{"$f":"+'IND5'!C$8","v":0},"CARÁCTER EN LA QUE INTERVIENE -en calidad de socio, asociado, administrador, etc.-:",{"$f":"+'IND5'!C506","v":0},null,null,null,null,null,null,null,null,null,null,"",0]
[14,"R70-11/2",{"$f":"+'DATOS COMUN'!$C$3","v":0},null,{"$f":"+'IND5'!C$7","v":0},{"$f":"+'IND5'!C$8","v":0},"CUIT -sin punto ni barras-:",{"$f":"+'IND5'!C507","v":0},null,null,null,null,null,null,null,null,null,null,"",0]
[15,"R70-11/2",{"$f":"+'DATOS COMUN'!$C$3","v":0},null,{"$f":"+'IND5'!C$7","v":0},{"$f":"+'IND5'!C$8","v":0},"FECHA DE CONSTITUCIÓN -DD/MM/AA-:",{"$f":"+'IND5'!C508","v":0},null,null,null,null,null,null,null,null,null,null,"",0]
[16,"R70-11/2",{"$f":"+'DATOS COMUN'!$C$3","v":0},null,{"$f":"+'IND5'!C$7","v":0},{"$f":"+'IND5'!C$8","v":0},"DOMICILIO LEGAL:",{"$f":"+'IND5'!C509","v":0},null,null,null,null,null,null,null,null,null,null,"",0]
[17,"R70-11/2",{"$f":"+'DATOS COMUN'!$C$3","v":0},null,{"$f":"+'IND5'!C$7","v":0},{"$f":"+'IND5'!C$8","v":0},"LOCALIDAD:",{"$f":"+'IND5'!C510","v":0},null,null,null,null,null,null,null,null,null,null,"",0]
[18,"R70-11/2",{"$f":"+'DATOS COMUN'!$C$3","v":0},null,{"$f":"+'IND5'!C$7","v":0},{"$f":"+'IND5'!C$8","v":0},"PROVINCIA/ESTADO/REGIÓN:",{"$f":"+'IND5'!C511","v":0},null,null,null,null,null,null,null,null,null,null,"",0]
[19,"R70-11/2",{"$f":"+'DATOS COMUN'!$C$3","v":0},null,{"$f":"+'IND5'!C$7","v":0},{"$f":"+'IND5'!C$8","v":0},"PAÍS:",{"$f":"+'IND5'!C512","v":0}]
[20,"R70-11/2",{"$f":"+'DATOS COMUN'!$C$3","v":0},null,{"$f":"+'IND5'!C$7","v":0},{"$f":"+'IND5'!C$8","v":0},"CARÁCTER EN LA QUE INTERVIENE -en calidad de socio, asociado, administrador, etc.-:",{"$f":"+'IND5'!C513","v":0}]
[21,"R70-11/2",{"$f":"+'DATOS COMUN'!$C$3","v":0},null,{"$f":"+'IND5'!C$7","v":0},{"$f":"+'IND5'!C$8","v":0},"NOMBRE PERSONA JCA. QUE INTEGRA:",{"$f":"+'IND5'!C514","v":0}]
[22,"R70-11/2",{"$f":"+'DATOS COMUN'!$C$3","v":0},null,{"$f":"+'IND5'!C$7","v":0},{"$f":"+'IND5'!C$8","v":0},"TIPO DE PERSONA JCA. -sociedad; fundación, asociación civil, etc.-:",{"$f":"+'IND5'!C515","v":0}]
[23,"R70-11/2",{"$f":"+'DATOS COMUN'!$C$3","v":0},null,{"$f":"+'IND5'!C$7","v":0},{"$f":"+'IND5'!C$8","v":0},"CARÁCTER EN LA QUE INTERVIENE -en calidad de socio, asociado, administrador, etc.-:",{"$f":"+'IND5'!C516","v":0}]
[24,"R70-11/2",{"$f":"+'DATOS COMUN'!$C$3","v":0},null,{"$f":"+'IND5'!C$7","v":0},{"$f":"+'IND5'!C$8","v":0},"CUIT -sin punto ni barras-:",{"$f":"+'IND5'!C517","v":0}]
[25,"R70-11/2",{"$f":"+'DATOS COMUN'!$C$3","v":0},null,{"$f":"+'IND5'!C$7","v":0},{"$f":"+'IND5'!C$8","v":0},"FECHA DE CONSTITUCIÓN -DD/MM/AA-:",{"$f":"+'IND5'!C518","v":0}]
[26,"R70-11/2",{"$f":"+'DATOS COMUN'!$C$3","v":0},null,{"$f":"+'IND5'!C$7","v":0},{"$f":"+'IND5'!C$8","v":0},"DOMICILIO LEGAL:",{"$f":"+'IND5'!C519","v":0}]
[27,"R70-11/2",{"$f":"+'DATOS COMUN'!$C$3","v":0},null,{"$f":"+'IND5'!C$7","v":0},{"$f":"+'IND5'!C$8","v":0},"LOCALIDAD:",{"$f":"+'IND5'!C520","v":0}]
[28,"R70-11/2",{"$f":"+'DATOS COMUN'!$C$3","v":0},null,{"$f":"+'IND5'!C$7","v":0},{"$f":"+'IND5'!C$8","v":0},"PROVINCIA/ESTADO/REGIÓN:",{"$f":"+'IND5'!C521","v":0}]
[29,"R70-11/2",{"$f":"+'DATOS COMUN'!$C$3","v":0},null,{"$f":"+'IND5'!C$7","v":0},{"$f":"+'IND5'!C$8","v":0},"PAÍS:",{"$f":"+'IND5'!C522","v":0}]
[30,"R70-11/2",{"$f":"+'DATOS COMUN'!$C$3","v":0},null,{"$f":"+'IND5'!C$7","v":0},{"$f":"+'IND5'!C$8","v":0},"CARÁCTER EN LA QUE INTERVIENE -en calidad de socio, asociado, administrador, etc.-:",{"$f":"+'IND5'!C523","v":0}]
[31,"R70-11/2",{"$f":"+'DATOS COMUN'!$C$3","v":0},null,{"$f":"+'IND5'!C$7","v":0},{"$f":"+'IND5'!C$8","v":0},"NOMBRE PERSONA JCA. QUE INTEGRA:",{"$f":"+'IND5'!C524","v":0}]
[32,"R70-11/2",{"$f":"+'DATOS COMUN'!$C$3","v":0},null,{"$f":"+'IND5'!C$7","v":0},{"$f":"+'IND5'!C$8","v":0},"TIPO DE PERSONA JCA. -sociedad; fundación, asociación civil, etc.-:",{"$f":"+'IND5'!C525","v":0}]
[33,"R70-11/2",{"$f":"+'DATOS COMUN'!$C$3","v":0},null,{"$f":"+'IND5'!C$7","v":0},{"$f":"+'IND5'!C$8","v":0},"CARÁCTER EN LA QUE INTERVIENE -en calidad de socio, asociado, administrador, etc.-:",{"$f":"+'IND5'!C526","v":0}]
[34,"R70-11/2",{"$f":"+'DATOS COMUN'!$C$3","v":0},null,{"$f":"+'IND5'!C$7","v":0},{"$f":"+'IND5'!C$8","v":0},"CUIT -sin punto ni barras-:",{"$f":"+'IND5'!C527","v":0}]
[35,"R70-11/2",{"$f":"+'DATOS COMUN'!$C$3","v":0},null,{"$f":"+'IND5'!C$7","v":0},{"$f":"+'IND5'!C$8","v":0},"FECHA DE CONSTITUCIÓN -DD/MM/AA-:",{"$f":"+'IND5'!C528","v":0}]
[36,"R70-11/2",{"$f":"+'DATOS COMUN'!$C$3","v":0},null,{"$f":"+'IND5'!C$7","v":0},{"$f":"+'IND5'!C$8","v":0},"DOMICILIO LEGAL:",{"$f":"+'IND5'!C529","v":0}]
[37,"R70-11/2",{"$f":"+'DATOS COMUN'!$C$3","v":0},null,{"$f":"+'IND5'!C$7","v":0},{"$f":"+'IND5'!C$8","v":0},"LOCALIDAD:",{"$f":"+'IND5'!C530","v":0}]
[38,"R70-11/2",{"$f":"+'DATOS COMUN'!$C$3","v":0},null,{"$f":"+'IND5'!C$7","v":0},{"$f":"+'IND5'!C$8","v":0},"PROVINCIA/ESTADO/REGIÓN:",{"$f":"+'IND5'!C531","v":0}]
[39,"R70-11/2",{"$f":"+'DATOS COMUN'!$C$3","v":0},null,{"$f":"+'IND5'!C$7","v":0},{"$f":"+'IND5'!C$8","v":0},"PAÍS:",{"$f":"+'IND5'!C532","v":0}]
[40,"R70-11/2",{"$f":"+'DATOS COMUN'!$C$3","v":0},null,{"$f":"+'IND5'!C$7","v":0},{"$f":"+'IND5'!C$8","v":0},"CARÁCTER EN LA QUE INTERVIENE -en calidad de socio, asociado, administrador, etc.-:",{"$f":"+'IND5'!C533","v":0}]
[41,"R70-11/2",{"$f":"+'DATOS COMUN'!$C$3","v":0},null,{"$f":"+'IND5'!C$7","v":0},{"$f":"+'IND5'!C$8","v":0},"NOMBRE PERSONA JCA. QUE INTEGRA:",{"$f":"+'IND5'!C534","v":0}]
[42,"R70-11/2",{"$f":"+'DATOS COMUN'!$C$3","v":0},null,{"$f":"+'IND5'!C$7","v":0},{"$f":"+'IND5'!C$8","v":0},"TIPO DE PERSONA JCA. -sociedad; fundación, asociación civil, etc.-:",{"$f":"+'IND5'!C535","v":0}]
[43,"R70-11/2",{"$f":"+'DATOS COMUN'!$C$3","v":0},null,{"$f":"+'IND5'!C$7","v":0},{"$f":"+'IND5'!C$8","v":0},"CARÁCTER EN LA QUE INTERVIENE -en calidad de socio, asociado, administrador, etc.-:",{"$f":"+'IND5'!C536","v":0}]
[44,"R70-11/2",{"$f":"+'DATOS COMUN'!$C$3","v":0},null,{"$f":"+'IND5'!C$7","v":0},{"$f":"+'IND5'!C$8","v":0},"CUIT -sin punto ni barras-:",{"$f":"+'IND5'!C537","v":0}]
[45,"R70-11/2",{"$f":"+'DATOS COMUN'!$C$3","v":0},null,{"$f":"+'IND5'!C$7","v":0},{"$f":"+'IND5'!C$8","v":0},"FECHA DE CONSTITUCIÓN -DD/MM/AA-:",{"$f":"+'IND5'!C538","v":0}]
[46,"R70-11/2",{"$f":"+'DATOS COMUN'!$C$3","v":0},null,{"$f":"+'IND5'!C$7","v":0},{"$f":"+'IND5'!C$8","v":0},"DOMICILIO LEGAL:",{"$f":"+'IND5'!C539","v":0}]
[47,"R70-11/2",{"$f":"+'DATOS COMUN'!$C$3","v":0},null,{"$f":"+'IND5'!C$7","v":0},{"$f":"+'IND5'!C$8","v":0},"LOCALIDAD:",{"$f":"+'IND5'!C540","v":0}]
[48,"R70-11/2",{"$f":"+'DATOS COMUN'!$C$3","v":0},null,{"$f":"+'IND5'!C$7","v":0},{"$f":"+'IND5'!C$8","v":0},"PROVINCIA/ESTADO/REGIÓN:",{"$f":"+'IND5'!C541","v":0}]
[49,"R70-11/2",{"$f":"+'DATOS COMUN'!$C$3","v":0},null,{"$f":"+'IND5'!C$7","v":0},{"$f":"+'IND5'!C$8","v":0},"PAÍS:",{"$f":"+'IND5'!C542","v":0}]
[50,"R70-11/2",{"$f":"+'DATOS COMUN'!$C$3","v":0},null,{"$f":"+'IND5'!C$7","v":0},{"$f":"+'IND5'!C$8","v":0},"CARÁCTER EN LA QUE INTERVIENE -en calidad de socio, asociado, administrador, etc.-:",{"$f":"+'IND5'!C543","v":0}]
[51,"R70-11/2",{"$f":"+'DATOS COMUN'!$C$3","v":0},null,{"$f":"+'IND5'!C$7","v":0},{"$f":"+'IND5'!C$8","v":0},"NOMBRE PERSONA JCA. QUE INTEGRA:",{"$f":"+'IND5'!C544","v":0}]
[52,"R70-11/2",{"$f":"+'DATOS COMUN'!$C$3","v":0},null,{"$f":"+'IND5'!C$7","v":0},{"$f":"+'IND5'!C$8","v":0},"TIPO DE PERSONA JCA. -sociedad; fundación, asociación civil, etc.-:",{"$f":"+'IND5'!C545","v":0}]
[53,"R70-11/2",{"$f":"+'DATOS COMUN'!$C$3","v":0},null,{"$f":"+'IND5'!C$7","v":0},{"$f":"+'IND5'!C$8","v":0},"CARÁCTER EN LA QUE INTERVIENE -en calidad de socio, asociado, administrador, etc.-:",{"$f":"+'IND5'!C546","v":0}]
[54,"R70-11/2",{"$f":"+'DATOS COMUN'!$C$3","v":0},null,{"$f":"+'IND5'!C$7","v":0},{"$f":"+'IND5'!C$8","v":0},"CUIT -sin punto ni barras-:",{"$f":"+'IND5'!C547","v":0}]
[55,"R70-11/2",{"$f":"+'DATOS COMUN'!$C$3","v":0},null,{"$f":"+'IND5'!C$7","v":0},{"$f":"+'IND5'!C$8","v":0},"FECHA DE CONSTITUCIÓN -DD/MM/AA-:",{"$f":"+'IND5'!C548","v":0}]
[56,"R70-11/2",{"$f":"+'DATOS COMUN'!$C$3","v":0},null,{"$f":"+'IND5'!C$7","v":0},{"$f":"+'IND5'!C$8","v":0},"DOMICILIO LEGAL:",{"$f":"+'IND5'!C549","v":0}]
[57,"R70-11/2",{"$f":"+'DATOS COMUN'!$C$3","v":0},null,{"$f":"+'IND5'!C$7","v":0},{"$f":"+'IND5'!C$8","v":0},"LOCALIDAD:",{"$f":"+'IND5'!C550","v":0}]
[58,"R70-11/2",{"$f":"+'DATOS COMUN'!$C$3","v":0},null,{"$f":"+'IND5'!C$7","v":0},{"$f":"+'IND5'!C$8","v":0},"PROVINCIA/ESTADO/REGIÓN:",{"$f":"+'IND5'!C551","v":0}]
[59,"R70-11/2",{"$f":"+'DATOS COMUN'!$C$3","v":0},null,{"$f":"+'IND5'!C$7","v":0},{"$f":"+'IND5'!C$8","v":0},"PAÍS:",{"$f":"+'IND5'!C552","v":0}]
[60,"R70-11/2",{"$f":"+'DATOS COMUN'!$C$3","v":0},null,{"$f":"+'IND5'!C$7","v":0},{"$f":"+'IND5'!C$8","v":0},"CARÁCTER EN LA QUE INTERVIENE -en calidad de socio, asociado, administrador, etc.-:",{"$f":"+'IND5'!C553","v":0}]
[61,"R70-11/2",{"$f":"+'DATOS COMUN'!$C$3","v":0},null,{"$f":"+'IND5'!C$7","v":0},{"$f":"+'IND5'!C$8","v":0},"NOMBRE PERSONA JCA. QUE INTEGRA:",{"$f":"+'IND5'!C554","v":0}]
[62,"R70-11/2",{"$f":"+'DATOS COMUN'!$C$3","v":0},null,{"$f":"+'IND5'!C$7","v":0},{"$f":"+'IND5'!C$8","v":0},"TIPO DE PERSONA JCA. -sociedad; fundación, asociación civil, etc.-:",{"$f":"+'IND5'!C555","v":0}]
[63,"R70-11/2",{"$f":"+'DATOS COMUN'!$C$3","v":0},null,{"$f":"+'IND5'!C$7","v":0},{"$f":"+'IND5'!C$8","v":0},"CARÁCTER EN LA QUE INTERVIENE -en calidad de socio, asociado, administrador, etc.-:",{"$f":"+'IND5'!C556","v":0}]
[64,"R70-11/2",{"$f":"+'DATOS COMUN'!$C$3","v":0},null,{"$f":"+'IND5'!C$7","v":0},{"$f":"+'IND5'!C$8","v":0},"CUIT -sin punto ni barras-:",{"$f":"+'IND5'!C557","v":0}]
[65,"R70-11/2",{"$f":"+'DATOS COMUN'!$C$3","v":0},null,{"$f":"+'IND5'!C$7","v":0},{"$f":"+'IND5'!C$8","v":0},"FECHA DE CONSTITUCIÓN -DD/MM/AA-:",{"$f":"+'IND5'!C558","v":0}]
[66,"R70-11/2",{"$f":"+'DATOS COMUN'!$C$3","v":0},null,{"$f":"+'IND5'!C$7","v":0},{"$f":"+'IND5'!C$8","v":0},"DOMICILIO LEGAL:",{"$f":"+'IND5'!C559","v":0}]
[67,"R70-11/2",{"$f":"+'DATOS COMUN'!$C$3","v":0},null,{"$f":"+'IND5'!C$7","v":0},{"$f":"+'IND5'!C$8","v":0},"LOCALIDAD:",{"$f":"+'IND5'!C560","v":0}]
[68,"R70-11/2",{"$f":"+'DATOS COMUN'!$C$3","v":0},null,{"$f":"+'IND5'!C$7","v":0},{"$f":"+'IND5'!C$8","v":0},"PROVINCIA/ESTADO/REGIÓN:",{"$f":"+'IND5'!C561","v":0}]
[69,"R70-11/2",{"$f":"+'DATOS COMUN'!$C$3","v":0},null,{"$f":"+'IND5'!C$7","v":0},{"$f":"+'IND5'!C$8","v":0},"PAÍS:",{"$f":"+'IND5'!C562","v":0}]
[70,"R70-11/2",{"$f":"+'DATOS COMUN'!$C$3","v":0},null,{"$f":"+'IND5'!C$7","v":0},{"$f":"+'IND5'!C$8","v":0},"CARÁCTER EN LA QUE INTERVIENE -en calidad de socio, asociado, administrador, etc.-:",{"$f":"+'IND5'!C563","v":0}]
[71,"R70-11/2",{"$f":"+'DATOS COMUN'!$C$3","v":0},null,{"$f":"+'IND5'!C$7","v":0},{"$f":"+'IND5'!C$8","v":0},"NOMBRE PERSONA JCA. QUE INTEGRA:",{"$f":"+'IND5'!C564","v":0}]
[72,"R70-11/2",{"$f":"+'DATOS COMUN'!$C$3","v":0},null,{"$f":"+'IND5'!C$7","v":0},{"$f":"+'IND5'!C$8","v":0},"TIPO DE PERSONA JCA. -sociedad; fundación, asociación civil, etc.-:",{"$f":"+'IND5'!C565","v":0}]
[73,"R70-11/2",{"$f":"+'DATOS COMUN'!$C$3","v":0},null,{"$f":"+'IND5'!C$7","v":0},{"$f":"+'IND5'!C$8","v":0},"CARÁCTER EN LA QUE INTERVIENE -en calidad de socio, asociado, administrador, etc.-:",{"$f":"+'IND5'!C566","v":0}]
[74,"R70-11/2",{"$f":"+'DATOS COMUN'!$C$3","v":0},null,{"$f":"+'IND5'!C$7","v":0},{"$f":"+'IND5'!C$8","v":0},"CUIT -sin punto ni barras-:",{"$f":"+'IND5'!C567","v":0}]
[75,"R70-11/2",{"$f":"+'DATOS COMUN'!$C$3","v":0},null,{"$f":"+'IND5'!C$7","v":0},{"$f":"+'IND5'!C$8","v":0},"FECHA DE CONSTITUCIÓN -DD/MM/AA-:",{"$f":"+'IND5'!C568","v":0}]
[76,"R70-11/2",{"$f":"+'DATOS COMUN'!$C$3","v":0},null,{"$f":"+'IND5'!C$7","v":0},{"$f":"+'IND5'!C$8","v":0},"DOMICILIO LEGAL:",{"$f":"+'IND5'!C569","v":0}]
[77,"R70-11/2",{"$f":"+'DATOS COMUN'!$C$3","v":0},null,{"$f":"+'IND5'!C$7","v":0},{"$f":"+'IND5'!C$8","v":0},"LOCALIDAD:",{"$f":"+'IND5'!C570","v":0}]
[78,"R70-11/2",{"$f":"+'DATOS COMUN'!$C$3","v":0},null,{"$f":"+'IND5'!C$7","v":0},{"$f":"+'IND5'!C$8","v":0},"PROVINCIA/ESTADO/REGIÓN:",{"$f":"+'IND5'!C571","v":0}]
[79,"R70-11/2",{"$f":"+'DATOS COMUN'!$C$3","v":0},null,{"$f":"+'IND5'!C$7","v":0},{"$f":"+'IND5'!C$8","v":0},"PAÍS:",{"$f":"+'IND5'!C572","v":0}]
[80,"R70-11/2",{"$f":"+'DATOS COMUN'!$C$3","v":0},null,{"$f":"+'IND5'!C$7","v":0},{"$f":"+'IND5'!C$8","v":0},"CARÁCTER EN LA QUE INTERVIENE -en calidad de socio, asociado, administrador, etc.-:",{"$f":"+'IND5'!C573","v":0}]
[81,"R70-11/2",{"$f":"+'DATOS COMUN'!$C$3","v":0},null,{"$f":"+'IND5'!C$7","v":0},{"$f":"+'IND5'!C$8","v":0},"NOMBRE PERSONA JCA. QUE INTEGRA:",{"$f":"+'IND5'!C574","v":0}]
[82,"R70-11/2",{"$f":"+'DATOS COMUN'!$C$3","v":0},null,{"$f":"+'IND5'!C$7","v":0},{"$f":"+'IND5'!C$8","v":0},"TIPO DE PERSONA JCA. -sociedad; fundación, asociación civil, etc.-:",{"$f":"+'IND5'!C575","v":0}]
[83,"R70-11/2",{"$f":"+'DATOS COMUN'!$C$3","v":0},null,{"$f":"+'IND5'!C$7","v":0},{"$f":"+'IND5'!C$8","v":0},"CARÁCTER EN LA QUE INTERVIENE -en calidad de socio, asociado, administrador, etc.-:",{"$f":"+'IND5'!C576","v":0}]
[84,"R70-11/2",{"$f":"+'DATOS COMUN'!$C$3","v":0},null,{"$f":"+'IND5'!C$7","v":0},{"$f":"+'IND5'!C$8","v":0},"CUIT -sin punto ni barras-:",{"$f":"+'IND5'!C577","v":0}]
[85,"R70-11/2",{"$f":"+'DATOS COMUN'!$C$3","v":0},null,{"$f":"+'IND5'!C$7","v":0},{"$f":"+'IND5'!C$8","v":0},"FECHA DE CONSTITUCIÓN -DD/MM/AA-:",{"$f":"+'IND5'!C578","v":0}]
[86,"R70-11/2",{"$f":"+'DATOS COMUN'!$C$3","v":0},null,{"$f":"+'IND5'!C$7","v":0},{"$f":"+'IND5'!C$8","v":0},"DOMICILIO LEGAL:",{"$f":"+'IND5'!C579","v":0}]
[87,"R70-11/2",{"$f":"+'DATOS COMUN'!$C$3","v":0},null,{"$f":"+'IND5'!C$7","v":0},{"$f":"+'IND5'!C$8","v":0},"LOCALIDAD:",{"$f":"+'IND5'!C580","v":0}]
[88,"R70-11/2",{"$f":"+'DATOS COMUN'!$C$3","v":0},null,{"$f":"+'IND5'!C$7","v":0},{"$f":"+'IND5'!C$8","v":0},"PROVINCIA/ESTADO/REGIÓN:",{"$f":"+'IND5'!C581","v":0}]
[89,"R70-11/2",{"$f":"+'DATOS COMUN'!$C$3","v":0},null,{"$f":"+'IND5'!C$7","v":0},{"$f":"+'IND5'!C$8","v":0},"PAÍS:",{"$f":"+'IND5'!C582","v":0}]
[90,"R70-11/2",{"$f":"+'DATOS COMUN'!$C$3","v":0},null,{"$f":"+'IND5'!C$7","v":0},{"$f":"+'IND5'!C$8","v":0},"CARÁCTER EN LA QUE INTERVIENE -en calidad de socio, asociado, administrador, etc.-:",{"$f":"+'IND5'!C583","v":0}]
[91,"R70-11/2",{"$f":"+'DATOS COMUN'!$C$3","v":0},null,{"$f":"+'IND5'!C$7","v":0},{"$f":"+'IND5'!C$8","v":0},"NOMBRE PERSONA JCA. QUE INTEGRA:",{"$f":"+'IND5'!C584","v":0}]
[92,"R70-11/2",{"$f":"+'DATOS COMUN'!$C$3","v":0},null,{"$f":"+'IND5'!C$7","v":0},{"$f":"+'IND5'!C$8","v":0},"TIPO DE PERSONA JCA. -sociedad; fundación, asociación civil, etc.-:",{"$f":"+'IND5'!C585","v":0}]
[93,"R70-11/2",{"$f":"+'DATOS COMUN'!$C$3","v":0},null,{"$f":"+'IND5'!C$7","v":0},{"$f":"+'IND5'!C$8","v":0},"CARÁCTER EN LA QUE INTERVIENE -en calidad de socio, asociado, administrador, etc.-:",{"$f":"+'IND5'!C586","v":0}]
[94,"R70-11/2",{"$f":"+'DATOS COMUN'!$C$3","v":0},null,{"$f":"+'IND5'!C$7","v":0},{"$f":"+'IND5'!C$8","v":0},"CUIT -sin punto ni barras-:",{"$f":"+'IND5'!C587","v":0}]
[95,"R70-11/2",{"$f":"+'DATOS COMUN'!$C$3","v":0},null,{"$f":"+'IND5'!C$7","v":0},{"$f":"+'IND5'!C$8","v":0},"FECHA DE CONSTITUCIÓN -DD/MM/AA-:",{"$f":"+'IND5'!C588","v":0}]
[96,"R70-11/2",{"$f":"+'DATOS COMUN'!$C$3","v":0},null,{"$f":"+'IND5'!C$7","v":0},{"$f":"+'IND5'!C$8","v":0},"DOMICILIO LEGAL:",{"$f":"+'IND5'!C589","v":0}]
[97,"R70-11/2",{"$f":"+'DATOS COMUN'!$C$3","v":0},null,{"$f":"+'IND5'!C$7","v":0},{"$f":"+'IND5'!C$8","v":0},"LOCALIDAD:",{"$f":"+'IND5'!C590","v":0}]
[98,"R70-11/2",{"$f":"+'DATOS COMUN'!$C$3","v":0},null,{"$f":"+'IND5'!C$7","v":0},{"$f":"+'IND5'!C$8","v":0},"PROVINCIA/ESTADO/REGIÓN:",{"$f":"+'IND5'!C591","v":0}]
[99,"R70-11/2",{"$f":"+'DATOS COMUN'!$C$3","v":0},null,{"$f":"+'IND5'!C$7","v":0},{"$f":"+'IND5'!C$8","v":0},"PAÍS:",{"$f":"+'IND5'!C592","v":0}]
[100,"R70-11/2",{"$f":"+'DATOS COMUN'!$C$3","v":0},null,{"$f":"+'IND5'!C$7","v":0},{"$f":"+'IND5'!C$8","v":0},"CARÁCTER EN LA QUE INTERVIENE -en calidad de socio, asociado, administrador, etc.-:",{"$f":"+'IND5'!C593","v":0}]
[101,"R70-11/2",{"$f":"+'DATOS COMUN'!$C$3","v":0},null,{"$f":"+'IND5'!C$7","v":0},{"$f":"+'IND5'!C$8","v":0},"NOMBRE PERSONA JCA. QUE INTEGRA:",{"$f":"+'IND5'!C594","v":0}]
[102,"R70-11/2",{"$f":"+'DATOS COMUN'!$C$3","v":0},null,{"$f":"+'IND5'!C$7","v":0},{"$f":"+'IND5'!C$8","v":0},"TIPO DE PERSONA JCA. -sociedad; fundación, asociación civil, etc.-:",{"$f":"+'IND5'!C595","v":0}]
[103,"R70-11/2",{"$f":"+'DATOS COMUN'!$C$3","v":0},null,{"$f":"+'IND5'!C$7","v":0},{"$f":"+'IND5'!C$8","v":0},"CARÁCTER EN LA QUE INTERVIENE -en calidad de socio, asociado, administrador, etc.-:",{"$f":"+'IND5'!C596","v":0}]
[104,"R70-11/2",{"$f":"+'DATOS COMUN'!$C$3","v":0},null,{"$f":"+'IND5'!C$7","v":0},{"$f":"+'IND5'!C$8","v":0},"CUIT -sin punto ni barras-:",{"$f":"+'IND5'!C597","v":0}]
[105,"R70-11/2",{"$f":"+'DATOS COMUN'!$C$3","v":0},null,{"$f":"+'IND5'!C$7","v":0},{"$f":"+'IND5'!C$8","v":0},"FECHA DE CONSTITUCIÓN -DD/MM/AA-:",{"$f":"+'IND5'!C598","v":0}]
[106,"R70-11/2",{"$f":"+'DATOS COMUN'!$C$3","v":0},null,{"$f":"+'IND5'!C$7","v":0},{"$f":"+'IND5'!C$8","v":0},"DOMICILIO LEGAL:",{"$f":"+'IND5'!C599","v":0}]
[107,"R70-11/2",{"$f":"+'DATOS COMUN'!$C$3","v":0},null,{"$f":"+'IND5'!C$7","v":0},{"$f":"+'IND5'!C$8","v":0},"LOCALIDAD:",{"$f":"+'IND5'!C600","v":0}]
[108,"R70-11/2",{"$f":"+'DATOS COMUN'!$C$3","v":0},null,{"$f":"+'IND5'!C$7","v":0},{"$f":"+'IND5'!C$8","v":0},"PROVINCIA/ESTADO/REGIÓN:",{"$f":"+'IND5'!C601","v":0}]
[109,"R70-11/2",{"$f":"+'DATOS COMUN'!$C$3","v":0},null,{"$f":"+'IND5'!C$7","v":0},{"$f":"+'IND5'!C$8","v":0},"PAÍS:",{"$f":"+'IND5'!C602","v":0}]
[110,"R70-11/2",{"$f":"+'DATOS COMUN'!$C$3","v":0},null,{"$f":"+'IND5'!C$7","v":0},{"$f":"+'IND5'!C$8","v":0},"CARÁCTER EN LA QUE INTERVIENE -en calidad de socio, asociado, administrador, etc.-:",{"$f":"+'IND5'!C603","v":0}]
[111,"R70-11/2",{"$f":"+'DATOS COMUN'!$C$3","v":0},null,{"$f":"+'IND5'!C$7","v":0},{"$f":"+'IND5'!C$8","v":0},"NOMBRE PERSONA JCA. QUE INTEGRA:",{"$f":"+'IND5'!C604","v":0}]
[112,"R70-11/2",{"$f":"+'DATOS COMUN'!$C$3","v":0},null,{"$f":"+'IND5'!C$7","v":0},{"$f":"+'IND5'!C$8","v":0},"TIPO DE PERSONA JCA. -sociedad; fundación, asociación civil, etc.-:",{"$f":"+'IND5'!C605","v":0}]
[113,"R70-11/2",{"$f":"+'DATOS COMUN'!$C$3","v":0},null,{"$f":"+'IND5'!C$7","v":0},{"$f":"+'IND5'!C$8","v":0},"CARÁCTER EN LA QUE INTERVIENE -en calidad de socio, asociado, administrador, etc.-:",{"$f":"+'IND5'!C606","v":0}]
[114,"R70-11/2",{"$f":"+'DATOS COMUN'!$C$3","v":0},null,{"$f":"+'IND5'!C$7","v":0},{"$f":"+'IND5'!C$8","v":0},"CUIT -sin punto ni barras-:",{"$f":"+'IND5'!C607","v":0}]
[115,"R70-11/2",{"$f":"+'DATOS COMUN'!$C$3","v":0},null,{"$f":"+'IND5'!C$7","v":0},{"$f":"+'IND5'!C$8","v":0},"FECHA DE CONSTITUCIÓN -DD/MM/AA-:",{"$f":"+'IND5'!C608","v":0}]
[116,"R70-11/2",{"$f":"+'DATOS COMUN'!$C$3","v":0},null,{"$f":"+'IND5'!C$7","v":0},{"$f":"+'IND5'!C$8","v":0},"DOMICILIO LEGAL:",{"$f":"+'IND5'!C609","v":0}]
[117,"R70-11/2",{"$f":"+'DATOS COMUN'!$C$3","v":0},null,{"$f":"+'IND5'!C$7","v":0},{"$f":"+'IND5'!C$8","v":0},"LOCALIDAD:",{"$f":"+'IND5'!C610","v":0}]
[118,"R70-11/2",{"$f":"+'DATOS COMUN'!$C$3","v":0},null,{"$f":"+'IND5'!C$7","v":0},{"$f":"+'IND5'!C$8","v":0},"PROVINCIA/ESTADO/REGIÓN:",{"$f":"+'IND5'!C611","v":0}]
[119,"R70-11/2",{"$f":"+'DATOS COMUN'!$C$3","v":0},null,{"$f":"+'IND5'!C$7","v":0},{"$f":"+'IND5'!C$8","v":0},"PAÍS:",{"$f":"+'IND5'!C612","v":0}]
[120,"R70-11/2",{"$f":"+'DATOS COMUN'!$C$3","v":0},null,{"$f":"+'IND5'!C$7","v":0},{"$f":"+'IND5'!C$8","v":0},"CARÁCTER EN LA QUE INTERVIENE -en calidad de socio, asociado, administrador, etc.-:",{"$f":"+'IND5'!C613","v":0}]
[1,"R70-11/2",{"$f":"+'DATOS COMUN'!$C$3","v":0},null,{"$f":"+'IND6'!C$7","v":0},{"$f":"+'IND6'!C$8","v":0},"NOMBRE PERSONA JCA. QUE INTEGRA:",{"$f":"+'IND6'!C614","v":0},null,null,null,null,null,null,null,null,null,null,{"$f":"IF(AND(B667=B666,C667=C666,E667=E666,F667=F666,G667=G666,H667=H666),\"IGUAL\",\"\")","v":""},{"$f":"IF(H667=\"<<<<>>>>NO COMPLETADO\",1,0)","v":0}]
[2,"R70-11/2",{"$f":"+'DATOS COMUN'!$C$3","v":0},null,{"$f":"+'IND6'!C$7","v":0},{"$f":"+'IND6'!C$8","v":0},"TIPO DE PERSONA JCA. -sociedad; fundación, asociación civil, etc.-:",{"$f":"+'IND6'!C615","v":0},null,null,null,null,null,null,null,null,null,null,"",0]
[3,"R70-11/2",{"$f":"+'DATOS COMUN'!$C$3","v":0},null,{"$f":"+'IND6'!C$7","v":0},{"$f":"+'IND6'!C$8","v":0},"CARÁCTER EN LA QUE INTERVIENE -en calidad de socio, asociado, administrador, etc.-:",{"$f":"+'IND6'!C616","v":0},null,null,null,null,null,null,null,null,null,null,"",0]
[4,"R70-11/2",{"$f":"+'DATOS COMUN'!$C$3","v":0},null,{"$f":"+'IND6'!C$7","v":0},{"$f":"+'IND6'!C$8","v":0},"CUIT -sin punto ni barras-:",{"$f":"+'IND6'!C617","v":0},null,null,null,null,null,null,null,null,null,null,"",0]
[5,"R70-11/2",{"$f":"+'DATOS COMUN'!$C$3","v":0},null,{"$f":"+'IND6'!C$7","v":0},{"$f":"+'IND6'!C$8","v":0},"FECHA DE CONSTITUCIÓN -DD/MM/AA-:",{"$f":"+'IND6'!C618","v":0},null,null,null,null,null,null,null,null,null,null,"",0]
[6,"R70-11/2",{"$f":"+'DATOS COMUN'!$C$3","v":0},null,{"$f":"+'IND6'!C$7","v":0},{"$f":"+'IND6'!C$8","v":0},"DOMICILIO LEGAL:",{"$f":"+'IND6'!C619","v":0},null,null,null,null,null,null,null,null,null,null,"",0]
[7,"R70-11/2",{"$f":"+'DATOS COMUN'!$C$3","v":0},null,{"$f":"+'IND6'!C$7","v":0},{"$f":"+'IND6'!C$8","v":0},"LOCALIDAD:",{"$f":"+'IND6'!C620","v":0},null,null,null,null,null,null,null,null,null,null,"",0]
[8,"R70-11/2",{"$f":"+'DATOS COMUN'!$C$3","v":0},null,{"$f":"+'IND6'!C$7","v":0},{"$f":"+'IND6'!C$8","v":0},"PROVINCIA/ESTADO/REGIÓN:",{"$f":"+'IND6'!C621","v":0},null,null,null,null,null,null,null,null,null,null,"",0]
[9,"R70-11/2",{"$f":"+'DATOS COMUN'!$C$3","v":0},null,{"$f":"+'IND6'!C$7","v":0},{"$f":"+'IND6'!C$8","v":0},"PAÍS:",{"$f":"+'IND6'!C622","v":0},null,null,null,null,null,null,null,null,null,null,"",0]
[10,"R70-11/2",{"$f":"+'DATOS COMUN'!$C$3","v":0},null,{"$f":"+'IND6'!C$7","v":0},{"$f":"+'IND6'!C$8","v":0},"CARÁCTER EN LA QUE INTERVIENE -en calidad de socio, asociado, administrador, etc.-:",{"$f":"+'IND6'!C623","v":0},null,null,null,null,null,null,null,null,null,null,"",0]
[11,"R70-11/2",{"$f":"+'DATOS COMUN'!$C$3","v":0},null,{"$f":"+'IND6'!C$7","v":0},{"$f":"+'IND6'!C$8","v":0},"NOMBRE PERSONA JCA. QUE INTEGRA:",{"$f":"+'IND6'!C624","v":0},null,null,null,null,null,null,null,null,null,null,"",0]
[12,"R70-11/2",{"$f":"+'DATOS COMUN'!$C$3","v":0},null,{"$f":"+'IND6'!C$7","v":0},{"$f":"+'IND6'!C$8","v":0},"TIPO DE PERSONA JCA. -sociedad; fundación, asociación civil, etc.-:",{"$f":"+'IND6'!C625","v":0},null,null,null,null,null,null,null,null,null,null,"",0]
[13,"R70-11/2",{"$f":"+'DATOS COMUN'!$C$3","v":0},null,{"$f":"+'IND6'!C$7","v":0},{"$f":"+'IND6'!C$8","v":0},"CARÁCTER EN LA QUE INTERVIENE -en calidad de socio, asociado, administrador, etc.-:",{"$f":"+'IND6'!C626","v":0},null,null,null,null,null,null,null,null,null,null,"",0]
[14,"R70-11/2",{"$f":"+'DATOS COMUN'!$C$3","v":0},null,{"$f":"+'IND6'!C$7","v":0},{"$f":"+'IND6'!C$8","v":0},"CUIT -sin punto ni barras-:",{"$f":"+'IND6'!C627","v":0},null,null,null,null,null,null,null,null,null,null,"",0]
[15,"R70-11/2",{"$f":"+'DATOS COMUN'!$C$3","v":0},null,{"$f":"+'IND6'!C$7","v":0},{"$f":"+'IND6'!C$8","v":0},"FECHA DE CONSTITUCIÓN -DD/MM/AA-:",{"$f":"+'IND6'!C628","v":0},null,null,null,null,null,null,null,null,null,null,"",0]
[16,"R70-11/2",{"$f":"+'DATOS COMUN'!$C$3","v":0},null,{"$f":"+'IND6'!C$7","v":0},{"$f":"+'IND6'!C$8","v":0},"DOMICILIO LEGAL:",{"$f":"+'IND6'!C629","v":0},null,null,null,null,null,null,null,null,null,null,"",0]
[17,"R70-11/2",{"$f":"+'DATOS COMUN'!$C$3","v":0},null,{"$f":"+'IND6'!C$7","v":0},{"$f":"+'IND6'!C$8","v":0},"LOCALIDAD:",{"$f":"+'IND6'!C630","v":0},null,null,null,null,null,null,null,null,null,null,"",0]
[18,"R70-11/2",{"$f":"+'DATOS COMUN'!$C$3","v":0},null,{"$f":"+'IND6'!C$7","v":0},{"$f":"+'IND6'!C$8","v":0},"PROVINCIA/ESTADO/REGIÓN:",{"$f":"+'IND6'!C631","v":0},null,null,null,null,null,null,null,null,null,null,"",0]
[19,"R70-11/2",{"$f":"+'DATOS COMUN'!$C$3","v":0},null,{"$f":"+'IND6'!C$7","v":0},{"$f":"+'IND6'!C$8","v":0},"PAÍS:",{"$f":"+'IND6'!C632","v":0}]
[20,"R70-11/2",{"$f":"+'DATOS COMUN'!$C$3","v":0},null,{"$f":"+'IND6'!C$7","v":0},{"$f":"+'IND6'!C$8","v":0},"CARÁCTER EN LA QUE INTERVIENE -en calidad de socio, asociado, administrador, etc.-:",{"$f":"+'IND6'!C633","v":0}]
[21,"R70-11/2",{"$f":"+'DATOS COMUN'!$C$3","v":0},null,{"$f":"+'IND6'!C$7","v":0},{"$f":"+'IND6'!C$8","v":0},"NOMBRE PERSONA JCA. QUE INTEGRA:",{"$f":"+'IND6'!C634","v":0}]
[22,"R70-11/2",{"$f":"+'DATOS COMUN'!$C$3","v":0},null,{"$f":"+'IND6'!C$7","v":0},{"$f":"+'IND6'!C$8","v":0},"TIPO DE PERSONA JCA. -sociedad; fundación, asociación civil, etc.-:",{"$f":"+'IND6'!C635","v":0}]
[23,"R70-11/2",{"$f":"+'DATOS COMUN'!$C$3","v":0},null,{"$f":"+'IND6'!C$7","v":0},{"$f":"+'IND6'!C$8","v":0},"CARÁCTER EN LA QUE INTERVIENE -en calidad de socio, asociado, administrador, etc.-:",{"$f":"+'IND6'!C636","v":0}]
[24,"R70-11/2",{"$f":"+'DATOS COMUN'!$C$3","v":0},null,{"$f":"+'IND6'!C$7","v":0},{"$f":"+'IND6'!C$8","v":0},"CUIT -sin punto ni barras-:",{"$f":"+'IND6'!C637","v":0}]
[25,"R70-11/2",{"$f":"+'DATOS COMUN'!$C$3","v":0},null,{"$f":"+'IND6'!C$7","v":0},{"$f":"+'IND6'!C$8","v":0},"FECHA DE CONSTITUCIÓN -DD/MM/AA-:",{"$f":"+'IND6'!C638","v":0}]
[26,"R70-11/2",{"$f":"+'DATOS COMUN'!$C$3","v":0},null,{"$f":"+'IND6'!C$7","v":0},{"$f":"+'IND6'!C$8","v":0},"DOMICILIO LEGAL:",{"$f":"+'IND6'!C639","v":0}]
[27,"R70-11/2",{"$f":"+'DATOS COMUN'!$C$3","v":0},null,{"$f":"+'IND6'!C$7","v":0},{"$f":"+'IND6'!C$8","v":0},"LOCALIDAD:",{"$f":"+'IND6'!C640","v":0}]
[28,"R70-11/2",{"$f":"+'DATOS COMUN'!$C$3","v":0},null,{"$f":"+'IND6'!C$7","v":0},{"$f":"+'IND6'!C$8","v":0},"PROVINCIA/ESTADO/REGIÓN:",{"$f":"+'IND6'!C641","v":0}]
[29,"R70-11/2",{"$f":"+'DATOS COMUN'!$C$3","v":0},null,{"$f":"+'IND6'!C$7","v":0},{"$f":"+'IND6'!C$8","v":0},"PAÍS:",{"$f":"+'IND6'!C642","v":0}]
[30,"R70-11/2",{"$f":"+'DATOS COMUN'!$C$3","v":0},null,{"$f":"+'IND6'!C$7","v":0},{"$f":"+'IND6'!C$8","v":0},"CARÁCTER EN LA QUE INTERVIENE -en calidad de socio, asociado, administrador, etc.-:",{"$f":"+'IND6'!C643","v":0}]
[31,"R70-11/2",{"$f":"+'DATOS COMUN'!$C$3","v":0},null,{"$f":"+'IND6'!C$7","v":0},{"$f":"+'IND6'!C$8","v":0},"NOMBRE PERSONA JCA. QUE INTEGRA:",{"$f":"+'IND6'!C644","v":0}]
[32,"R70-11/2",{"$f":"+'DATOS COMUN'!$C$3","v":0},null,{"$f":"+'IND6'!C$7","v":0},{"$f":"+'IND6'!C$8","v":0},"TIPO DE PERSONA JCA. -sociedad; fundación, asociación civil, etc.-:",{"$f":"+'IND6'!C645","v":0}]
[33,"R70-11/2",{"$f":"+'DATOS COMUN'!$C$3","v":0},null,{"$f":"+'IND6'!C$7","v":0},{"$f":"+'IND6'!C$8","v":0},"CARÁCTER EN LA QUE INTERVIENE -en calidad de socio, asociado, administrador, etc.-:",{"$f":"+'IND6'!C646","v":0}]
[34,"R70-11/2",{"$f":"+'DATOS COMUN'!$C$3","v":0},null,{"$f":"+'IND6'!C$7","v":0},{"$f":"+'IND6'!C$8","v":0},"CUIT -sin punto ni barras-:",{"$f":"+'IND6'!C647","v":0}]
[35,"R70-11/2",{"$f":"+'DATOS COMUN'!$C$3","v":0},null,{"$f":"+'IND6'!C$7","v":0},{"$f":"+'IND6'!C$8","v":0},"FECHA DE CONSTITUCIÓN -DD/MM/AA-:",{"$f":"+'IND6'!C648","v":0}]
[36,"R70-11/2",{"$f":"+'DATOS COMUN'!$C$3","v":0},null,{"$f":"+'IND6'!C$7","v":0},{"$f":"+'IND6'!C$8","v":0},"DOMICILIO LEGAL:",{"$f":"+'IND6'!C649","v":0}]
[37,"R70-11/2",{"$f":"+'DATOS COMUN'!$C$3","v":0},null,{"$f":"+'IND6'!C$7","v":0},{"$f":"+'IND6'!C$8","v":0},"LOCALIDAD:",{"$f":"+'IND6'!C650","v":0}]
[38,"R70-11/2",{"$f":"+'DATOS COMUN'!$C$3","v":0},null,{"$f":"+'IND6'!C$7","v":0},{"$f":"+'IND6'!C$8","v":0},"PROVINCIA/ESTADO/REGIÓN:",{"$f":"+'IND6'!C651","v":0}]
[39,"R70-11/2",{"$f":"+'DATOS COMUN'!$C$3","v":0},null,{"$f":"+'IND6'!C$7","v":0},{"$f":"+'IND6'!C$8","v":0},"PAÍS:",{"$f":"+'IND6'!C652","v":0}]
[40,"R70-11/2",{"$f":"+'DATOS COMUN'!$C$3","v":0},null,{"$f":"+'IND6'!C$7","v":0},{"$f":"+'IND6'!C$8","v":0},"CARÁCTER EN LA QUE INTERVIENE -en calidad de socio, asociado, administrador, etc.-:",{"$f":"+'IND6'!C653","v":0}]
[41,"R70-11/2",{"$f":"+'DATOS COMUN'!$C$3","v":0},null,{"$f":"+'IND6'!C$7","v":0},{"$f":"+'IND6'!C$8","v":0},"NOMBRE PERSONA JCA. QUE INTEGRA:",{"$f":"+'IND6'!C654","v":0}]
[42,"R70-11/2",{"$f":"+'DATOS COMUN'!$C$3","v":0},null,{"$f":"+'IND6'!C$7","v":0},{"$f":"+'IND6'!C$8","v":0},"TIPO DE PERSONA JCA. -sociedad; fundación, asociación civil, etc.-:",{"$f":"+'IND6'!C655","v":0}]
[43,"R70-11/2",{"$f":"+'DATOS COMUN'!$C$3","v":0},null,{"$f":"+'IND6'!C$7","v":0},{"$f":"+'IND6'!C$8","v":0},"CARÁCTER EN LA QUE INTERVIENE -en calidad de socio, asociado, administrador, etc.-:",{"$f":"+'IND6'!C656","v":0}]
[44,"R70-11/2",{"$f":"+'DATOS COMUN'!$C$3","v":0},null,{"$f":"+'IND6'!C$7","v":0},{"$f":"+'IND6'!C$8","v":0},"CUIT -sin punto ni barras-:",{"$f":"+'IND6'!C657","v":0}]
[45,"R70-11/2",{"$f":"+'DATOS COMUN'!$C$3","v":0},null,{"$f":"+'IND6'!C$7","v":0},{"$f":"+'IND6'!C$8","v":0},"FECHA DE CONSTITUCIÓN -DD/MM/AA-:",{"$f":"+'IND6'!C658","v":0}]
[46,"R70-11/2",{"$f":"+'DATOS COMUN'!$C$3","v":0},null,{"$f":"+'IND6'!C$7","v":0},{"$f":"+'IND6'!C$8","v":0},"DOMICILIO LEGAL:",{"$f":"+'IND6'!C659","v":0}]
[47,"R70-11/2",{"$f":"+'DATOS COMUN'!$C$3","v":0},null,{"$f":"+'IND6'!C$7","v":0},{"$f":"+'IND6'!C$8","v":0},"LOCALIDAD:",{"$f":"+'IND6'!C660","v":0}]
[48,"R70-11/2",{"$f":"+'DATOS COMUN'!$C$3","v":0},null,{"$f":"+'IND6'!C$7","v":0},{"$f":"+'IND6'!C$8","v":0},"PROVINCIA/ESTADO/REGIÓN:",{"$f":"+'IND6'!C661","v":0}]
[49,"R70-11/2",{"$f":"+'DATOS COMUN'!$C$3","v":0},null,{"$f":"+'IND6'!C$7","v":0},{"$f":"+'IND6'!C$8","v":0},"PAÍS:",{"$f":"+'IND6'!C662","v":0}]
[50,"R70-11/2",{"$f":"+'DATOS COMUN'!$C$3","v":0},null,{"$f":"+'IND6'!C$7","v":0},{"$f":"+'IND6'!C$8","v":0},"CARÁCTER EN LA QUE INTERVIENE -en calidad de socio, asociado, administrador, etc.-:",{"$f":"+'IND6'!C663","v":0}]
[51,"R70-11/2",{"$f":"+'DATOS COMUN'!$C$3","v":0},null,{"$f":"+'IND6'!C$7","v":0},{"$f":"+'IND6'!C$8","v":0},"NOMBRE PERSONA JCA. QUE INTEGRA:",{"$f":"+'IND6'!C664","v":0}]
[52,"R70-11/2",{"$f":"+'DATOS COMUN'!$C$3","v":0},null,{"$f":"+'IND6'!C$7","v":0},{"$f":"+'IND6'!C$8","v":0},"TIPO DE PERSONA JCA. -sociedad; fundación, asociación civil, etc.-:",{"$f":"+'IND6'!C665","v":0}]
[53,"R70-11/2",{"$f":"+'DATOS COMUN'!$C$3","v":0},null,{"$f":"+'IND6'!C$7","v":0},{"$f":"+'IND6'!C$8","v":0},"CARÁCTER EN LA QUE INTERVIENE -en calidad de socio, asociado, administrador, etc.-:",{"$f":"+'IND6'!C666","v":0}]
[54,"R70-11/2",{"$f":"+'DATOS COMUN'!$C$3","v":0},null,{"$f":"+'IND6'!C$7","v":0},{"$f":"+'IND6'!C$8","v":0},"CUIT -sin punto ni barras-:",{"$f":"+'IND6'!C667","v":0}]
[55,"R70-11/2",{"$f":"+'DATOS COMUN'!$C$3","v":0},null,{"$f":"+'IND6'!C$7","v":0},{"$f":"+'IND6'!C$8","v":0},"FECHA DE CONSTITUCIÓN -DD/MM/AA-:",{"$f":"+'IND6'!C668","v":0}]
[56,"R70-11/2",{"$f":"+'DATOS COMUN'!$C$3","v":0},null,{"$f":"+'IND6'!C$7","v":0},{"$f":"+'IND6'!C$8","v":0},"DOMICILIO LEGAL:",{"$f":"+'IND6'!C669","v":0}]
[57,"R70-11/2",{"$f":"+'DATOS COMUN'!$C$3","v":0},null,{"$f":"+'IND6'!C$7","v":0},{"$f":"+'IND6'!C$8","v":0},"LOCALIDAD:",{"$f":"+'IND6'!C670","v":0}]
[58,"R70-11/2",{"$f":"+'DATOS COMUN'!$C$3","v":0},null,{"$f":"+'IND6'!C$7","v":0},{"$f":"+'IND6'!C$8","v":0},"PROVINCIA/ESTADO/REGIÓN:",{"$f":"+'IND6'!C671","v":0}]
[59,"R70-11/2",{"$f":"+'DATOS COMUN'!$C$3","v":0},null,{"$f":"+'IND6'!C$7","v":0},{"$f":"+'IND6'!C$8","v":0},"PAÍS:",{"$f":"+'IND6'!C672","v":0}]
[60,"R70-11/2",{"$f":"+'DATOS COMUN'!$C$3","v":0},null,{"$f":"+'IND6'!C$7","v":0},{"$f":"+'IND6'!C$8","v":0},"CARÁCTER EN LA QUE INTERVIENE -en calidad de socio, asociado, administrador, etc.-:",{"$f":"+'IND6'!C673","v":0}]
[61,"R70-11/2",{"$f":"+'DATOS COMUN'!$C$3","v":0},null,{"$f":"+'IND6'!C$7","v":0},{"$f":"+'IND6'!C$8","v":0},"NOMBRE PERSONA JCA. QUE INTEGRA:",{"$f":"+'IND6'!C674","v":0}]
[62,"R70-11/2",{"$f":"+'DATOS COMUN'!$C$3","v":0},null,{"$f":"+'IND6'!C$7","v":0},{"$f":"+'IND6'!C$8","v":0},"TIPO DE PERSONA JCA. -sociedad; fundación, asociación civil, etc.-:",{"$f":"+'IND6'!C675","v":0}]
[63,"R70-11/2",{"$f":"+'DATOS COMUN'!$C$3","v":0},null,{"$f":"+'IND6'!C$7","v":0},{"$f":"+'IND6'!C$8","v":0},"CARÁCTER EN LA QUE INTERVIENE -en calidad de socio, asociado, administrador, etc.-:",{"$f":"+'IND6'!C676","v":0}]
[64,"R70-11/2",{"$f":"+'DATOS COMUN'!$C$3","v":0},null,{"$f":"+'IND6'!C$7","v":0},{"$f":"+'IND6'!C$8","v":0},"CUIT -sin punto ni barras-:",{"$f":"+'IND6'!C677","v":0}]
[65,"R70-11/2",{"$f":"+'DATOS COMUN'!$C$3","v":0},null,{"$f":"+'IND6'!C$7","v":0},{"$f":"+'IND6'!C$8","v":0},"FECHA DE CONSTITUCIÓN -DD/MM/AA-:",{"$f":"+'IND6'!C678","v":0}]
[66,"R70-11/2",{"$f":"+'DATOS COMUN'!$C$3","v":0},null,{"$f":"+'IND6'!C$7","v":0},{"$f":"+'IND6'!C$8","v":0},"DOMICILIO LEGAL:",{"$f":"+'IND6'!C679","v":0}]
[67,"R70-11/2",{"$f":"+'DATOS COMUN'!$C$3","v":0},null,{"$f":"+'IND6'!C$7","v":0},{"$f":"+'IND6'!C$8","v":0},"LOCALIDAD:",{"$f":"+'IND6'!C680","v":0}]
[68,"R70-11/2",{"$f":"+'DATOS COMUN'!$C$3","v":0},null,{"$f":"+'IND6'!C$7","v":0},{"$f":"+'IND6'!C$8","v":0},"PROVINCIA/ESTADO/REGIÓN:",{"$f":"+'IND6'!C681","v":0}]
[69,"R70-11/2",{"$f":"+'DATOS COMUN'!$C$3","v":0},null,{"$f":"+'IND6'!C$7","v":0},{"$f":"+'IND6'!C$8","v":0},"PAÍS:",{"$f":"+'IND6'!C682","v":0}]
[70,"R70-11/2",{"$f":"+'DATOS COMUN'!$C$3","v":0},null,{"$f":"+'IND6'!C$7","v":0},{"$f":"+'IND6'!C$8","v":0},"CARÁCTER EN LA QUE INTERVIENE -en calidad de socio, asociado, administrador, etc.-:",{"$f":"+'IND6'!C683","v":0}]
[71,"R70-11/2",{"$f":"+'DATOS COMUN'!$C$3","v":0},null,{"$f":"+'IND6'!C$7","v":0},{"$f":"+'IND6'!C$8","v":0},"NOMBRE PERSONA JCA. QUE INTEGRA:",{"$f":"+'IND6'!C684","v":0}]
[72,"R70-11/2",{"$f":"+'DATOS COMUN'!$C$3","v":0},null,{"$f":"+'IND6'!C$7","v":0},{"$f":"+'IND6'!C$8","v":0},"TIPO DE PERSONA JCA. -sociedad; fundación, asociación civil, etc.-:",{"$f":"+'IND6'!C685","v":0}]
[73,"R70-11/2",{"$f":"+'DATOS COMUN'!$C$3","v":0},null,{"$f":"+'IND6'!C$7","v":0},{"$f":"+'IND6'!C$8","v":0},"CARÁCTER EN LA QUE INTERVIENE -en calidad de socio, asociado, administrador, etc.-:",{"$f":"+'IND6'!C686","v":0}]
[74,"R70-11/2",{"$f":"+'DATOS COMUN'!$C$3","v":0},null,{"$f":"+'IND6'!C$7","v":0},{"$f":"+'IND6'!C$8","v":0},"CUIT -sin punto ni barras-:",{"$f":"+'IND6'!C687","v":0}]
[75,"R70-11/2",{"$f":"+'DATOS COMUN'!$C$3","v":0},null,{"$f":"+'IND6'!C$7","v":0},{"$f":"+'IND6'!C$8","v":0},"FECHA DE CONSTITUCIÓN -DD/MM/AA-:",{"$f":"+'IND6'!C688","v":0}]
[76,"R70-11/2",{"$f":"+'DATOS COMUN'!$C$3","v":0},null,{"$f":"+'IND6'!C$7","v":0},{"$f":"+'IND6'!C$8","v":0},"DOMICILIO LEGAL:",{"$f":"+'IND6'!C689","v":0}]
[77,"R70-11/2",{"$f":"+'DATOS COMUN'!$C$3","v":0},null,{"$f":"+'IND6'!C$7","v":0},{"$f":"+'IND6'!C$8","v":0},"LOCALIDAD:",{"$f":"+'IND6'!C690","v":0}]
[78,"R70-11/2",{"$f":"+'DATOS COMUN'!$C$3","v":0},null,{"$f":"+'IND6'!C$7","v":0},{"$f":"+'IND6'!C$8","v":0},"PROVINCIA/ESTADO/REGIÓN:",{"$f":"+'IND6'!C691","v":0}]
[79,"R70-11/2",{"$f":"+'DATOS COMUN'!$C$3","v":0},null,{"$f":"+'IND6'!C$7","v":0},{"$f":"+'IND6'!C$8","v":0},"PAÍS:",{"$f":"+'IND6'!C692","v":0}]
[80,"R70-11/2",{"$f":"+'DATOS COMUN'!$C$3","v":0},null,{"$f":"+'IND6'!C$7","v":0},{"$f":"+'IND6'!C$8","v":0},"CARÁCTER EN LA QUE INTERVIENE -en calidad de socio, asociado, administrador, etc.-:",{"$f":"+'IND6'!C693","v":0}]
[81,"R70-11/2",{"$f":"+'DATOS COMUN'!$C$3","v":0},null,{"$f":"+'IND6'!C$7","v":0},{"$f":"+'IND6'!C$8","v":0},"NOMBRE PERSONA JCA. QUE INTEGRA:",{"$f":"+'IND6'!C694","v":0}]
[82,"R70-11/2",{"$f":"+'DATOS COMUN'!$C$3","v":0},null,{"$f":"+'IND6'!C$7","v":0},{"$f":"+'IND6'!C$8","v":0},"TIPO DE PERSONA JCA. -sociedad; fundación, asociación civil, etc.-:",{"$f":"+'IND6'!C695","v":0}]
[83,"R70-11/2",{"$f":"+'DATOS COMUN'!$C$3","v":0},null,{"$f":"+'IND6'!C$7","v":0},{"$f":"+'IND6'!C$8","v":0},"CARÁCTER EN LA QUE INTERVIENE -en calidad de socio, asociado, administrador, etc.-:",{"$f":"+'IND6'!C696","v":0}]
[84,"R70-11/2",{"$f":"+'DATOS COMUN'!$C$3","v":0},null,{"$f":"+'IND6'!C$7","v":0},{"$f":"+'IND6'!C$8","v":0},"CUIT -sin punto ni barras-:",{"$f":"+'IND6'!C697","v":0}]
[85,"R70-11/2",{"$f":"+'DATOS COMUN'!$C$3","v":0},null,{"$f":"+'IND6'!C$7","v":0},{"$f":"+'IND6'!C$8","v":0},"FECHA DE CONSTITUCIÓN -DD/MM/AA-:",{"$f":"+'IND6'!C698","v":0}]
[86,"R70-11/2",{"$f":"+'DATOS COMUN'!$C$3","v":0},null,{"$f":"+'IND6'!C$7","v":0},{"$f":"+'IND6'!C$8","v":0},"DOMICILIO LEGAL:",{"$f":"+'IND6'!C699","v":0}]
[87,"R70-11/2",{"$f":"+'DATOS COMUN'!$C$3","v":0},null,{"$f":"+'IND6'!C$7","v":0},{"$f":"+'IND6'!C$8","v":0},"LOCALIDAD:",{"$f":"+'IND6'!C700","v":0}]
[88,"R70-11/2",{"$f":"+'DATOS COMUN'!$C$3","v":0},null,{"$f":"+'IND6'!C$7","v":0},{"$f":"+'IND6'!C$8","v":0},"PROVINCIA/ESTADO/REGIÓN:",{"$f":"+'IND6'!C701","v":0}]
[89,"R70-11/2",{"$f":"+'DATOS COMUN'!$C$3","v":0},null,{"$f":"+'IND6'!C$7","v":0},{"$f":"+'IND6'!C$8","v":0},"PAÍS:",{"$f":"+'IND6'!C702","v":0}]
[90,"R70-11/2",{"$f":"+'DATOS COMUN'!$C$3","v":0},null,{"$f":"+'IND6'!C$7","v":0},{"$f":"+'IND6'!C$8","v":0},"CARÁCTER EN LA QUE INTERVIENE -en calidad de socio, asociado, administrador, etc.-:",{"$f":"+'IND6'!C703","v":0}]
[91,"R70-11/2",{"$f":"+'DATOS COMUN'!$C$3","v":0},null,{"$f":"+'IND6'!C$7","v":0},{"$f":"+'IND6'!C$8","v":0},"NOMBRE PERSONA JCA. QUE INTEGRA:",{"$f":"+'IND6'!C704","v":0}]
[92,"R70-11/2",{"$f":"+'DATOS COMUN'!$C$3","v":0},null,{"$f":"+'IND6'!C$7","v":0},{"$f":"+'IND6'!C$8","v":0},"TIPO DE PERSONA JCA. -sociedad; fundación, asociación civil, etc.-:",{"$f":"+'IND6'!C705","v":0}]
[93,"R70-11/2",{"$f":"+'DATOS COMUN'!$C$3","v":0},null,{"$f":"+'IND6'!C$7","v":0},{"$f":"+'IND6'!C$8","v":0},"CARÁCTER EN LA QUE INTERVIENE -en calidad de socio, asociado, administrador, etc.-:",{"$f":"+'IND6'!C706","v":0}]
[94,"R70-11/2",{"$f":"+'DATOS COMUN'!$C$3","v":0},null,{"$f":"+'IND6'!C$7","v":0},{"$f":"+'IND6'!C$8","v":0},"CUIT -sin punto ni barras-:",{"$f":"+'IND6'!C707","v":0}]
[95,"R70-11/2",{"$f":"+'DATOS COMUN'!$C$3","v":0},null,{"$f":"+'IND6'!C$7","v":0},{"$f":"+'IND6'!C$8","v":0},"FECHA DE CONSTITUCIÓN -DD/MM/AA-:",{"$f":"+'IND6'!C708","v":0}]
[96,"R70-11/2",{"$f":"+'DATOS COMUN'!$C$3","v":0},null,{"$f":"+'IND6'!C$7","v":0},{"$f":"+'IND6'!C$8","v":0},"DOMICILIO LEGAL:",{"$f":"+'IND6'!C709","v":0}]
[97,"R70-11/2",{"$f":"+'DATOS COMUN'!$C$3","v":0},null,{"$f":"+'IND6'!C$7","v":0},{"$f":"+'IND6'!C$8","v":0},"LOCALIDAD:",{"$f":"+'IND6'!C710","v":0}]
[98,"R70-11/2",{"$f":"+'DATOS COMUN'!$C$3","v":0},null,{"$f":"+'IND6'!C$7","v":0},{"$f":"+'IND6'!C$8","v":0},"PROVINCIA/ESTADO/REGIÓN:",{"$f":"+'IND6'!C711","v":0}]
[99,"R70-11/2",{"$f":"+'DATOS COMUN'!$C$3","v":0},null,{"$f":"+'IND6'!C$7","v":0},{"$f":"+'IND6'!C$8","v":0},"PAÍS:",{"$f":"+'IND6'!C712","v":0}]
[100,"R70-11/2",{"$f":"+'DATOS COMUN'!$C$3","v":0},null,{"$f":"+'IND6'!C$7","v":0},{"$f":"+'IND6'!C$8","v":0},"CARÁCTER EN LA QUE INTERVIENE -en calidad de socio, asociado, administrador, etc.-:",{"$f":"+'IND6'!C713","v":0}]
[101,"R70-11/2",{"$f":"+'DATOS COMUN'!$C$3","v":0},null,{"$f":"+'IND6'!C$7","v":0},{"$f":"+'IND6'!C$8","v":0},"NOMBRE PERSONA JCA. QUE INTEGRA:",{"$f":"+'IND6'!C714","v":0}]
[102,"R70-11/2",{"$f":"+'DATOS COMUN'!$C$3","v":0},null,{"$f":"+'IND6'!C$7","v":0},{"$f":"+'IND6'!C$8","v":0},"TIPO DE PERSONA JCA. -sociedad; fundación, asociación civil, etc.-:",{"$f":"+'IND6'!C715","v":0}]
[103,"R70-11/2",{"$f":"+'DATOS COMUN'!$C$3","v":0},null,{"$f":"+'IND6'!C$7","v":0},{"$f":"+'IND6'!C$8","v":0},"CARÁCTER EN LA QUE INTERVIENE -en calidad de socio, asociado, administrador, etc.-:",{"$f":"+'IND6'!C716","v":0}]
[104,"R70-11/2",{"$f":"+'DATOS COMUN'!$C$3","v":0},null,{"$f":"+'IND6'!C$7","v":0},{"$f":"+'IND6'!C$8","v":0},"CUIT -sin punto ni barras-:",{"$f":"+'IND6'!C717","v":0}]
[105,"R70-11/2",{"$f":"+'DATOS COMUN'!$C$3","v":0},null,{"$f":"+'IND6'!C$7","v":0},{"$f":"+'IND6'!C$8","v":0},"FECHA DE CONSTITUCIÓN -DD/MM/AA-:",{"$f":"+'IND6'!C718","v":0}]
[106,"R70-11/2",{"$f":"+'DATOS COMUN'!$C$3","v":0},null,{"$f":"+'IND6'!C$7","v":0},{"$f":"+'IND6'!C$8","v":0},"DOMICILIO LEGAL:",{"$f":"+'IND6'!C719","v":0}]
[107,"R70-11/2",{"$f":"+'DATOS COMUN'!$C$3","v":0},null,{"$f":"+'IND6'!C$7","v":0},{"$f":"+'IND6'!C$8","v":0},"LOCALIDAD:",{"$f":"+'IND6'!C720","v":0}]
[108,"R70-11/2",{"$f":"+'DATOS COMUN'!$C$3","v":0},null,{"$f":"+'IND6'!C$7","v":0},{"$f":"+'IND6'!C$8","v":0},"PROVINCIA/ESTADO/REGIÓN:",{"$f":"+'IND6'!C721","v":0}]
[109,"R70-11/2",{"$f":"+'DATOS COMUN'!$C$3","v":0},null,{"$f":"+'IND6'!C$7","v":0},{"$f":"+'IND6'!C$8","v":0},"PAÍS:",{"$f":"+'IND6'!C722","v":0}]
[110,"R70-11/2",{"$f":"+'DATOS COMUN'!$C$3","v":0},null,{"$f":"+'IND6'!C$7","v":0},{"$f":"+'IND6'!C$8","v":0},"CARÁCTER EN LA QUE INTERVIENE -en calidad de socio, asociado, administrador, etc.-:",{"$f":"+'IND6'!C723","v":0}]
[111,"R70-11/2",{"$f":"+'DATOS COMUN'!$C$3","v":0},null,{"$f":"+'IND6'!C$7","v":0},{"$f":"+'IND6'!C$8","v":0},"NOMBRE PERSONA JCA. QUE INTEGRA:",{"$f":"+'IND6'!C724","v":0}]
[112,"R70-11/2",{"$f":"+'DATOS COMUN'!$C$3","v":0},null,{"$f":"+'IND6'!C$7","v":0},{"$f":"+'IND6'!C$8","v":0},"TIPO DE PERSONA JCA. -sociedad; fundación, asociación civil, etc.-:",{"$f":"+'IND6'!C725","v":0}]
[113,"R70-11/2",{"$f":"+'DATOS COMUN'!$C$3","v":0},null,{"$f":"+'IND6'!C$7","v":0},{"$f":"+'IND6'!C$8","v":0},"CARÁCTER EN LA QUE INTERVIENE -en calidad de socio, asociado, administrador, etc.-:",{"$f":"+'IND6'!C726","v":0}]
[114,"R70-11/2",{"$f":"+'DATOS COMUN'!$C$3","v":0},null,{"$f":"+'IND6'!C$7","v":0},{"$f":"+'IND6'!C$8","v":0},"CUIT -sin punto ni barras-:",{"$f":"+'IND6'!C727","v":0}]
[115,"R70-11/2",{"$f":"+'DATOS COMUN'!$C$3","v":0},null,{"$f":"+'IND6'!C$7","v":0},{"$f":"+'IND6'!C$8","v":0},"FECHA DE CONSTITUCIÓN -DD/MM/AA-:",{"$f":"+'IND6'!C728","v":0}]
[116,"R70-11/2",{"$f":"+'DATOS COMUN'!$C$3","v":0},null,{"$f":"+'IND6'!C$7","v":0},{"$f":"+'IND6'!C$8","v":0},"DOMICILIO LEGAL:",{"$f":"+'IND6'!C729","v":0}]
[117,"R70-11/2",{"$f":"+'DATOS COMUN'!$C$3","v":0},null,{"$f":"+'IND6'!C$7","v":0},{"$f":"+'IND6'!C$8","v":0},"LOCALIDAD:",{"$f":"+'IND6'!C730","v":0}]
[118,"R70-11/2",{"$f":"+'DATOS COMUN'!$C$3","v":0},null,{"$f":"+'IND6'!C$7","v":0},{"$f":"+'IND6'!C$8","v":0},"PROVINCIA/ESTADO/REGIÓN:",{"$f":"+'IND6'!C731","v":0}]
[119,"R70-11/2",{"$f":"+'DATOS COMUN'!$C$3","v":0},null,{"$f":"+'IND6'!C$7","v":0},{"$f":"+'IND6'!C$8","v":0},"PAÍS:",{"$f":"+'IND6'!C732","v":0}]
[120,"R70-11/2",{"$f":"+'DATOS COMUN'!$C$3","v":0},null,{"$f":"+'IND6'!C$7","v":0},{"$f":"+'IND6'!C$8","v":0},"CARÁCTER EN LA QUE INTERVIENE -en calidad de socio, asociado, administrador, etc.-:",{"$f":"+'IND6'!C733","v":0}]
[1,"R70-11/2",{"$f":"+'DATOS COMUN'!$C$3","v":0},null,{"$f":"+'IND7'!C$7","v":0},{"$f":"+'IND7'!C$8","v":0},"NOMBRE PERSONA JCA. QUE INTEGRA:",{"$f":"+'IND7'!C734","v":0},null,null,null,null,null,null,null,null,null,null,{"$f":"IF(AND(B787=B786,C787=C786,E787=E786,F787=F786,G787=G786,H787=H786),\"IGUAL\",\"\")","v":""},{"$f":"IF(H787=\"<<<<>>>>NO COMPLETADO\",1,0)","v":0}]
[2,"R70-11/2",{"$f":"+'DATOS COMUN'!$C$3","v":0},null,{"$f":"+'IND7'!C$7","v":0},{"$f":"+'IND7'!C$8","v":0},"TIPO DE PERSONA JCA. -sociedad; fundación, asociación civil, etc.-:",{"$f":"+'IND7'!C735","v":0},null,null,null,null,null,null,null,null,null,null,"",0]
[3,"R70-11/2",{"$f":"+'DATOS COMUN'!$C$3","v":0},null,{"$f":"+'IND7'!C$7","v":0},{"$f":"+'IND7'!C$8","v":0},"CARÁCTER EN LA QUE INTERVIENE -en calidad de socio, asociado, administrador, etc.-:",{"$f":"+'IND7'!C736","v":0},null,null,null,null,null,null,null,null,null,null,"",0]
[4,"R70-11/2",{"$f":"+'DATOS COMUN'!$C$3","v":0},null,{"$f":"+'IND7'!C$7","v":0},{"$f":"+'IND7'!C$8","v":0},"CUIT -sin punto ni barras-:",{"$f":"+'IND7'!C737","v":0},null,null,null,null,null,null,null,null,null,null,"",0]
[5,"R70-11/2",{"$f":"+'DATOS COMUN'!$C$3","v":0},null,{"$f":"+'IND7'!C$7","v":0},{"$f":"+'IND7'!C$8","v":0},"FECHA DE CONSTITUCIÓN -DD/MM/AA-:",{"$f":"+'IND7'!C738","v":0},null,null,null,null,null,null,null,null,null,null,"",0]
[6,"R70-11/2",{"$f":"+'DATOS COMUN'!$C$3","v":0},null,{"$f":"+'IND7'!C$7","v":0},{"$f":"+'IND7'!C$8","v":0},"DOMICILIO LEGAL:",{"$f":"+'IND7'!C739","v":0},null,null,null,null,null,null,null,null,null,null,"",0]
[7,"R70-11/2",{"$f":"+'DATOS COMUN'!$C$3","v":0},null,{"$f":"+'IND7'!C$7","v":0},{"$f":"+'IND7'!C$8","v":0},"LOCALIDAD:",{"$f":"+'IND7'!C740","v":0},null,null,null,null,null,null,null,null,null,null,"",0]
[8,"R70-11/2",{"$f":"+'DATOS COMUN'!$C$3","v":0},null,{"$f":"+'IND7'!C$7","v":0},{"$f":"+'IND7'!C$8","v":0},"PROVINCIA/ESTADO/REGIÓN:",{"$f":"+'IND7'!C741","v":0},null,null,null,null,null,null,null,null,null,null,"",0]
[9,"R70-11/2",{"$f":"+'DATOS COMUN'!$C$3","v":0},null,{"$f":"+'IND7'!C$7","v":0},{"$f":"+'IND7'!C$8","v":0},"PAÍS:",{"$f":"+'IND7'!C742","v":0},null,null,null,null,null,null,null,null,null,null,"",0]
[10,"R70-11/2",{"$f":"+'DATOS COMUN'!$C$3","v":0},null,{"$f":"+'IND7'!C$7","v":0},{"$f":"+'IND7'!C$8","v":0},"CARÁCTER EN LA QUE INTERVIENE -en calidad de socio, asociado, administrador, etc.-:",{"$f":"+'IND7'!C743","v":0},null,null,null,null,null,null,null,null,null,null,"",0]
[11,"R70-11/2",{"$f":"+'DATOS COMUN'!$C$3","v":0},null,{"$f":"+'IND7'!C$7","v":0},{"$f":"+'IND7'!C$8","v":0},"NOMBRE PERSONA JCA. QUE INTEGRA:",{"$f":"+'IND7'!C744","v":0},null,null,null,null,null,null,null,null,null,null,"",0]
[12,"R70-11/2",{"$f":"+'DATOS COMUN'!$C$3","v":0},null,{"$f":"+'IND7'!C$7","v":0},{"$f":"+'IND7'!C$8","v":0},"TIPO DE PERSONA JCA. -sociedad; fundación, asociación civil, etc.-:",{"$f":"+'IND7'!C745","v":0},null,null,null,null,null,null,null,null,null,null,"",0]
[13,"R70-11/2",{"$f":"+'DATOS COMUN'!$C$3","v":0},null,{"$f":"+'IND7'!C$7","v":0},{"$f":"+'IND7'!C$8","v":0},"CARÁCTER EN LA QUE INTERVIENE -en calidad de socio, asociado, administrador, etc.-:",{"$f":"+'IND7'!C746","v":0},null,null,null,null,null,null,null,null,null,null,"",0]
[14,"R70-11/2",{"$f":"+'DATOS COMUN'!$C$3","v":0},null,{"$f":"+'IND7'!C$7","v":0},{"$f":"+'IND7'!C$8","v":0},"CUIT -sin punto ni barras-:",{"$f":"+'IND7'!C747","v":0},null,null,null,null,null,null,null,null,null,null,"",0]
[15,"R70-11/2",{"$f":"+'DATOS COMUN'!$C$3","v":0},null,{"$f":"+'IND7'!C$7","v":0},{"$f":"+'IND7'!C$8","v":0},"FECHA DE CONSTITUCIÓN -DD/MM/AA-:",{"$f":"+'IND7'!C748","v":0},null,null,null,null,null,null,null,null,null,null,"",0]
[16,"R70-11/2",{"$f":"+'DATOS COMUN'!$C$3","v":0},null,{"$f":"+'IND7'!C$7","v":0},{"$f":"+'IND7'!C$8","v":0},"DOMICILIO LEGAL:",{"$f":"+'IND7'!C749","v":0},null,null,null,null,null,null,null,null,null,null,"",0]
[17,"R70-11/2",{"$f":"+'DATOS COMUN'!$C$3","v":0},null,{"$f":"+'IND7'!C$7","v":0},{"$f":"+'IND7'!C$8","v":0},"LOCALIDAD:",{"$f":"+'IND7'!C750","v":0},null,null,null,null,null,null,null,null,null,null,"",0]
[18,"R70-11/2",{"$f":"+'DATOS COMUN'!$C$3","v":0},null,{"$f":"+'IND7'!C$7","v":0},{"$f":"+'IND7'!C$8","v":0},"PROVINCIA/ESTADO/REGIÓN:",{"$f":"+'IND7'!C751","v":0},null,null,null,null,null,null,null,null,null,null,"",0]
[19,"R70-11/2",{"$f":"+'DATOS COMUN'!$C$3","v":0},null,{"$f":"+'IND7'!C$7","v":0},{"$f":"+'IND7'!C$8","v":0},"PAÍS:",{"$f":"+'IND7'!C752","v":0}]
[20,"R70-11/2",{"$f":"+'DATOS COMUN'!$C$3","v":0},null,{"$f":"+'IND7'!C$7","v":0},{"$f":"+'IND7'!C$8","v":0},"CARÁCTER EN LA QUE INTERVIENE -en calidad de socio, asociado, administrador, etc.-:",{"$f":"+'IND7'!C753","v":0}]
[21,"R70-11/2",{"$f":"+'DATOS COMUN'!$C$3","v":0},null,{"$f":"+'IND7'!C$7","v":0},{"$f":"+'IND7'!C$8","v":0},"NOMBRE PERSONA JCA. QUE INTEGRA:",{"$f":"+'IND7'!C754","v":0}]
[22,"R70-11/2",{"$f":"+'DATOS COMUN'!$C$3","v":0},null,{"$f":"+'IND7'!C$7","v":0},{"$f":"+'IND7'!C$8","v":0},"TIPO DE PERSONA JCA. -sociedad; fundación, asociación civil, etc.-:",{"$f":"+'IND7'!C755","v":0}]
[23,"R70-11/2",{"$f":"+'DATOS COMUN'!$C$3","v":0},null,{"$f":"+'IND7'!C$7","v":0},{"$f":"+'IND7'!C$8","v":0},"CARÁCTER EN LA QUE INTERVIENE -en calidad de socio, asociado, administrador, etc.-:",{"$f":"+'IND7'!C756","v":0}]
[24,"R70-11/2",{"$f":"+'DATOS COMUN'!$C$3","v":0},null,{"$f":"+'IND7'!C$7","v":0},{"$f":"+'IND7'!C$8","v":0},"CUIT -sin punto ni barras-:",{"$f":"+'IND7'!C757","v":0}]
[25,"R70-11/2",{"$f":"+'DATOS COMUN'!$C$3","v":0},null,{"$f":"+'IND7'!C$7","v":0},{"$f":"+'IND7'!C$8","v":0},"FECHA DE CONSTITUCIÓN -DD/MM/AA-:",{"$f":"+'IND7'!C758","v":0}]
[26,"R70-11/2",{"$f":"+'DATOS COMUN'!$C$3","v":0},null,{"$f":"+'IND7'!C$7","v":0},{"$f":"+'IND7'!C$8","v":0},"DOMICILIO LEGAL:",{"$f":"+'IND7'!C759","v":0}]
[27,"R70-11/2",{"$f":"+'DATOS COMUN'!$C$3","v":0},null,{"$f":"+'IND7'!C$7","v":0},{"$f":"+'IND7'!C$8","v":0},"LOCALIDAD:",{"$f":"+'IND7'!C760","v":0}]
[28,"R70-11/2",{"$f":"+'DATOS COMUN'!$C$3","v":0},null,{"$f":"+'IND7'!C$7","v":0},{"$f":"+'IND7'!C$8","v":0},"PROVINCIA/ESTADO/REGIÓN:",{"$f":"+'IND7'!C761","v":0}]
[29,"R70-11/2",{"$f":"+'DATOS COMUN'!$C$3","v":0},null,{"$f":"+'IND7'!C$7","v":0},{"$f":"+'IND7'!C$8","v":0},"PAÍS:",{"$f":"+'IND7'!C762","v":0}]
[30,"R70-11/2",{"$f":"+'DATOS COMUN'!$C$3","v":0},null,{"$f":"+'IND7'!C$7","v":0},{"$f":"+'IND7'!C$8","v":0},"CARÁCTER EN LA QUE INTERVIENE -en calidad de socio, asociado, administrador, etc.-:",{"$f":"+'IND7'!C763","v":0}]
[31,"R70-11/2",{"$f":"+'DATOS COMUN'!$C$3","v":0},null,{"$f":"+'IND7'!C$7","v":0},{"$f":"+'IND7'!C$8","v":0},"NOMBRE PERSONA JCA. QUE INTEGRA:",{"$f":"+'IND7'!C764","v":0}]
[32,"R70-11/2",{"$f":"+'DATOS COMUN'!$C$3","v":0},null,{"$f":"+'IND7'!C$7","v":0},{"$f":"+'IND7'!C$8","v":0},"TIPO DE PERSONA JCA. -sociedad; fundación, asociación civil, etc.-:",{"$f":"+'IND7'!C765","v":0}]
[33,"R70-11/2",{"$f":"+'DATOS COMUN'!$C$3","v":0},null,{"$f":"+'IND7'!C$7","v":0},{"$f":"+'IND7'!C$8","v":0},"CARÁCTER EN LA QUE INTERVIENE -en calidad de socio, asociado, administrador, etc.-:",{"$f":"+'IND7'!C766","v":0}]
[34,"R70-11/2",{"$f":"+'DATOS COMUN'!$C$3","v":0},null,{"$f":"+'IND7'!C$7","v":0},{"$f":"+'IND7'!C$8","v":0},"CUIT -sin punto ni barras-:",{"$f":"+'IND7'!C767","v":0}]
[35,"R70-11/2",{"$f":"+'DATOS COMUN'!$C$3","v":0},null,{"$f":"+'IND7'!C$7","v":0},{"$f":"+'IND7'!C$8","v":0},"FECHA DE CONSTITUCIÓN -DD/MM/AA-:",{"$f":"+'IND7'!C768","v":0}]
[36,"R70-11/2",{"$f":"+'DATOS COMUN'!$C$3","v":0},null,{"$f":"+'IND7'!C$7","v":0},{"$f":"+'IND7'!C$8","v":0},"DOMICILIO LEGAL:",{"$f":"+'IND7'!C769","v":0}]
[37,"R70-11/2",{"$f":"+'DATOS COMUN'!$C$3","v":0},null,{"$f":"+'IND7'!C$7","v":0},{"$f":"+'IND7'!C$8","v":0},"LOCALIDAD:",{"$f":"+'IND7'!C770","v":0}]
[38,"R70-11/2",{"$f":"+'DATOS COMUN'!$C$3","v":0},null,{"$f":"+'IND7'!C$7","v":0},{"$f":"+'IND7'!C$8","v":0},"PROVINCIA/ESTADO/REGIÓN:",{"$f":"+'IND7'!C771","v":0}]
[39,"R70-11/2",{"$f":"+'DATOS COMUN'!$C$3","v":0},null,{"$f":"+'IND7'!C$7","v":0},{"$f":"+'IND7'!C$8","v":0},"PAÍS:",{"$f":"+'IND7'!C772","v":0}]
[40,"R70-11/2",{"$f":"+'DATOS COMUN'!$C$3","v":0},null,{"$f":"+'IND7'!C$7","v":0},{"$f":"+'IND7'!C$8","v":0},"CARÁCTER EN LA QUE INTERVIENE -en calidad de socio, asociado, administrador, etc.-:",{"$f":"+'IND7'!C773","v":0}]
[41,"R70-11/2",{"$f":"+'DATOS COMUN'!$C$3","v":0},null,{"$f":"+'IND7'!C$7","v":0},{"$f":"+'IND7'!C$8","v":0},"NOMBRE PERSONA JCA. QUE INTEGRA:",{"$f":"+'IND7'!C774","v":0}]
[42,"R70-11/2",{"$f":"+'DATOS COMUN'!$C$3","v":0},null,{"$f":"+'IND7'!C$7","v":0},{"$f":"+'IND7'!C$8","v":0},"TIPO DE PERSONA JCA. -sociedad; fundación, asociación civil, etc.-:",{"$f":"+'IND7'!C775","v":0}]
[43,"R70-11/2",{"$f":"+'DATOS COMUN'!$C$3","v":0},null,{"$f":"+'IND7'!C$7","v":0},{"$f":"+'IND7'!C$8","v":0},"CARÁCTER EN LA QUE INTERVIENE -en calidad de socio, asociado, administrador, etc.-:",{"$f":"+'IND7'!C776","v":0}]
[44,"R70-11/2",{"$f":"+'DATOS COMUN'!$C$3","v":0},null,{"$f":"+'IND7'!C$7","v":0},{"$f":"+'IND7'!C$8","v":0},"CUIT -sin punto ni barras-:",{"$f":"+'IND7'!C777","v":0}]
[45,"R70-11/2",{"$f":"+'DATOS COMUN'!$C$3","v":0},null,{"$f":"+'IND7'!C$7","v":0},{"$f":"+'IND7'!C$8","v":0},"FECHA DE CONSTITUCIÓN -DD/MM/AA-:",{"$f":"+'IND7'!C778","v":0}]
[46,"R70-11/2",{"$f":"+'DATOS COMUN'!$C$3","v":0},null,{"$f":"+'IND7'!C$7","v":0},{"$f":"+'IND7'!C$8","v":0},"DOMICILIO LEGAL:",{"$f":"+'IND7'!C779","v":0}]
[47,"R70-11/2",{"$f":"+'DATOS COMUN'!$C$3","v":0},null,{"$f":"+'IND7'!C$7","v":0},{"$f":"+'IND7'!C$8","v":0},"LOCALIDAD:",{"$f":"+'IND7'!C780","v":0}]
[48,"R70-11/2",{"$f":"+'DATOS COMUN'!$C$3","v":0},null,{"$f":"+'IND7'!C$7","v":0},{"$f":"+'IND7'!C$8","v":0},"PROVINCIA/ESTADO/REGIÓN:",{"$f":"+'IND7'!C781","v":0}]
[49,"R70-11/2",{"$f":"+'DATOS COMUN'!$C$3","v":0},null,{"$f":"+'IND7'!C$7","v":0},{"$f":"+'IND7'!C$8","v":0},"PAÍS:",{"$f":"+'IND7'!C782","v":0}]
[50,"R70-11/2",{"$f":"+'DATOS COMUN'!$C$3","v":0},null,{"$f":"+'IND7'!C$7","v":0},{"$f":"+'IND7'!C$8","v":0},"CARÁCTER EN LA QUE INTERVIENE -en calidad de socio, asociado, administrador, etc.-:",{"$f":"+'IND7'!C783","v":0}]
[51,"R70-11/2",{"$f":"+'DATOS COMUN'!$C$3","v":0},null,{"$f":"+'IND7'!C$7","v":0},{"$f":"+'IND7'!C$8","v":0},"NOMBRE PERSONA JCA. QUE INTEGRA:",{"$f":"+'IND7'!C784","v":0}]
[52,"R70-11/2",{"$f":"+'DATOS COMUN'!$C$3","v":0},null,{"$f":"+'IND7'!C$7","v":0},{"$f":"+'IND7'!C$8","v":0},"TIPO DE PERSONA JCA. -sociedad; fundación, asociación civil, etc.-:",{"$f":"+'IND7'!C785","v":0}]
[53,"R70-11/2",{"$f":"+'DATOS COMUN'!$C$3","v":0},null,{"$f":"+'IND7'!C$7","v":0},{"$f":"+'IND7'!C$8","v":0},"CARÁCTER EN LA QUE INTERVIENE -en calidad de socio, asociado, administrador, etc.-:",{"$f":"+'IND7'!C786","v":0}]
[54,"R70-11/2",{"$f":"+'DATOS COMUN'!$C$3","v":0},null,{"$f":"+'IND7'!C$7","v":0},{"$f":"+'IND7'!C$8","v":0},"CUIT -sin punto ni barras-:",{"$f":"+'IND7'!C787","v":0}]
[55,"R70-11/2",{"$f":"+'DATOS COMUN'!$C$3","v":0},null,{"$f":"+'IND7'!C$7","v":0},{"$f":"+'IND7'!C$8","v":0},"FECHA DE CONSTITUCIÓN -DD/MM/AA-:",{"$f":"+'IND7'!C788","v":0}]
[56,"R70-11/2",{"$f":"+'DATOS COMUN'!$C$3","v":0},null,{"$f":"+'IND7'!C$7","v":0},{"$f":"+'IND7'!C$8","v":0},"DOMICILIO LEGAL:",{"$f":"+'IND7'!C789","v":0}]
[57,"R70-11/2",{"$f":"+'DATOS COMUN'!$C$3","v":0},null,{"$f":"+'IND7'!C$7","v":0},{"$f":"+'IND7'!C$8","v":0},"LOCALIDAD:",{"$f":"+'IND7'!C790","v":0}]
[58,"R70-11/2",{"$f":"+'DATOS COMUN'!$C$3","v":0},null,{"$f":"+'IND7'!C$7","v":0},{"$f":"+'IND7'!C$8","v":0},"PROVINCIA/ESTADO/REGIÓN:",{"$f":"+'IND7'!C791","v":0}]
[59,"R70-11/2",{"$f":"+'DATOS COMUN'!$C$3","v":0},null,{"$f":"+'IND7'!C$7","v":0},{"$f":"+'IND7'!C$8","v":0},"PAÍS:",{"$f":"+'IND7'!C792","v":0}]
[60,"R70-11/2",{"$f":"+'DATOS COMUN'!$C$3","v":0},null,{"$f":"+'IND7'!C$7","v":0},{"$f":"+'IND7'!C$8","v":0},"CARÁCTER EN LA QUE INTERVIENE -en calidad de socio, asociado, administrador, etc.-:",{"$f":"+'IND7'!C793","v":0}]
[61,"R70-11/2",{"$f":"+'DATOS COMUN'!$C$3","v":0},null,{"$f":"+'IND7'!C$7","v":0},{"$f":"+'IND7'!C$8","v":0},"NOMBRE PERSONA JCA. QUE INTEGRA:",{"$f":"+'IND7'!C794","v":0}]
[62,"R70-11/2",{"$f":"+'DATOS COMUN'!$C$3","v":0},null,{"$f":"+'IND7'!C$7","v":0},{"$f":"+'IND7'!C$8","v":0},"TIPO DE PERSONA JCA. -sociedad; fundación, asociación civil, etc.-:",{"$f":"+'IND7'!C795","v":0}]
[63,"R70-11/2",{"$f":"+'DATOS COMUN'!$C$3","v":0},null,{"$f":"+'IND7'!C$7","v":0},{"$f":"+'IND7'!C$8","v":0},"CARÁCTER EN LA QUE INTERVIENE -en calidad de socio, asociado, administrador, etc.-:",{"$f":"+'IND7'!C796","v":0}]
[64,"R70-11/2",{"$f":"+'DATOS COMUN'!$C$3","v":0},null,{"$f":"+'IND7'!C$7","v":0},{"$f":"+'IND7'!C$8","v":0},"CUIT -sin punto ni barras-:",{"$f":"+'IND7'!C797","v":0}]
[65,"R70-11/2",{"$f":"+'DATOS COMUN'!$C$3","v":0},null,{"$f":"+'IND7'!C$7","v":0},{"$f":"+'IND7'!C$8","v":0},"FECHA DE CONSTITUCIÓN -DD/MM/AA-:",{"$f":"+'IND7'!C798","v":0}]
[66,"R70-11/2",{"$f":"+'DATOS COMUN'!$C$3","v":0},null,{"$f":"+'IND7'!C$7","v":0},{"$f":"+'IND7'!C$8","v":0},"DOMICILIO LEGAL:",{"$f":"+'IND7'!C799","v":0}]
[67,"R70-11/2",{"$f":"+'DATOS COMUN'!$C$3","v":0},null,{"$f":"+'IND7'!C$7","v":0},{"$f":"+'IND7'!C$8","v":0},"LOCALIDAD:",{"$f":"+'IND7'!C800","v":0}]
[68,"R70-11/2",{"$f":"+'DATOS COMUN'!$C$3","v":0},null,{"$f":"+'IND7'!C$7","v":0},{"$f":"+'IND7'!C$8","v":0},"PROVINCIA/ESTADO/REGIÓN:",{"$f":"+'IND7'!C801","v":0}]
[69,"R70-11/2",{"$f":"+'DATOS COMUN'!$C$3","v":0},null,{"$f":"+'IND7'!C$7","v":0},{"$f":"+'IND7'!C$8","v":0},"PAÍS:",{"$f":"+'IND7'!C802","v":0}]
[70,"R70-11/2",{"$f":"+'DATOS COMUN'!$C$3","v":0},null,{"$f":"+'IND7'!C$7","v":0},{"$f":"+'IND7'!C$8","v":0},"CARÁCTER EN LA QUE INTERVIENE -en calidad de socio, asociado, administrador, etc.-:",{"$f":"+'IND7'!C803","v":0}]
[71,"R70-11/2",{"$f":"+'DATOS COMUN'!$C$3","v":0},null,{"$f":"+'IND7'!C$7","v":0},{"$f":"+'IND7'!C$8","v":0},"NOMBRE PERSONA JCA. QUE INTEGRA:",{"$f":"+'IND7'!C804","v":0}]
[72,"R70-11/2",{"$f":"+'DATOS COMUN'!$C$3","v":0},null,{"$f":"+'IND7'!C$7","v":0},{"$f":"+'IND7'!C$8","v":0},"TIPO DE PERSONA JCA. -sociedad; fundación, asociación civil, etc.-:",{"$f":"+'IND7'!C805","v":0}]
[73,"R70-11/2",{"$f":"+'DATOS COMUN'!$C$3","v":0},null,{"$f":"+'IND7'!C$7","v":0},{"$f":"+'IND7'!C$8","v":0},"CARÁCTER EN LA QUE INTERVIENE -en calidad de socio, asociado, administrador, etc.-:",{"$f":"+'IND7'!C806","v":0}]
[74,"R70-11/2",{"$f":"+'DATOS COMUN'!$C$3","v":0},null,{"$f":"+'IND7'!C$7","v":0},{"$f":"+'IND7'!C$8","v":0},"CUIT -sin punto ni barras-:",{"$f":"+'IND7'!C807","v":0}]
[75,"R70-11/2",{"$f":"+'DATOS COMUN'!$C$3","v":0},null,{"$f":"+'IND7'!C$7","v":0},{"$f":"+'IND7'!C$8","v":0},"FECHA DE CONSTITUCIÓN -DD/MM/AA-:",{"$f":"+'IND7'!C808","v":0}]
[76,"R70-11/2",{"$f":"+'DATOS COMUN'!$C$3","v":0},null,{"$f":"+'IND7'!C$7","v":0},{"$f":"+'IND7'!C$8","v":0},"DOMICILIO LEGAL:",{"$f":"+'IND7'!C809","v":0}]
[77,"R70-11/2",{"$f":"+'DATOS COMUN'!$C$3","v":0},null,{"$f":"+'IND7'!C$7","v":0},{"$f":"+'IND7'!C$8","v":0},"LOCALIDAD:",{"$f":"+'IND7'!C810","v":0}]
[78,"R70-11/2",{"$f":"+'DATOS COMUN'!$C$3","v":0},null,{"$f":"+'IND7'!C$7","v":0},{"$f":"+'IND7'!C$8","v":0},"PROVINCIA/ESTADO/REGIÓN:",{"$f":"+'IND7'!C811","v":0}]
[79,"R70-11/2",{"$f":"+'DATOS COMUN'!$C$3","v":0},null,{"$f":"+'IND7'!C$7","v":0},{"$f":"+'IND7'!C$8","v":0},"PAÍS:",{"$f":"+'IND7'!C812","v":0}]
[80,"R70-11/2",{"$f":"+'DATOS COMUN'!$C$3","v":0},null,{"$f":"+'IND7'!C$7","v":0},{"$f":"+'IND7'!C$8","v":0},"CARÁCTER EN LA QUE INTERVIENE -en calidad de socio, asociado, administrador, etc.-:",{"$f":"+'IND7'!C813","v":0}]
[81,"R70-11/2",{"$f":"+'DATOS COMUN'!$C$3","v":0},null,{"$f":"+'IND7'!C$7","v":0},{"$f":"+'IND7'!C$8","v":0},"NOMBRE PERSONA JCA. QUE INTEGRA:",{"$f":"+'IND7'!C814","v":0}]
[82,"R70-11/2",{"$f":"+'DATOS COMUN'!$C$3","v":0},null,{"$f":"+'IND7'!C$7","v":0},{"$f":"+'IND7'!C$8","v":0},"TIPO DE PERSONA JCA. -sociedad; fundación, asociación civil, etc.-:",{"$f":"+'IND7'!C815","v":0}]
[83,"R70-11/2",{"$f":"+'DATOS COMUN'!$C$3","v":0},null,{"$f":"+'IND7'!C$7","v":0},{"$f":"+'IND7'!C$8","v":0},"CARÁCTER EN LA QUE INTERVIENE -en calidad de socio, asociado, administrador, etc.-:",{"$f":"+'IND7'!C816","v":0}]
[84,"R70-11/2",{"$f":"+'DATOS COMUN'!$C$3","v":0},null,{"$f":"+'IND7'!C$7","v":0},{"$f":"+'IND7'!C$8","v":0},"CUIT -sin punto ni barras-:",{"$f":"+'IND7'!C817","v":0}]
[85,"R70-11/2",{"$f":"+'DATOS COMUN'!$C$3","v":0},null,{"$f":"+'IND7'!C$7","v":0},{"$f":"+'IND7'!C$8","v":0},"FECHA DE CONSTITUCIÓN -DD/MM/AA-:",{"$f":"+'IND7'!C818","v":0}]
[86,"R70-11/2",{"$f":"+'DATOS COMUN'!$C$3","v":0},null,{"$f":"+'IND7'!C$7","v":0},{"$f":"+'IND7'!C$8","v":0},"DOMICILIO LEGAL:",{"$f":"+'IND7'!C819","v":0}]
[87,"R70-11/2",{"$f":"+'DATOS COMUN'!$C$3","v":0},null,{"$f":"+'IND7'!C$7","v":0},{"$f":"+'IND7'!C$8","v":0},"LOCALIDAD:",{"$f":"+'IND7'!C820","v":0}]
[88,"R70-11/2",{"$f":"+'DATOS COMUN'!$C$3","v":0},null,{"$f":"+'IND7'!C$7","v":0},{"$f":"+'IND7'!C$8","v":0},"PROVINCIA/ESTADO/REGIÓN:",{"$f":"+'IND7'!C821","v":0}]
[89,"R70-11/2",{"$f":"+'DATOS COMUN'!$C$3","v":0},null,{"$f":"+'IND7'!C$7","v":0},{"$f":"+'IND7'!C$8","v":0},"PAÍS:",{"$f":"+'IND7'!C822","v":0}]
[90,"R70-11/2",{"$f":"+'DATOS COMUN'!$C$3","v":0},null,{"$f":"+'IND7'!C$7","v":0},{"$f":"+'IND7'!C$8","v":0},"CARÁCTER EN LA QUE INTERVIENE -en calidad de socio, asociado, administrador, etc.-:",{"$f":"+'IND7'!C823","v":0}]
[91,"R70-11/2",{"$f":"+'DATOS COMUN'!$C$3","v":0},null,{"$f":"+'IND7'!C$7","v":0},{"$f":"+'IND7'!C$8","v":0},"NOMBRE PERSONA JCA. QUE INTEGRA:",{"$f":"+'IND7'!C824","v":0}]
[92,"R70-11/2",{"$f":"+'DATOS COMUN'!$C$3","v":0},null,{"$f":"+'IND7'!C$7","v":0},{"$f":"+'IND7'!C$8","v":0},"TIPO DE PERSONA JCA. -sociedad; fundación, asociación civil, etc.-:",{"$f":"+'IND7'!C825","v":0}]
[93,"R70-11/2",{"$f":"+'DATOS COMUN'!$C$3","v":0},null,{"$f":"+'IND7'!C$7","v":0},{"$f":"+'IND7'!C$8","v":0},"CARÁCTER EN LA QUE INTERVIENE -en calidad de socio, asociado, administrador, etc.-:",{"$f":"+'IND7'!C826","v":0}]
[94,"R70-11/2",{"$f":"+'DATOS COMUN'!$C$3","v":0},null,{"$f":"+'IND7'!C$7","v":0},{"$f":"+'IND7'!C$8","v":0},"CUIT -sin punto ni barras-:",{"$f":"+'IND7'!C827","v":0}]
[95,"R70-11/2",{"$f":"+'DATOS COMUN'!$C$3","v":0},null,{"$f":"+'IND7'!C$7","v":0},{"$f":"+'IND7'!C$8","v":0},"FECHA DE CONSTITUCIÓN -DD/MM/AA-:",{"$f":"+'IND7'!C828","v":0}]
[96,"R70-11/2",{"$f":"+'DATOS COMUN'!$C$3","v":0},null,{"$f":"+'IND7'!C$7","v":0},{"$f":"+'IND7'!C$8","v":0},"DOMICILIO LEGAL:",{"$f":"+'IND7'!C829","v":0}]
[97,"R70-11/2",{"$f":"+'DATOS COMUN'!$C$3","v":0},null,{"$f":"+'IND7'!C$7","v":0},{"$f":"+'IND7'!C$8","v":0},"LOCALIDAD:",{"$f":"+'IND7'!C830","v":0}]
[98,"R70-11/2",{"$f":"+'DATOS COMUN'!$C$3","v":0},null,{"$f":"+'IND7'!C$7","v":0},{"$f":"+'IND7'!C$8","v":0},"PROVINCIA/ESTADO/REGIÓN:",{"$f":"+'IND7'!C831","v":0}]
[99,"R70-11/2",{"$f":"+'DATOS COMUN'!$C$3","v":0},null,{"$f":"+'IND7'!C$7","v":0},{"$f":"+'IND7'!C$8","v":0},"PAÍS:",{"$f":"+'IND7'!C832","v":0}]
[100,"R70-11/2",{"$f":"+'DATOS COMUN'!$C$3","v":0},null,{"$f":"+'IND7'!C$7","v":0},{"$f":"+'IND7'!C$8","v":0},"CARÁCTER EN LA QUE INTERVIENE -en calidad de socio, asociado, administrador, etc.-:",{"$f":"+'IND7'!C833","v":0}]
[101,"R70-11/2",{"$f":"+'DATOS COMUN'!$C$3","v":0},null,{"$f":"+'IND7'!C$7","v":0},{"$f":"+'IND7'!C$8","v":0},"NOMBRE PERSONA JCA. QUE INTEGRA:",{"$f":"+'IND7'!C834","v":0}]
[102,"R70-11/2",{"$f":"+'DATOS COMUN'!$C$3","v":0},null,{"$f":"+'IND7'!C$7","v":0},{"$f":"+'IND7'!C$8","v":0},"TIPO DE PERSONA JCA. -sociedad; fundación, asociación civil, etc.-:",{"$f":"+'IND7'!C835","v":0}]
[103,"R70-11/2",{"$f":"+'DATOS COMUN'!$C$3","v":0},null,{"$f":"+'IND7'!C$7","v":0},{"$f":"+'IND7'!C$8","v":0},"CARÁCTER EN LA QUE INTERVIENE -en calidad de socio, asociado, administrador, etc.-:",{"$f":"+'IND7'!C836","v":0}]
[104,"R70-11/2",{"$f":"+'DATOS COMUN'!$C$3","v":0},null,{"$f":"+'IND7'!C$7","v":0},{"$f":"+'IND7'!C$8","v":0},"CUIT -sin punto ni barras-:",{"$f":"+'IND7'!C837","v":0}]
[105,"R70-11/2",{"$f":"+'DATOS COMUN'!$C$3","v":0},null,{"$f":"+'IND7'!C$7","v":0},{"$f":"+'IND7'!C$8","v":0},"FECHA DE CONSTITUCIÓN -DD/MM/AA-:",{"$f":"+'IND7'!C838","v":0}]
[106,"R70-11/2",{"$f":"+'DATOS COMUN'!$C$3","v":0},null,{"$f":"+'IND7'!C$7","v":0},{"$f":"+'IND7'!C$8","v":0},"DOMICILIO LEGAL:",{"$f":"+'IND7'!C839","v":0}]
[107,"R70-11/2",{"$f":"+'DATOS COMUN'!$C$3","v":0},null,{"$f":"+'IND7'!C$7","v":0},{"$f":"+'IND7'!C$8","v":0},"LOCALIDAD:",{"$f":"+'IND7'!C840","v":0}]
[108,"R70-11/2",{"$f":"+'DATOS COMUN'!$C$3","v":0},null,{"$f":"+'IND7'!C$7","v":0},{"$f":"+'IND7'!C$8","v":0},"PROVINCIA/ESTADO/REGIÓN:",{"$f":"+'IND7'!C841","v":0}]
[109,"R70-11/2",{"$f":"+'DATOS COMUN'!$C$3","v":0},null,{"$f":"+'IND7'!C$7","v":0},{"$f":"+'IND7'!C$8","v":0},"PAÍS:",{"$f":"+'IND7'!C842","v":0}]
[110,"R70-11/2",{"$f":"+'DATOS COMUN'!$C$3","v":0},null,{"$f":"+'IND7'!C$7","v":0},{"$f":"+'IND7'!C$8","v":0},"CARÁCTER EN LA QUE INTERVIENE -en calidad de socio, asociado, administrador, etc.-:",{"$f":"+'IND7'!C843","v":0}]
[111,"R70-11/2",{"$f":"+'DATOS COMUN'!$C$3","v":0},null,{"$f":"+'IND7'!C$7","v":0},{"$f":"+'IND7'!C$8","v":0},"NOMBRE PERSONA JCA. QUE INTEGRA:",{"$f":"+'IND7'!C844","v":0}]
[112,"R70-11/2",{"$f":"+'DATOS COMUN'!$C$3","v":0},null,{"$f":"+'IND7'!C$7","v":0},{"$f":"+'IND7'!C$8","v":0},"TIPO DE PERSONA JCA. -sociedad; fundación, asociación civil, etc.-:",{"$f":"+'IND7'!C845","v":0}]
[113,"R70-11/2",{"$f":"+'DATOS COMUN'!$C$3","v":0},null,{"$f":"+'IND7'!C$7","v":0},{"$f":"+'IND7'!C$8","v":0},"CARÁCTER EN LA QUE INTERVIENE -en calidad de socio, asociado, administrador, etc.-:",{"$f":"+'IND7'!C846","v":0}]
[114,"R70-11/2",{"$f":"+'DATOS COMUN'!$C$3","v":0},null,{"$f":"+'IND7'!C$7","v":0},{"$f":"+'IND7'!C$8","v":0},"CUIT -sin punto ni barras-:",{"$f":"+'IND7'!C847","v":0}]
[115,"R70-11/2",{"$f":"+'DATOS COMUN'!$C$3","v":0},null,{"$f":"+'IND7'!C$7","v":0},{"$f":"+'IND7'!C$8","v":0},"FECHA DE CONSTITUCIÓN -DD/MM/AA-:",{"$f":"+'IND7'!C848","v":0}]
[116,"R70-11/2",{"$f":"+'DATOS COMUN'!$C$3","v":0},null,{"$f":"+'IND7'!C$7","v":0},{"$f":"+'IND7'!C$8","v":0},"DOMICILIO LEGAL:",{"$f":"+'IND7'!C849","v":0}]
[117,"R70-11/2",{"$f":"+'DATOS COMUN'!$C$3","v":0},null,{"$f":"+'IND7'!C$7","v":0},{"$f":"+'IND7'!C$8","v":0},"LOCALIDAD:",{"$f":"+'IND7'!C850","v":0}]
[118,"R70-11/2",{"$f":"+'DATOS COMUN'!$C$3","v":0},null,{"$f":"+'IND7'!C$7","v":0},{"$f":"+'IND7'!C$8","v":0},"PROVINCIA/ESTADO/REGIÓN:",{"$f":"+'IND7'!C851","v":0}]
[119,"R70-11/2",{"$f":"+'DATOS COMUN'!$C$3","v":0},null,{"$f":"+'IND7'!C$7","v":0},{"$f":"+'IND7'!C$8","v":0},"PAÍS:",{"$f":"+'IND7'!C852","v":0}]
[120,"R70-11/2",{"$f":"+'DATOS COMUN'!$C$3","v":0},null,{"$f":"+'IND7'!C$7","v":0},{"$f":"+'IND7'!C$8","v":0},"CARÁCTER EN LA QUE INTERVIENE -en calidad de socio, asociado, administrador, etc.-:",{"$f":"+'IND7'!C853","v":0}]
[1,"R70-11/2",{"$f":"+'DATOS COMUN'!$C$3","v":0},null,{"$f":"+'IND7'!C$7","v":0},{"$f":"+'IND7'!C$8","v":0},"NOMBRE PERSONA JCA. QUE INTEGRA:",{"$f":"+'IND7'!C854","v":0},null,null,null,null,null,null,null,null,null,null,{"$f":"IF(AND(B907=B906,C907=C906,E907=E906,F907=F906,G907=G906,H907=H906),\"IGUAL\",\"\")","v":""},{"$f":"IF(H907=\"<<<<>>>>NO COMPLETADO\",1,0)","v":0}]
[2,"R70-11/2",{"$f":"+'DATOS COMUN'!$C$3","v":0},null,{"$f":"+'IND7'!C$7","v":0},{"$f":"+'IND7'!C$8","v":0},"TIPO DE PERSONA JCA. -sociedad; fundación, asociación civil, etc.-:",{"$f":"+'IND7'!C855","v":0},null,null,null,null,null,null,null,null,null,null,"",0]
[3,"R70-11/2",{"$f":"+'DATOS COMUN'!$C$3","v":0},null,{"$f":"+'IND7'!C$7","v":0},{"$f":"+'IND7'!C$8","v":0},"CARÁCTER EN LA QUE INTERVIENE -en calidad de socio, asociado, administrador, etc.-:",{"$f":"+'IND7'!C856","v":0},null,null,null,null,null,null,null,null,null,null,"",0]
[4,"R70-11/2",{"$f":"+'DATOS COMUN'!$C$3","v":0},null,{"$f":"+'IND7'!C$7","v":0},{"$f":"+'IND7'!C$8","v":0},"CUIT -sin punto ni barras-:",{"$f":"+'IND7'!C857","v":0},null,null,null,null,null,null,null,null,null,null,"",0]
[5,"R70-11/2",{"$f":"+'DATOS COMUN'!$C$3","v":0},null,{"$f":"+'IND7'!C$7","v":0},{"$f":"+'IND7'!C$8","v":0},"FECHA DE CONSTITUCIÓN -DD/MM/AA-:",{"$f":"+'IND7'!C858","v":0},null,null,null,null,null,null,null,null,null,null,"",0]
[6,"R70-11/2",{"$f":"+'DATOS COMUN'!$C$3","v":0},null,{"$f":"+'IND7'!C$7","v":0},{"$f":"+'IND7'!C$8","v":0},"DOMICILIO LEGAL:",{"$f":"+'IND7'!C859","v":0},null,null,null,null,null,null,null,null,null,null,"",0]
[7,"R70-11/2",{"$f":"+'DATOS COMUN'!$C$3","v":0},null,{"$f":"+'IND7'!C$7","v":0},{"$f":"+'IND7'!C$8","v":0},"LOCALIDAD:",{"$f":"+'IND7'!C860","v":0},null,null,null,null,null,null,null,null,null,null,"",0]
[8,"R70-11/2",{"$f":"+'DATOS COMUN'!$C$3","v":0},null,{"$f":"+'IND7'!C$7","v":0},{"$f":"+'IND7'!C$8","v":0},"PROVINCIA/ESTADO/REGIÓN:",{"$f":"+'IND7'!C861","v":0},null,null,null,null,null,null,null,null,null,null,"",0]
[9,"R70-11/2",{"$f":"+'DATOS COMUN'!$C$3","v":0},null,{"$f":"+'IND7'!C$7","v":0},{"$f":"+'IND7'!C$8","v":0},"PAÍS:",{"$f":"+'IND7'!C862","v":0},null,null,null,null,null,null,null,null,null,null,"",0]
[10,"R70-11/2",{"$f":"+'DATOS COMUN'!$C$3","v":0},null,{"$f":"+'IND7'!C$7","v":0},{"$f":"+'IND7'!C$8","v":0},"CARÁCTER EN LA QUE INTERVIENE -en calidad de socio, asociado, administrador, etc.-:",{"$f":"+'IND7'!C863","v":0},null,null,null,null,null,null,null,null,null,null,"",0]
[11,"R70-11/2",{"$f":"+'DATOS COMUN'!$C$3","v":0},null,{"$f":"+'IND7'!C$7","v":0},{"$f":"+'IND7'!C$8","v":0},"NOMBRE PERSONA JCA. QUE INTEGRA:",{"$f":"+'IND7'!C864","v":0},null,null,null,null,null,null,null,null,null,null,"",0]
[12,"R70-11/2",{"$f":"+'DATOS COMUN'!$C$3","v":0},null,{"$f":"+'IND7'!C$7","v":0},{"$f":"+'IND7'!C$8","v":0},"TIPO DE PERSONA JCA. -sociedad; fundación, asociación civil, etc.-:",{"$f":"+'IND7'!C865","v":0},null,null,null,null,null,null,null,null,null,null,"",0]
[13,"R70-11/2",{"$f":"+'DATOS COMUN'!$C$3","v":0},null,{"$f":"+'IND7'!C$7","v":0},{"$f":"+'IND7'!C$8","v":0},"CARÁCTER EN LA QUE INTERVIENE -en calidad de socio, asociado, administrador, etc.-:",{"$f":"+'IND7'!C866","v":0},null,null,null,null,null,null,null,null,null,null,"",0]
[14,"R70-11/2",{"$f":"+'DATOS COMUN'!$C$3","v":0},null,{"$f":"+'IND7'!C$7","v":0},{"$f":"+'IND7'!C$8","v":0},"CUIT -sin punto ni barras-:",{"$f":"+'IND7'!C867","v":0},null,null,null,null,null,null,null,null,null,null,"",0]
[15,"R70-11/2",{"$f":"+'DATOS COMUN'!$C$3","v":0},null,{"$f":"+'IND7'!C$7","v":0},{"$f":"+'IND7'!C$8","v":0},"FECHA DE CONSTITUCIÓN -DD/MM/AA-:",{"$f":"+'IND7'!C868","v":0},null,null,null,null,null,null,null,null,null,null,"",0]
[16,"R70-11/2",{"$f":"+'DATOS COMUN'!$C$3","v":0},null,{"$f":"+'IND7'!C$7","v":0},{"$f":"+'IND7'!C$8","v":0},"DOMICILIO LEGAL:",{"$f":"+'IND7'!C869","v":0},null,null,null,null,null,null,null,null,null,null,"",0]
[17,"R70-11/2",{"$f":"+'DATOS COMUN'!$C$3","v":0},null,{"$f":"+'IND7'!C$7","v":0},{"$f":"+'IND7'!C$8","v":0},"LOCALIDAD:",{"$f":"+'IND7'!C870","v":0},null,null,null,null,null,null,null,null,null,null,"",0]
[18,"R70-11/2",{"$f":"+'DATOS COMUN'!$C$3","v":0},null,{"$f":"+'IND7'!C$7","v":0},{"$f":"+'IND7'!C$8","v":0},"PROVINCIA/ESTADO/REGIÓN:",{"$f":"+'IND7'!C871","v":0},null,null,null,null,null,null,null,null,null,null,"",0]
[19,"R70-11/2",{"$f":"+'DATOS COMUN'!$C$3","v":0},null,{"$f":"+'IND7'!C$7","v":0},{"$f":"+'IND7'!C$8","v":0},"PAÍS:",{"$f":"+'IND7'!C872","v":0}]
[20,"R70-11/2",{"$f":"+'DATOS COMUN'!$C$3","v":0},null,{"$f":"+'IND7'!C$7","v":0},{"$f":"+'IND7'!C$8","v":0},"CARÁCTER EN LA QUE INTERVIENE -en calidad de socio, asociado, administrador, etc.-:",{"$f":"+'IND7'!C873","v":0}]
[21,"R70-11/2",{"$f":"+'DATOS COMUN'!$C$3","v":0},null,{"$f":"+'IND7'!C$7","v":0},{"$f":"+'IND7'!C$8","v":0},"NOMBRE PERSONA JCA. QUE INTEGRA:",{"$f":"+'IND7'!C874","v":0}]
[22,"R70-11/2",{"$f":"+'DATOS COMUN'!$C$3","v":0},null,{"$f":"+'IND7'!C$7","v":0},{"$f":"+'IND7'!C$8","v":0},"TIPO DE PERSONA JCA. -sociedad; fundación, asociación civil, etc.-:",{"$f":"+'IND7'!C875","v":0}]
[23,"R70-11/2",{"$f":"+'DATOS COMUN'!$C$3","v":0},null,{"$f":"+'IND7'!C$7","v":0},{"$f":"+'IND7'!C$8","v":0},"CARÁCTER EN LA QUE INTERVIENE -en calidad de socio, asociado, administrador, etc.-:",{"$f":"+'IND7'!C876","v":0}]
[24,"R70-11/2",{"$f":"+'DATOS COMUN'!$C$3","v":0},null,{"$f":"+'IND7'!C$7","v":0},{"$f":"+'IND7'!C$8","v":0},"CUIT -sin punto ni barras-:",{"$f":"+'IND7'!C877","v":0}]
[25,"R70-11/2",{"$f":"+'DATOS COMUN'!$C$3","v":0},null,{"$f":"+'IND7'!C$7","v":0},{"$f":"+'IND7'!C$8","v":0},"FECHA DE CONSTITUCIÓN -DD/MM/AA-:",{"$f":"+'IND7'!C878","v":0}]
[26,"R70-11/2",{"$f":"+'DATOS COMUN'!$C$3","v":0},null,{"$f":"+'IND7'!C$7","v":0},{"$f":"+'IND7'!C$8","v":0},"DOMICILIO LEGAL:",{"$f":"+'IND7'!C879","v":0}]
[27,"R70-11/2",{"$f":"+'DATOS COMUN'!$C$3","v":0},null,{"$f":"+'IND7'!C$7","v":0},{"$f":"+'IND7'!C$8","v":0},"LOCALIDAD:",{"$f":"+'IND7'!C880","v":0}]
[28,"R70-11/2",{"$f":"+'DATOS COMUN'!$C$3","v":0},null,{"$f":"+'IND7'!C$7","v":0},{"$f":"+'IND7'!C$8","v":0},"PROVINCIA/ESTADO/REGIÓN:",{"$f":"+'IND7'!C881","v":0}]
[29,"R70-11/2",{"$f":"+'DATOS COMUN'!$C$3","v":0},null,{"$f":"+'IND7'!C$7","v":0},{"$f":"+'IND7'!C$8","v":0},"PAÍS:",{"$f":"+'IND7'!C882","v":0}]
[30,"R70-11/2",{"$f":"+'DATOS COMUN'!$C$3","v":0},null,{"$f":"+'IND7'!C$7","v":0},{"$f":"+'IND7'!C$8","v":0},"CARÁCTER EN LA QUE INTERVIENE -en calidad de socio, asociado, administrador, etc.-:",{"$f":"+'IND7'!C883","v":0}]
[31,"R70-11/2",{"$f":"+'DATOS COMUN'!$C$3","v":0},null,{"$f":"+'IND7'!C$7","v":0},{"$f":"+'IND7'!C$8","v":0},"NOMBRE PERSONA JCA. QUE INTEGRA:",{"$f":"+'IND7'!C884","v":0}]
[32,"R70-11/2",{"$f":"+'DATOS COMUN'!$C$3","v":0},null,{"$f":"+'IND7'!C$7","v":0},{"$f":"+'IND7'!C$8","v":0},"TIPO DE PERSONA JCA. -sociedad; fundación, asociación civil, etc.-:",{"$f":"+'IND7'!C885","v":0}]
[33,"R70-11/2",{"$f":"+'DATOS COMUN'!$C$3","v":0},null,{"$f":"+'IND7'!C$7","v":0},{"$f":"+'IND7'!C$8","v":0},"CARÁCTER EN LA QUE INTERVIENE -en calidad de socio, asociado, administrador, etc.-:",{"$f":"+'IND7'!C886","v":0}]
[34,"R70-11/2",{"$f":"+'DATOS COMUN'!$C$3","v":0},null,{"$f":"+'IND7'!C$7","v":0},{"$f":"+'IND7'!C$8","v":0},"CUIT -sin punto ni barras-:",{"$f":"+'IND7'!C887","v":0}]
[35,"R70-11/2",{"$f":"+'DATOS COMUN'!$C$3","v":0},null,{"$f":"+'IND7'!C$7","v":0},{"$f":"+'IND7'!C$8","v":0},"FECHA DE CONSTITUCIÓN -DD/MM/AA-:",{"$f":"+'IND7'!C888","v":0}]
[36,"R70-11/2",{"$f":"+'DATOS COMUN'!$C$3","v":0},null,{"$f":"+'IND7'!C$7","v":0},{"$f":"+'IND7'!C$8","v":0},"DOMICILIO LEGAL:",{"$f":"+'IND7'!C889","v":0}]
[37,"R70-11/2",{"$f":"+'DATOS COMUN'!$C$3","v":0},null,{"$f":"+'IND7'!C$7","v":0},{"$f":"+'IND7'!C$8","v":0},"LOCALIDAD:",{"$f":"+'IND7'!C890","v":0}]
[38,"R70-11/2",{"$f":"+'DATOS COMUN'!$C$3","v":0},null,{"$f":"+'IND7'!C$7","v":0},{"$f":"+'IND7'!C$8","v":0},"PROVINCIA/ESTADO/REGIÓN:",{"$f":"+'IND7'!C891","v":0}]
[39,"R70-11/2",{"$f":"+'DATOS COMUN'!$C$3","v":0},null,{"$f":"+'IND7'!C$7","v":0},{"$f":"+'IND7'!C$8","v":0},"PAÍS:",{"$f":"+'IND7'!C892","v":0}]
[40,"R70-11/2",{"$f":"+'DATOS COMUN'!$C$3","v":0},null,{"$f":"+'IND7'!C$7","v":0},{"$f":"+'IND7'!C$8","v":0},"CARÁCTER EN LA QUE INTERVIENE -en calidad de socio, asociado, administrador, etc.-:",{"$f":"+'IND7'!C893","v":0}]
[41,"R70-11/2",{"$f":"+'DATOS COMUN'!$C$3","v":0},null,{"$f":"+'IND7'!C$7","v":0},{"$f":"+'IND7'!C$8","v":0},"NOMBRE PERSONA JCA. QUE INTEGRA:",{"$f":"+'IND7'!C894","v":0}]
[42,"R70-11/2",{"$f":"+'DATOS COMUN'!$C$3","v":0},null,{"$f":"+'IND7'!C$7","v":0},{"$f":"+'IND7'!C$8","v":0},"TIPO DE PERSONA JCA. -sociedad; fundación, asociación civil, etc.-:",{"$f":"+'IND7'!C895","v":0}]
[43,"R70-11/2",{"$f":"+'DATOS COMUN'!$C$3","v":0},null,{"$f":"+'IND7'!C$7","v":0},{"$f":"+'IND7'!C$8","v":0},"CARÁCTER EN LA QUE INTERVIENE -en calidad de socio, asociado, administrador, etc.-:",{"$f":"+'IND7'!C896","v":0}]
[44,"R70-11/2",{"$f":"+'DATOS COMUN'!$C$3","v":0},null,{"$f":"+'IND7'!C$7","v":0},{"$f":"+'IND7'!C$8","v":0},"CUIT -sin punto ni barras-:",{"$f":"+'IND7'!C897","v":0}]
[45,"R70-11/2",{"$f":"+'DATOS COMUN'!$C$3","v":0},null,{"$f":"+'IND7'!C$7","v":0},{"$f":"+'IND7'!C$8","v":0},"FECHA DE CONSTITUCIÓN -DD/MM/AA-:",{"$f":"+'IND7'!C898","v":0}]
[46,"R70-11/2",{"$f":"+'DATOS COMUN'!$C$3","v":0},null,{"$f":"+'IND7'!C$7","v":0},{"$f":"+'IND7'!C$8","v":0},"DOMICILIO LEGAL:",{"$f":"+'IND7'!C899","v":0}]
[47,"R70-11/2",{"$f":"+'DATOS COMUN'!$C$3","v":0},null,{"$f":"+'IND7'!C$7","v":0},{"$f":"+'IND7'!C$8","v":0},"LOCALIDAD:",{"$f":"+'IND7'!C900","v":0}]
[48,"R70-11/2",{"$f":"+'DATOS COMUN'!$C$3","v":0},null,{"$f":"+'IND7'!C$7","v":0},{"$f":"+'IND7'!C$8","v":0},"PROVINCIA/ESTADO/REGIÓN:",{"$f":"+'IND7'!C901","v":0}]
[49,"R70-11/2",{"$f":"+'DATOS COMUN'!$C$3","v":0},null,{"$f":"+'IND7'!C$7","v":0},{"$f":"+'IND7'!C$8","v":0},"PAÍS:",{"$f":"+'IND7'!C902","v":0}]
[50,"R70-11/2",{"$f":"+'DATOS COMUN'!$C$3","v":0},null,{"$f":"+'IND7'!C$7","v":0},{"$f":"+'IND7'!C$8","v":0},"CARÁCTER EN LA QUE INTERVIENE -en calidad de socio, asociado, administrador, etc.-:",{"$f":"+'IND7'!C903","v":0}]
[51,"R70-11/2",{"$f":"+'DATOS COMUN'!$C$3","v":0},null,{"$f":"+'IND7'!C$7","v":0},{"$f":"+'IND7'!C$8","v":0},"NOMBRE PERSONA JCA. QUE INTEGRA:",{"$f":"+'IND7'!C904","v":0}]
[52,"R70-11/2",{"$f":"+'DATOS COMUN'!$C$3","v":0},null,{"$f":"+'IND7'!C$7","v":0},{"$f":"+'IND7'!C$8","v":0},"TIPO DE PERSONA JCA. -sociedad; fundación, asociación civil, etc.-:",{"$f":"+'IND7'!C905","v":0}]
[53,"R70-11/2",{"$f":"+'DATOS COMUN'!$C$3","v":0},null,{"$f":"+'IND7'!C$7","v":0},{"$f":"+'IND7'!C$8","v":0},"CARÁCTER EN LA QUE INTERVIENE -en calidad de socio, asociado, administrador, etc.-:",{"$f":"+'IND7'!C906","v":0}]
[54,"R70-11/2",{"$f":"+'DATOS COMUN'!$C$3","v":0},null,{"$f":"+'IND7'!C$7","v":0},{"$f":"+'IND7'!C$8","v":0},"CUIT -sin punto ni barras-:",{"$f":"+'IND7'!C907","v":0}]
[55,"R70-11/2",{"$f":"+'DATOS COMUN'!$C$3","v":0},null,{"$f":"+'IND7'!C$7","v":0},{"$f":"+'IND7'!C$8","v":0},"FECHA DE CONSTITUCIÓN -DD/MM/AA-:",{"$f":"+'IND7'!C908","v":0}]
[56,"R70-11/2",{"$f":"+'DATOS COMUN'!$C$3","v":0},null,{"$f":"+'IND7'!C$7","v":0},{"$f":"+'IND7'!C$8","v":0},"DOMICILIO LEGAL:",{"$f":"+'IND7'!C909","v":0}]
[57,"R70-11/2",{"$f":"+'DATOS COMUN'!$C$3","v":0},null,{"$f":"+'IND7'!C$7","v":0},{"$f":"+'IND7'!C$8","v":0},"LOCALIDAD:",{"$f":"+'IND7'!C910","v":0}]
[58,"R70-11/2",{"$f":"+'DATOS COMUN'!$C$3","v":0},null,{"$f":"+'IND7'!C$7","v":0},{"$f":"+'IND7'!C$8","v":0},"PROVINCIA/ESTADO/REGIÓN:",{"$f":"+'IND7'!C911","v":0}]
[59,"R70-11/2",{"$f":"+'DATOS COMUN'!$C$3","v":0},null,{"$f":"+'IND7'!C$7","v":0},{"$f":"+'IND7'!C$8","v":0},"PAÍS:",{"$f":"+'IND7'!C912","v":0}]
[60,"R70-11/2",{"$f":"+'DATOS COMUN'!$C$3","v":0},null,{"$f":"+'IND7'!C$7","v":0},{"$f":"+'IND7'!C$8","v":0},"CARÁCTER EN LA QUE INTERVIENE -en calidad de socio, asociado, administrador, etc.-:",{"$f":"+'IND7'!C913","v":0}]
[61,"R70-11/2",{"$f":"+'DATOS COMUN'!$C$3","v":0},null,{"$f":"+'IND7'!C$7","v":0},{"$f":"+'IND7'!C$8","v":0},"NOMBRE PERSONA JCA. QUE INTEGRA:",{"$f":"+'IND7'!C914","v":0}]
[62,"R70-11/2",{"$f":"+'DATOS COMUN'!$C$3","v":0},null,{"$f":"+'IND7'!C$7","v":0},{"$f":"+'IND7'!C$8","v":0},"TIPO DE PERSONA JCA. -sociedad; fundación, asociación civil, etc.-:",{"$f":"+'IND7'!C915","v":0}]
[63,"R70-11/2",{"$f":"+'DATOS COMUN'!$C$3","v":0},null,{"$f":"+'IND7'!C$7","v":0},{"$f":"+'IND7'!C$8","v":0},"CARÁCTER EN LA QUE INTERVIENE -en calidad de socio, asociado, administrador, etc.-:",{"$f":"+'IND7'!C916","v":0}]
[64,"R70-11/2",{"$f":"+'DATOS COMUN'!$C$3","v":0},null,{"$f":"+'IND7'!C$7","v":0},{"$f":"+'IND7'!C$8","v":0},"CUIT -sin punto ni barras-:",{"$f":"+'IND7'!C917","v":0}]
[65,"R70-11/2",{"$f":"+'DATOS COMUN'!$C$3","v":0},null,{"$f":"+'IND7'!C$7","v":0},{"$f":"+'IND7'!C$8","v":0},"FECHA DE CONSTITUCIÓN -DD/MM/AA-:",{"$f":"+'IND7'!C918","v":0}]
[66,"R70-11/2",{"$f":"+'DATOS COMUN'!$C$3","v":0},null,{"$f":"+'IND7'!C$7","v":0},{"$f":"+'IND7'!C$8","v":0},"DOMICILIO LEGAL:",{"$f":"+'IND7'!C919","v":0}]
[67,"R70-11/2",{"$f":"+'DATOS COMUN'!$C$3","v":0},null,{"$f":"+'IND7'!C$7","v":0},{"$f":"+'IND7'!C$8","v":0},"LOCALIDAD:",{"$f":"+'IND7'!C920","v":0}]
[68,"R70-11/2",{"$f":"+'DATOS COMUN'!$C$3","v":0},null,{"$f":"+'IND7'!C$7","v":0},{"$f":"+'IND7'!C$8","v":0},"PROVINCIA/ESTADO/REGIÓN:",{"$f":"+'IND7'!C921","v":0}]
[69,"R70-11/2",{"$f":"+'DATOS COMUN'!$C$3","v":0},null,{"$f":"+'IND7'!C$7","v":0},{"$f":"+'IND7'!C$8","v":0},"PAÍS:",{"$f":"+'IND7'!C922","v":0}]
[70,"R70-11/2",{"$f":"+'DATOS COMUN'!$C$3","v":0},null,{"$f":"+'IND7'!C$7","v":0},{"$f":"+'IND7'!C$8","v":0},"CARÁCTER EN LA QUE INTERVIENE -en calidad de socio, asociado, administrador, etc.-:",{"$f":"+'IND7'!C923","v":0}]
[71,"R70-11/2",{"$f":"+'DATOS COMUN'!$C$3","v":0},null,{"$f":"+'IND7'!C$7","v":0},{"$f":"+'IND7'!C$8","v":0},"NOMBRE PERSONA JCA. QUE INTEGRA:",{"$f":"+'IND7'!C924","v":0}]
[72,"R70-11/2",{"$f":"+'DATOS COMUN'!$C$3","v":0},null,{"$f":"+'IND7'!C$7","v":0},{"$f":"+'IND7'!C$8","v":0},"TIPO DE PERSONA JCA. -sociedad; fundación, asociación civil, etc.-:",{"$f":"+'IND7'!C925","v":0}]
[73,"R70-11/2",{"$f":"+'DATOS COMUN'!$C$3","v":0},null,{"$f":"+'IND7'!C$7","v":0},{"$f":"+'IND7'!C$8","v":0},"CARÁCTER EN LA QUE INTERVIENE -en calidad de socio, asociado, administrador, etc.-:",{"$f":"+'IND7'!C926","v":0}]
[74,"R70-11/2",{"$f":"+'DATOS COMUN'!$C$3","v":0},null,{"$f":"+'IND7'!C$7","v":0},{"$f":"+'IND7'!C$8","v":0},"CUIT -sin punto ni barras-:",{"$f":"+'IND7'!C927","v":0}]
[75,"R70-11/2",{"$f":"+'DATOS COMUN'!$C$3","v":0},null,{"$f":"+'IND7'!C$7","v":0},{"$f":"+'IND7'!C$8","v":0},"FECHA DE CONSTITUCIÓN -DD/MM/AA-:",{"$f":"+'IND7'!C928","v":0}]
[76,"R70-11/2",{"$f":"+'DATOS COMUN'!$C$3","v":0},null,{"$f":"+'IND7'!C$7","v":0},{"$f":"+'IND7'!C$8","v":0},"DOMICILIO LEGAL:",{"$f":"+'IND7'!C929","v":0}]
[77,"R70-11/2",{"$f":"+'DATOS COMUN'!$C$3","v":0},null,{"$f":"+'IND7'!C$7","v":0},{"$f":"+'IND7'!C$8","v":0},"LOCALIDAD:",{"$f":"+'IND7'!C930","v":0}]
[78,"R70-11/2",{"$f":"+'DATOS COMUN'!$C$3","v":0},null,{"$f":"+'IND7'!C$7","v":0},{"$f":"+'IND7'!C$8","v":0},"PROVINCIA/ESTADO/REGIÓN:",{"$f":"+'IND7'!C931","v":0}]
[79,"R70-11/2",{"$f":"+'DATOS COMUN'!$C$3","v":0},null,{"$f":"+'IND7'!C$7","v":0},{"$f":"+'IND7'!C$8","v":0},"PAÍS:",{"$f":"+'IND7'!C932","v":0}]
[80,"R70-11/2",{"$f":"+'DATOS COMUN'!$C$3","v":0},null,{"$f":"+'IND7'!C$7","v":0},{"$f":"+'IND7'!C$8","v":0},"CARÁCTER EN LA QUE INTERVIENE -en calidad de socio, asociado, administrador, etc.-:",{"$f":"+'IND7'!C933","v":0}]
[81,"R70-11/2",{"$f":"+'DATOS COMUN'!$C$3","v":0},null,{"$f":"+'IND7'!C$7","v":0},{"$f":"+'IND7'!C$8","v":0},"NOMBRE PERSONA JCA. QUE INTEGRA:",{"$f":"+'IND7'!C934","v":0}]
[82,"R70-11/2",{"$f":"+'DATOS COMUN'!$C$3","v":0},null,{"$f":"+'IND7'!C$7","v":0},{"$f":"+'IND7'!C$8","v":0},"TIPO DE PERSONA JCA. -sociedad; fundación, asociación civil, etc.-:",{"$f":"+'IND7'!C935","v":0}]
[83,"R70-11/2",{"$f":"+'DATOS COMUN'!$C$3","v":0},null,{"$f":"+'IND7'!C$7","v":0},{"$f":"+'IND7'!C$8","v":0},"CARÁCTER EN LA QUE INTERVIENE -en calidad de socio, asociado, administrador, etc.-:",{"$f":"+'IND7'!C936","v":0}]
[84,"R70-11/2",{"$f":"+'DATOS COMUN'!$C$3","v":0},null,{"$f":"+'IND7'!C$7","v":0},{"$f":"+'IND7'!C$8","v":0},"CUIT -sin punto ni barras-:",{"$f":"+'IND7'!C937","v":0}]
[85,"R70-11/2",{"$f":"+'DATOS COMUN'!$C$3","v":0},null,{"$f":"+'IND7'!C$7","v":0},{"$f":"+'IND7'!C$8","v":0},"FECHA DE CONSTITUCIÓN -DD/MM/AA-:",{"$f":"+'IND7'!C938","v":0}]
[86,"R70-11/2",{"$f":"+'DATOS COMUN'!$C$3","v":0},null,{"$f":"+'IND7'!C$7","v":0},{"$f":"+'IND7'!C$8","v":0},"DOMICILIO LEGAL:",{"$f":"+'IND7'!C939","v":0}]
[87,"R70-11/2",{"$f":"+'DATOS COMUN'!$C$3","v":0},null,{"$f":"+'IND7'!C$7","v":0},{"$f":"+'IND7'!C$8","v":0},"LOCALIDAD:",{"$f":"+'IND7'!C940","v":0}]
[88,"R70-11/2",{"$f":"+'DATOS COMUN'!$C$3","v":0},null,{"$f":"+'IND7'!C$7","v":0},{"$f":"+'IND7'!C$8","v":0},"PROVINCIA/ESTADO/REGIÓN:",{"$f":"+'IND7'!C941","v":0}]
[89,"R70-11/2",{"$f":"+'DATOS COMUN'!$C$3","v":0},null,{"$f":"+'IND7'!C$7","v":0},{"$f":"+'IND7'!C$8","v":0},"PAÍS:",{"$f":"+'IND7'!C942","v":0}]
[90,"R70-11/2",{"$f":"+'DATOS COMUN'!$C$3","v":0},null,{"$f":"+'IND7'!C$7","v":0},{"$f":"+'IND7'!C$8","v":0},"CARÁCTER EN LA QUE INTERVIENE -en calidad de socio, asociado, administrador, etc.-:",{"$f":"+'IND7'!C943","v":0}]
[91,"R70-11/2",{"$f":"+'DATOS COMUN'!$C$3","v":0},null,{"$f":"+'IND7'!C$7","v":0},{"$f":"+'IND7'!C$8","v":0},"NOMBRE PERSONA JCA. QUE INTEGRA:",{"$f":"+'IND7'!C944","v":0}]
[92,"R70-11/2",{"$f":"+'DATOS COMUN'!$C$3","v":0},null,{"$f":"+'IND7'!C$7","v":0},{"$f":"+'IND7'!C$8","v":0},"TIPO DE PERSONA JCA. -sociedad; fundación, asociación civil, etc.-:",{"$f":"+'IND7'!C945","v":0}]
[93,"R70-11/2",{"$f":"+'DATOS COMUN'!$C$3","v":0},null,{"$f":"+'IND7'!C$7","v":0},{"$f":"+'IND7'!C$8","v":0},"CARÁCTER EN LA QUE INTERVIENE -en calidad de socio, asociado, administrador, etc.-:",{"$f":"+'IND7'!C946","v":0}]
[94,"R70-11/2",{"$f":"+'DATOS COMUN'!$C$3","v":0},null,{"$f":"+'IND7'!C$7","v":0},{"$f":"+'IND7'!C$8","v":0},"CUIT -sin punto ni barras-:",{"$f":"+'IND7'!C947","v":0}]
[95,"R70-11/2",{"$f":"+'DATOS COMUN'!$C$3","v":0},null,{"$f":"+'IND7'!C$7","v":0},{"$f":"+'IND7'!C$8","v":0},"FECHA DE CONSTITUCIÓN -DD/MM/AA-:",{"$f":"+'IND7'!C948","v":0}]
[96,"R70-11/2",{"$f":"+'DATOS COMUN'!$C$3","v":0},null,{"$f":"+'IND7'!C$7","v":0},{"$f":"+'IND7'!C$8","v":0},"DOMICILIO LEGAL:",{"$f":"+'IND7'!C949","v":0}]
[97,"R70-11/2",{"$f":"+'DATOS COMUN'!$C$3","v":0},null,{"$f":"+'IND7'!C$7","v":0},{"$f":"+'IND7'!C$8","v":0},"LOCALIDAD:",{"$f":"+'IND7'!C950","v":0}]
[98,"R70-11/2",{"$f":"+'DATOS COMUN'!$C$3","v":0},null,{"$f":"+'IND7'!C$7","v":0},{"$f":"+'IND7'!C$8","v":0},"PROVINCIA/ESTADO/REGIÓN:",{"$f":"+'IND7'!C951","v":0}]
[99,"R70-11/2",{"$f":"+'DATOS COMUN'!$C$3","v":0},null,{"$f":"+'IND7'!C$7","v":0},{"$f":"+'IND7'!C$8","v":0},"PAÍS:",{"$f":"+'IND7'!C952","v":0}]
[100,"R70-11/2",{"$f":"+'DATOS COMUN'!$C$3","v":0},null,{"$f":"+'IND7'!C$7","v":0},{"$f":"+'IND7'!C$8","v":0},"CARÁCTER EN LA QUE INTERVIENE -en calidad de socio, asociado, administrador, etc.-:",{"$f":"+'IND7'!C953","v":0}]
[101,"R70-11/2",{"$f":"+'DATOS COMUN'!$C$3","v":0},null,{"$f":"+'IND7'!C$7","v":0},{"$f":"+'IND7'!C$8","v":0},"NOMBRE PERSONA JCA. QUE INTEGRA:",{"$f":"+'IND7'!C954","v":0}]
[102,"R70-11/2",{"$f":"+'DATOS COMUN'!$C$3","v":0},null,{"$f":"+'IND7'!C$7","v":0},{"$f":"+'IND7'!C$8","v":0},"TIPO DE PERSONA JCA. -sociedad; fundación, asociación civil, etc.-:",{"$f":"+'IND7'!C955","v":0}]
[103,"R70-11/2",{"$f":"+'DATOS COMUN'!$C$3","v":0},null,{"$f":"+'IND7'!C$7","v":0},{"$f":"+'IND7'!C$8","v":0},"CARÁCTER EN LA QUE INTERVIENE -en calidad de socio, asociado, administrador, etc.-:",{"$f":"+'IND7'!C956","v":0}]
[104,"R70-11/2",{"$f":"+'DATOS COMUN'!$C$3","v":0},null,{"$f":"+'IND7'!C$7","v":0},{"$f":"+'IND7'!C$8","v":0},"CUIT -sin punto ni barras-:",{"$f":"+'IND7'!C957","v":0}]
[105,"R70-11/2",{"$f":"+'DATOS COMUN'!$C$3","v":0},null,{"$f":"+'IND7'!C$7","v":0},{"$f":"+'IND7'!C$8","v":0},"FECHA DE CONSTITUCIÓN -DD/MM/AA-:",{"$f":"+'IND7'!C958","v":0}]
[106,"R70-11/2",{"$f":"+'DATOS COMUN'!$C$3","v":0},null,{"$f":"+'IND7'!C$7","v":0},{"$f":"+'IND7'!C$8","v":0},"DOMICILIO LEGAL:",{"$f":"+'IND7'!C959","v":0}]
[107,"R70-11/2",{"$f":"+'DATOS COMUN'!$C$3","v":0},null,{"$f":"+'IND7'!C$7","v":0},{"$f":"+'IND7'!C$8","v":0},"LOCALIDAD:",{"$f":"+'IND7'!C960","v":0}]
[108,"R70-11/2",{"$f":"+'DATOS COMUN'!$C$3","v":0},null,{"$f":"+'IND7'!C$7","v":0},{"$f":"+'IND7'!C$8","v":0},"PROVINCIA/ESTADO/REGIÓN:",{"$f":"+'IND7'!C961","v":0}]
[109,"R70-11/2",{"$f":"+'DATOS COMUN'!$C$3","v":0},null,{"$f":"+'IND7'!C$7","v":0},{"$f":"+'IND7'!C$8","v":0},"PAÍS:",{"$f":"+'IND7'!C962","v":0}]
[110,"R70-11/2",{"$f":"+'DATOS COMUN'!$C$3","v":0},null,{"$f":"+'IND7'!C$7","v":0},{"$f":"+'IND7'!C$8","v":0},"CARÁCTER EN LA QUE INTERVIENE -en calidad de socio, asociado, administrador, etc.-:",{"$f":"+'IND7'!C963","v":0}]
[111,"R70-11/2",{"$f":"+'DATOS COMUN'!$C$3","v":0},null,{"$f":"+'IND7'!C$7","v":0},{"$f":"+'IND7'!C$8","v":0},"NOMBRE PERSONA JCA. QUE INTEGRA:",{"$f":"+'IND7'!C964","v":0}]
[112,"R70-11/2",{"$f":"+'DATOS COMUN'!$C$3","v":0},null,{"$f":"+'IND7'!C$7","v":0},{"$f":"+'IND7'!C$8","v":0},"TIPO DE PERSONA JCA. -sociedad; fundación, asociación civil, etc.-:",{"$f":"+'IND7'!C965","v":0}]
[113,"R70-11/2",{"$f":"+'DATOS COMUN'!$C$3","v":0},null,{"$f":"+'IND7'!C$7","v":0},{"$f":"+'IND7'!C$8","v":0},"CARÁCTER EN LA QUE INTERVIENE -en calidad de socio, asociado, administrador, etc.-:",{"$f":"+'IND7'!C966","v":0}]
[114,"R70-11/2",{"$f":"+'DATOS COMUN'!$C$3","v":0},null,{"$f":"+'IND7'!C$7","v":0},{"$f":"+'IND7'!C$8","v":0},"CUIT -sin punto ni barras-:",{"$f":"+'IND7'!C967","v":0}]
[115,"R70-11/2",{"$f":"+'DATOS COMUN'!$C$3","v":0},null,{"$f":"+'IND7'!C$7","v":0},{"$f":"+'IND7'!C$8","v":0},"FECHA DE CONSTITUCIÓN -DD/MM/AA-:",{"$f":"+'IND7'!C968","v":0}]
[116,"R70-11/2",{"$f":"+'DATOS COMUN'!$C$3","v":0},null,{"$f":"+'IND7'!C$7","v":0},{"$f":"+'IND7'!C$8","v":0},"DOMICILIO LEGAL:",{"$f":"+'IND7'!C969","v":0}]
[117,"R70-11/2",{"$f":"+'DATOS COMUN'!$C$3","v":0},null,{"$f":"+'IND7'!C$7","v":0},{"$f":"+'IND7'!C$8","v":0},"LOCALIDAD:",{"$f":"+'IND7'!C970","v":0}]
[118,"R70-11/2",{"$f":"+'DATOS COMUN'!$C$3","v":0},null,{"$f":"+'IND7'!C$7","v":0},{"$f":"+'IND7'!C$8","v":0},"PROVINCIA/ESTADO/REGIÓN:",{"$f":"+'IND7'!C971","v":0}]
[119,"R70-11/2",{"$f":"+'DATOS COMUN'!$C$3","v":0},null,{"$f":"+'IND7'!C$7","v":0},{"$f":"+'IND7'!C$8","v":0},"PAÍS:",{"$f":"+'IND7'!C972","v":0}]
[120,"R70-11/2",{"$f":"+'DATOS COMUN'!$C$3","v":0},null,{"$f":"+'IND7'!C$7","v":0},{"$f":"+'IND7'!C$8","v":0},"CARÁCTER EN LA QUE INTERVIENE -en calidad de socio, asociado, administrador, etc.-:",{"$f":"+'IND7'!C973","v":0}]
[1,"R70-11/2",{"$f":"+'DATOS COMUN'!$C$3","v":0},null,{"$f":"+'IND8'!C$7","v":0},{"$f":"+'IND8'!C$8","v":0},"NOMBRE PERSONA JCA. QUE INTEGRA:",{"$f":"+'IND8'!C974","v":0},null,null,null,null,null,null,null,null,null,null,{"$f":"IF(AND(B1027=B1026,C1027=C1026,E1027=E1026,F1027=F1026,G1027=G1026,H1027=H1026),\"IGUAL\",\"\")","v":""},{"$f":"IF(H1027=\"<<<<>>>>NO COMPLETADO\",1,0)","v":0}]
[2,"R70-11/2",{"$f":"+'DATOS COMUN'!$C$3","v":0},null,{"$f":"+'IND8'!C$7","v":0},{"$f":"+'IND8'!C$8","v":0},"TIPO DE PERSONA JCA. -sociedad; fundación, asociación civil, etc.-:",{"$f":"+'IND8'!C975","v":0},null,null,null,null,null,null,null,null,null,null,"",0]
[3,"R70-11/2",{"$f":"+'DATOS COMUN'!$C$3","v":0},null,{"$f":"+'IND8'!C$7","v":0},{"$f":"+'IND8'!C$8","v":0},"CARÁCTER EN LA QUE INTERVIENE -en calidad de socio, asociado, administrador, etc.-:",{"$f":"+'IND8'!C976","v":0},null,null,null,null,null,null,null,null,null,null,"",0]
[4,"R70-11/2",{"$f":"+'DATOS COMUN'!$C$3","v":0},null,{"$f":"+'IND8'!C$7","v":0},{"$f":"+'IND8'!C$8","v":0},"CUIT -sin punto ni barras-:",{"$f":"+'IND8'!C977","v":0},null,null,null,null,null,null,null,null,null,null,"",0]
[5,"R70-11/2",{"$f":"+'DATOS COMUN'!$C$3","v":0},null,{"$f":"+'IND8'!C$7","v":0},{"$f":"+'IND8'!C$8","v":0},"FECHA DE CONSTITUCIÓN -DD/MM/AA-:",{"$f":"+'IND8'!C978","v":0},null,null,null,null,null,null,null,null,null,null,"",0]
[6,"R70-11/2",{"$f":"+'DATOS COMUN'!$C$3","v":0},null,{"$f":"+'IND8'!C$7","v":0},{"$f":"+'IND8'!C$8","v":0},"DOMICILIO LEGAL:",{"$f":"+'IND8'!C979","v":0},null,null,null,null,null,null,null,null,null,null,"",0]
[7,"R70-11/2",{"$f":"+'DATOS COMUN'!$C$3","v":0},null,{"$f":"+'IND8'!C$7","v":0},{"$f":"+'IND8'!C$8","v":0},"LOCALIDAD:",{"$f":"+'IND8'!C980","v":0},null,null,null,null,null,null,null,null,null,null,"",0]
[8,"R70-11/2",{"$f":"+'DATOS COMUN'!$C$3","v":0},null,{"$f":"+'IND8'!C$7","v":0},{"$f":"+'IND8'!C$8","v":0},"PROVINCIA/ESTADO/REGIÓN:",{"$f":"+'IND8'!C981","v":0},null,null,null,null,null,null,null,null,null,null,"",0]
[9,"R70-11/2",{"$f":"+'DATOS COMUN'!$C$3","v":0},null,{"$f":"+'IND8'!C$7","v":0},{"$f":"+'IND8'!C$8","v":0},"PAÍS:",{"$f":"+'IND8'!C982","v":0},null,null,null,null,null,null,null,null,null,null,"",0]
[10,"R70-11/2",{"$f":"+'DATOS COMUN'!$C$3","v":0},null,{"$f":"+'IND8'!C$7","v":0},{"$f":"+'IND8'!C$8","v":0},"CARÁCTER EN LA QUE INTERVIENE -en calidad de socio, asociado, administrador, etc.-:",{"$f":"+'IND8'!C983","v":0},null,null,null,null,null,null,null,null,null,null,"",0]
[11,"R70-11/2",{"$f":"+'DATOS COMUN'!$C$3","v":0},null,{"$f":"+'IND8'!C$7","v":0},{"$f":"+'IND8'!C$8","v":0},"NOMBRE PERSONA JCA. QUE INTEGRA:",{"$f":"+'IND8'!C984","v":0},null,null,null,null,null,null,null,null,null,null,"",0]
[12,"R70-11/2",{"$f":"+'DATOS COMUN'!$C$3","v":0},null,{"$f":"+'IND8'!C$7","v":0},{"$f":"+'IND8'!C$8","v":0},"TIPO DE PERSONA JCA. -sociedad; fundación, asociación civil, etc.-:",{"$f":"+'IND8'!C985","v":0},null,null,null,null,null,null,null,null,null,null,"",0]
[13,"R70-11/2",{"$f":"+'DATOS COMUN'!$C$3","v":0},null,{"$f":"+'IND8'!C$7","v":0},{"$f":"+'IND8'!C$8","v":0},"CARÁCTER EN LA QUE INTERVIENE -en calidad de socio, asociado, administrador, etc.-:",{"$f":"+'IND8'!C986","v":0},null,null,null,null,null,null,null,null,null,null,"",0]
[14,"R70-11/2",{"$f":"+'DATOS COMUN'!$C$3","v":0},null,{"$f":"+'IND8'!C$7","v":0},{"$f":"+'IND8'!C$8","v":0},"CUIT -sin punto ni barras-:",{"$f":"+'IND8'!C987","v":0},null,null,null,null,null,null,null,null,null,null,"",0]
[15,"R70-11/2",{"$f":"+'DATOS COMUN'!$C$3","v":0},null,{"$f":"+'IND8'!C$7","v":0},{"$f":"+'IND8'!C$8","v":0},"FECHA DE CONSTITUCIÓN -DD/MM/AA-:",{"$f":"+'IND8'!C988","v":0},null,null,null,null,null,null,null,null,null,null,"",0]
[16,"R70-11/2",{"$f":"+'DATOS COMUN'!$C$3","v":0},null,{"$f":"+'IND8'!C$7","v":0},{"$f":"+'IND8'!C$8","v":0},"DOMICILIO LEGAL:",{"$f":"+'IND8'!C989","v":0},null,null,null,null,null,null,null,null,null,null,"",0]
[17,"R70-11/2",{"$f":"+'DATOS COMUN'!$C$3","v":0},null,{"$f":"+'IND8'!C$7","v":0},{"$f":"+'IND8'!C$8","v":0},"LOCALIDAD:",{"$f":"+'IND8'!C990","v":0},null,null,null,null,null,null,null,null,null,null,"",0]
[18,"R70-11/2",{"$f":"+'DATOS COMUN'!$C$3","v":0},null,{"$f":"+'IND8'!C$7","v":0},{"$f":"+'IND8'!C$8","v":0},"PROVINCIA/ESTADO/REGIÓN:",{"$f":"+'IND8'!C991","v":0},null,null,null,null,null,null,null,null,null,null,"",0]
[19,"R70-11/2",{"$f":"+'DATOS COMUN'!$C$3","v":0},null,{"$f":"+'IND8'!C$7","v":0},{"$f":"+'IND8'!C$8","v":0},"PAÍS:",{"$f":"+'IND8'!C992","v":0}]
[20,"R70-11/2",{"$f":"+'DATOS COMUN'!$C$3","v":0},null,{"$f":"+'IND8'!C$7","v":0},{"$f":"+'IND8'!C$8","v":0},"CARÁCTER EN LA QUE INTERVIENE -en calidad de socio, asociado, administrador, etc.-:",{"$f":"+'IND8'!C993","v":0}]
[21,"R70-11/2",{"$f":"+'DATOS COMUN'!$C$3","v":0},null,{"$f":"+'IND8'!C$7","v":0},{"$f":"+'IND8'!C$8","v":0},"NOMBRE PERSONA JCA. QUE INTEGRA:",{"$f":"+'IND8'!C994","v":0}]
[22,"R70-11/2",{"$f":"+'DATOS COMUN'!$C$3","v":0},null,{"$f":"+'IND8'!C$7","v":0},{"$f":"+'IND8'!C$8","v":0},"TIPO DE PERSONA JCA. -sociedad; fundación, asociación civil, etc.-:",{"$f":"+'IND8'!C995","v":0}]
[23,"R70-11/2",{"$f":"+'DATOS COMUN'!$C$3","v":0},null,{"$f":"+'IND8'!C$7","v":0},{"$f":"+'IND8'!C$8","v":0},"CARÁCTER EN LA QUE INTERVIENE -en calidad de socio, asociado, administrador, etc.-:",{"$f":"+'IND8'!C996","v":0}]
[24,"R70-11/2",{"$f":"+'DATOS COMUN'!$C$3","v":0},null,{"$f":"+'IND8'!C$7","v":0},{"$f":"+'IND8'!C$8","v":0},"CUIT -sin punto ni barras-:",{"$f":"+'IND8'!C997","v":0}]
[25,"R70-11/2",{"$f":"+'DATOS COMUN'!$C$3","v":0},null,{"$f":"+'IND8'!C$7","v":0},{"$f":"+'IND8'!C$8","v":0},"FECHA DE CONSTITUCIÓN -DD/MM/AA-:",{"$f":"+'IND8'!C998","v":0}]
[26,"R70-11/2",{"$f":"+'DATOS COMUN'!$C$3","v":0},null,{"$f":"+'IND8'!C$7","v":0},{"$f":"+'IND8'!C$8","v":0},"DOMICILIO LEGAL:",{"$f":"+'IND8'!C999","v":0}]
[27,"R70-11/2",{"$f":"+'DATOS COMUN'!$C$3","v":0},null,{"$f":"+'IND8'!C$7","v":0},{"$f":"+'IND8'!C$8","v":0},"LOCALIDAD:",{"$f":"+'IND8'!C1000","v":0}]
[28,"R70-11/2",{"$f":"+'DATOS COMUN'!$C$3","v":0},null,{"$f":"+'IND8'!C$7","v":0},{"$f":"+'IND8'!C$8","v":0},"PROVINCIA/ESTADO/REGIÓN:",{"$f":"+'IND8'!C1001","v":0}]
[29,"R70-11/2",{"$f":"+'DATOS COMUN'!$C$3","v":0},null,{"$f":"+'IND8'!C$7","v":0},{"$f":"+'IND8'!C$8","v":0},"PAÍS:",{"$f":"+'IND8'!C1002","v":0}]
[30,"R70-11/2",{"$f":"+'DATOS COMUN'!$C$3","v":0},null,{"$f":"+'IND8'!C$7","v":0},{"$f":"+'IND8'!C$8","v":0},"CARÁCTER EN LA QUE INTERVIENE -en calidad de socio, asociado, administrador, etc.-:",{"$f":"+'IND8'!C1003","v":0}]
[31,"R70-11/2",{"$f":"+'DATOS COMUN'!$C$3","v":0},null,{"$f":"+'IND8'!C$7","v":0},{"$f":"+'IND8'!C$8","v":0},"NOMBRE PERSONA JCA. QUE INTEGRA:",{"$f":"+'IND8'!C1004","v":0}]
[32,"R70-11/2",{"$f":"+'DATOS COMUN'!$C$3","v":0},null,{"$f":"+'IND8'!C$7","v":0},{"$f":"+'IND8'!C$8","v":0},"TIPO DE PERSONA JCA. -sociedad; fundación, asociación civil, etc.-:",{"$f":"+'IND8'!C1005","v":0}]
[33,"R70-11/2",{"$f":"+'DATOS COMUN'!$C$3","v":0},null,{"$f":"+'IND8'!C$7","v":0},{"$f":"+'IND8'!C$8","v":0},"CARÁCTER EN LA QUE INTERVIENE -en calidad de socio, asociado, administrador, etc.-:",{"$f":"+'IND8'!C1006","v":0}]
[34,"R70-11/2",{"$f":"+'DATOS COMUN'!$C$3","v":0},null,{"$f":"+'IND8'!C$7","v":0},{"$f":"+'IND8'!C$8","v":0},"CUIT -sin punto ni barras-:",{"$f":"+'IND8'!C1007","v":0}]
[35,"R70-11/2",{"$f":"+'DATOS COMUN'!$C$3","v":0},null,{"$f":"+'IND8'!C$7","v":0},{"$f":"+'IND8'!C$8","v":0},"FECHA DE CONSTITUCIÓN -DD/MM/AA-:",{"$f":"+'IND8'!C1008","v":0}]
[36,"R70-11/2",{"$f":"+'DATOS COMUN'!$C$3","v":0},null,{"$f":"+'IND8'!C$7","v":0},{"$f":"+'IND8'!C$8","v":0},"DOMICILIO LEGAL:",{"$f":"+'IND8'!C1009","v":0}]
[37,"R70-11/2",{"$f":"+'DATOS COMUN'!$C$3","v":0},null,{"$f":"+'IND8'!C$7","v":0},{"$f":"+'IND8'!C$8","v":0},"LOCALIDAD:",{"$f":"+'IND8'!C1010","v":0}]
[38,"R70-11/2",{"$f":"+'DATOS COMUN'!$C$3","v":0},null,{"$f":"+'IND8'!C$7","v":0},{"$f":"+'IND8'!C$8","v":0},"PROVINCIA/ESTADO/REGIÓN:",{"$f":"+'IND8'!C1011","v":0}]
[39,"R70-11/2",{"$f":"+'DATOS COMUN'!$C$3","v":0},null,{"$f":"+'IND8'!C$7","v":0},{"$f":"+'IND8'!C$8","v":0},"PAÍS:",{"$f":"+'IND8'!C1012","v":0}]
[40,"R70-11/2",{"$f":"+'DATOS COMUN'!$C$3","v":0},null,{"$f":"+'IND8'!C$7","v":0},{"$f":"+'IND8'!C$8","v":0},"CARÁCTER EN LA QUE INTERVIENE -en calidad de socio, asociado, administrador, etc.-:",{"$f":"+'IND8'!C1013","v":0}]
[41,"R70-11/2",{"$f":"+'DATOS COMUN'!$C$3","v":0},null,{"$f":"+'IND8'!C$7","v":0},{"$f":"+'IND8'!C$8","v":0},"NOMBRE PERSONA JCA. QUE INTEGRA:",{"$f":"+'IND8'!C1014","v":0}]
[42,"R70-11/2",{"$f":"+'DATOS COMUN'!$C$3","v":0},null,{"$f":"+'IND8'!C$7","v":0},{"$f":"+'IND8'!C$8","v":0},"TIPO DE PERSONA JCA. -sociedad; fundación, asociación civil, etc.-:",{"$f":"+'IND8'!C1015","v":0}]
[43,"R70-11/2",{"$f":"+'DATOS COMUN'!$C$3","v":0},null,{"$f":"+'IND8'!C$7","v":0},{"$f":"+'IND8'!C$8","v":0},"CARÁCTER EN LA QUE INTERVIENE -en calidad de socio, asociado, administrador, etc.-:",{"$f":"+'IND8'!C1016","v":0}]
[44,"R70-11/2",{"$f":"+'DATOS COMUN'!$C$3","v":0},null,{"$f":"+'IND8'!C$7","v":0},{"$f":"+'IND8'!C$8","v":0},"CUIT -sin punto ni barras-:",{"$f":"+'IND8'!C1017","v":0}]
[45,"R70-11/2",{"$f":"+'DATOS COMUN'!$C$3","v":0},null,{"$f":"+'IND8'!C$7","v":0},{"$f":"+'IND8'!C$8","v":0},"FECHA DE CONSTITUCIÓN -DD/MM/AA-:",{"$f":"+'IND8'!C1018","v":0}]
[46,"R70-11/2",{"$f":"+'DATOS COMUN'!$C$3","v":0},null,{"$f":"+'IND8'!C$7","v":0},{"$f":"+'IND8'!C$8","v":0},"DOMICILIO LEGAL:",{"$f":"+'IND8'!C1019","v":0}]
[47,"R70-11/2",{"$f":"+'DATOS COMUN'!$C$3","v":0},null,{"$f":"+'IND8'!C$7","v":0},{"$f":"+'IND8'!C$8","v":0},"LOCALIDAD:",{"$f":"+'IND8'!C1020","v":0}]
[48,"R70-11/2",{"$f":"+'DATOS COMUN'!$C$3","v":0},null,{"$f":"+'IND8'!C$7","v":0},{"$f":"+'IND8'!C$8","v":0},"PROVINCIA/ESTADO/REGIÓN:",{"$f":"+'IND8'!C1021","v":0}]
[49,"R70-11/2",{"$f":"+'DATOS COMUN'!$C$3","v":0},null,{"$f":"+'IND8'!C$7","v":0},{"$f":"+'IND8'!C$8","v":0},"PAÍS:",{"$f":"+'IND8'!C1022","v":0}]
[50,"R70-11/2",{"$f":"+'DATOS COMUN'!$C$3","v":0},null,{"$f":"+'IND8'!C$7","v":0},{"$f":"+'IND8'!C$8","v":0},"CARÁCTER EN LA QUE INTERVIENE -en calidad de socio, asociado, administrador, etc.-:",{"$f":"+'IND8'!C1023","v":0}]
[51,"R70-11/2",{"$f":"+'DATOS COMUN'!$C$3","v":0},null,{"$f":"+'IND8'!C$7","v":0},{"$f":"+'IND8'!C$8","v":0},"NOMBRE PERSONA JCA. QUE INTEGRA:",{"$f":"+'IND8'!C1024","v":0}]
[52,"R70-11/2",{"$f":"+'DATOS COMUN'!$C$3","v":0},null,{"$f":"+'IND8'!C$7","v":0},{"$f":"+'IND8'!C$8","v":0},"TIPO DE PERSONA JCA. -sociedad; fundación, asociación civil, etc.-:",{"$f":"+'IND8'!C1025","v":0}]
[53,"R70-11/2",{"$f":"+'DATOS COMUN'!$C$3","v":0},null,{"$f":"+'IND8'!C$7","v":0},{"$f":"+'IND8'!C$8","v":0},"CARÁCTER EN LA QUE INTERVIENE -en calidad de socio, asociado, administrador, etc.-:",{"$f":"+'IND8'!C1026","v":0}]
[54,"R70-11/2",{"$f":"+'DATOS COMUN'!$C$3","v":0},null,{"$f":"+'IND8'!C$7","v":0},{"$f":"+'IND8'!C$8","v":0},"CUIT -sin punto ni barras-:",{"$f":"+'IND8'!C1027","v":0}]
[55,"R70-11/2",{"$f":"+'DATOS COMUN'!$C$3","v":0},null,{"$f":"+'IND8'!C$7","v":0},{"$f":"+'IND8'!C$8","v":0},"FECHA DE CONSTITUCIÓN -DD/MM/AA-:",{"$f":"+'IND8'!C1028","v":0}]
[56,"R70-11/2",{"$f":"+'DATOS COMUN'!$C$3","v":0},null,{"$f":"+'IND8'!C$7","v":0},{"$f":"+'IND8'!C$8","v":0},"DOMICILIO LEGAL:",{"$f":"+'IND8'!C1029","v":0}]
[57,"R70-11/2",{"$f":"+'DATOS COMUN'!$C$3","v":0},null,{"$f":"+'IND8'!C$7","v":0},{"$f":"+'IND8'!C$8","v":0},"LOCALIDAD:",{"$f":"+'IND8'!C1030","v":0}]
[58,"R70-11/2",{"$f":"+'DATOS COMUN'!$C$3","v":0},null,{"$f":"+'IND8'!C$7","v":0},{"$f":"+'IND8'!C$8","v":0},"PROVINCIA/ESTADO/REGIÓN:",{"$f":"+'IND8'!C1031","v":0}]
[59,"R70-11/2",{"$f":"+'DATOS COMUN'!$C$3","v":0},null,{"$f":"+'IND8'!C$7","v":0},{"$f":"+'IND8'!C$8","v":0},"PAÍS:",{"$f":"+'IND8'!C1032","v":0}]
[60,"R70-11/2",{"$f":"+'DATOS COMUN'!$C$3","v":0},null,{"$f":"+'IND8'!C$7","v":0},{"$f":"+'IND8'!C$8","v":0},"CARÁCTER EN LA QUE INTERVIENE -en calidad de socio, asociado, administrador, etc.-:",{"$f":"+'IND8'!C1033","v":0}]
[61,"R70-11/2",{"$f":"+'DATOS COMUN'!$C$3","v":0},null,{"$f":"+'IND8'!C$7","v":0},{"$f":"+'IND8'!C$8","v":0},"NOMBRE PERSONA JCA. QUE INTEGRA:",{"$f":"+'IND8'!C1034","v":0}]
[62,"R70-11/2",{"$f":"+'DATOS COMUN'!$C$3","v":0},null,{"$f":"+'IND8'!C$7","v":0},{"$f":"+'IND8'!C$8","v":0},"TIPO DE PERSONA JCA. -sociedad; fundación, asociación civil, etc.-:",{"$f":"+'IND8'!C1035","v":0}]
[63,"R70-11/2",{"$f":"+'DATOS COMUN'!$C$3","v":0},null,{"$f":"+'IND8'!C$7","v":0},{"$f":"+'IND8'!C$8","v":0},"CARÁCTER EN LA QUE INTERVIENE -en calidad de socio, asociado, administrador, etc.-:",{"$f":"+'IND8'!C1036","v":0}]
[64,"R70-11/2",{"$f":"+'DATOS COMUN'!$C$3","v":0},null,{"$f":"+'IND8'!C$7","v":0},{"$f":"+'IND8'!C$8","v":0},"CUIT -sin punto ni barras-:",{"$f":"+'IND8'!C1037","v":0}]
[65,"R70-11/2",{"$f":"+'DATOS COMUN'!$C$3","v":0},null,{"$f":"+'IND8'!C$7","v":0},{"$f":"+'IND8'!C$8","v":0},"FECHA DE CONSTITUCIÓN -DD/MM/AA-:",{"$f":"+'IND8'!C1038","v":0}]
[66,"R70-11/2",{"$f":"+'DATOS COMUN'!$C$3","v":0},null,{"$f":"+'IND8'!C$7","v":0},{"$f":"+'IND8'!C$8","v":0},"DOMICILIO LEGAL:",{"$f":"+'IND8'!C1039","v":0}]
[67,"R70-11/2",{"$f":"+'DATOS COMUN'!$C$3","v":0},null,{"$f":"+'IND8'!C$7","v":0},{"$f":"+'IND8'!C$8","v":0},"LOCALIDAD:",{"$f":"+'IND8'!C1040","v":0}]
[68,"R70-11/2",{"$f":"+'DATOS COMUN'!$C$3","v":0},null,{"$f":"+'IND8'!C$7","v":0},{"$f":"+'IND8'!C$8","v":0},"PROVINCIA/ESTADO/REGIÓN:",{"$f":"+'IND8'!C1041","v":0}]
[69,"R70-11/2",{"$f":"+'DATOS COMUN'!$C$3","v":0},null,{"$f":"+'IND8'!C$7","v":0},{"$f":"+'IND8'!C$8","v":0},"PAÍS:",{"$f":"+'IND8'!C1042","v":0}]
[70,"R70-11/2",{"$f":"+'DATOS COMUN'!$C$3","v":0},null,{"$f":"+'IND8'!C$7","v":0},{"$f":"+'IND8'!C$8","v":0},"CARÁCTER EN LA QUE INTERVIENE -en calidad de socio, asociado, administrador, etc.-:",{"$f":"+'IND8'!C1043","v":0}]
[71,"R70-11/2",{"$f":"+'DATOS COMUN'!$C$3","v":0},null,{"$f":"+'IND8'!C$7","v":0},{"$f":"+'IND8'!C$8","v":0},"NOMBRE PERSONA JCA. QUE INTEGRA:",{"$f":"+'IND8'!C1044","v":0}]
[72,"R70-11/2",{"$f":"+'DATOS COMUN'!$C$3","v":0},null,{"$f":"+'IND8'!C$7","v":0},{"$f":"+'IND8'!C$8","v":0},"TIPO DE PERSONA JCA. -sociedad; fundación, asociación civil, etc.-:",{"$f":"+'IND8'!C1045","v":0}]
[73,"R70-11/2",{"$f":"+'DATOS COMUN'!$C$3","v":0},null,{"$f":"+'IND8'!C$7","v":0},{"$f":"+'IND8'!C$8","v":0},"CARÁCTER EN LA QUE INTERVIENE -en calidad de socio, asociado, administrador, etc.-:",{"$f":"+'IND8'!C1046","v":0}]
[74,"R70-11/2",{"$f":"+'DATOS COMUN'!$C$3","v":0},null,{"$f":"+'IND8'!C$7","v":0},{"$f":"+'IND8'!C$8","v":0},"CUIT -sin punto ni barras-:",{"$f":"+'IND8'!C1047","v":0}]
[75,"R70-11/2",{"$f":"+'DATOS COMUN'!$C$3","v":0},null,{"$f":"+'IND8'!C$7","v":0},{"$f":"+'IND8'!C$8","v":0},"FECHA DE CONSTITUCIÓN -DD/MM/AA-:",{"$f":"+'IND8'!C1048","v":0}]
[76,"R70-11/2",{"$f":"+'DATOS COMUN'!$C$3","v":0},null,{"$f":"+'IND8'!C$7","v":0},{"$f":"+'IND8'!C$8","v":0},"DOMICILIO LEGAL:",{"$f":"+'IND8'!C1049","v":0}]
[77,"R70-11/2",{"$f":"+'DATOS COMUN'!$C$3","v":0},null,{"$f":"+'IND8'!C$7","v":0},{"$f":"+'IND8'!C$8","v":0},"LOCALIDAD:",{"$f":"+'IND8'!C1050","v":0}]
[78,"R70-11/2",{"$f":"+'DATOS COMUN'!$C$3","v":0},null,{"$f":"+'IND8'!C$7","v":0},{"$f":"+'IND8'!C$8","v":0},"PROVINCIA/ESTADO/REGIÓN:",{"$f":"+'IND8'!C1051","v":0}]
[79,"R70-11/2",{"$f":"+'DATOS COMUN'!$C$3","v":0},null,{"$f":"+'IND8'!C$7","v":0},{"$f":"+'IND8'!C$8","v":0},"PAÍS:",{"$f":"+'IND8'!C1052","v":0}]
[80,"R70-11/2",{"$f":"+'DATOS COMUN'!$C$3","v":0},null,{"$f":"+'IND8'!C$7","v":0},{"$f":"+'IND8'!C$8","v":0},"CARÁCTER EN LA QUE INTERVIENE -en calidad de socio, asociado, administrador, etc.-:",{"$f":"+'IND8'!C1053","v":0}]
[81,"R70-11/2",{"$f":"+'DATOS COMUN'!$C$3","v":0},null,{"$f":"+'IND8'!C$7","v":0},{"$f":"+'IND8'!C$8","v":0},"NOMBRE PERSONA JCA. QUE INTEGRA:",{"$f":"+'IND8'!C1054","v":0}]
[82,"R70-11/2",{"$f":"+'DATOS COMUN'!$C$3","v":0},null,{"$f":"+'IND8'!C$7","v":0},{"$f":"+'IND8'!C$8","v":0},"TIPO DE PERSONA JCA. -sociedad; fundación, asociación civil, etc.-:",{"$f":"+'IND8'!C1055","v":0}]
[83,"R70-11/2",{"$f":"+'DATOS COMUN'!$C$3","v":0},null,{"$f":"+'IND8'!C$7","v":0},{"$f":"+'IND8'!C$8","v":0},"CARÁCTER EN LA QUE INTERVIENE -en calidad de socio, asociado, administrador, etc.-:",{"$f":"+'IND8'!C1056","v":0}]
[84,"R70-11/2",{"$f":"+'DATOS COMUN'!$C$3","v":0},null,{"$f":"+'IND8'!C$7","v":0},{"$f":"+'IND8'!C$8","v":0},"CUIT -sin punto ni barras-:",{"$f":"+'IND8'!C1057","v":0}]
[85,"R70-11/2",{"$f":"+'DATOS COMUN'!$C$3","v":0},null,{"$f":"+'IND8'!C$7","v":0},{"$f":"+'IND8'!C$8","v":0},"FECHA DE CONSTITUCIÓN -DD/MM/AA-:",{"$f":"+'IND8'!C1058","v":0}]
[86,"R70-11/2",{"$f":"+'DATOS COMUN'!$C$3","v":0},null,{"$f":"+'IND8'!C$7","v":0},{"$f":"+'IND8'!C$8","v":0},"DOMICILIO LEGAL:",{"$f":"+'IND8'!C1059","v":0}]
[87,"R70-11/2",{"$f":"+'DATOS COMUN'!$C$3","v":0},null,{"$f":"+'IND8'!C$7","v":0},{"$f":"+'IND8'!C$8","v":0},"LOCALIDAD:",{"$f":"+'IND8'!C1060","v":0}]
[88,"R70-11/2",{"$f":"+'DATOS COMUN'!$C$3","v":0},null,{"$f":"+'IND8'!C$7","v":0},{"$f":"+'IND8'!C$8","v":0},"PROVINCIA/ESTADO/REGIÓN:",{"$f":"+'IND8'!C1061","v":0}]
[89,"R70-11/2",{"$f":"+'DATOS COMUN'!$C$3","v":0},null,{"$f":"+'IND8'!C$7","v":0},{"$f":"+'IND8'!C$8","v":0},"PAÍS:",{"$f":"+'IND8'!C1062","v":0}]
[90,"R70-11/2",{"$f":"+'DATOS COMUN'!$C$3","v":0},null,{"$f":"+'IND8'!C$7","v":0},{"$f":"+'IND8'!C$8","v":0},"CARÁCTER EN LA QUE INTERVIENE -en calidad de socio, asociado, administrador, etc.-:",{"$f":"+'IND8'!C1063","v":0}]
[91,"R70-11/2",{"$f":"+'DATOS COMUN'!$C$3","v":0},null,{"$f":"+'IND8'!C$7","v":0},{"$f":"+'IND8'!C$8","v":0},"NOMBRE PERSONA JCA. QUE INTEGRA:",{"$f":"+'IND8'!C1064","v":0}]
[92,"R70-11/2",{"$f":"+'DATOS COMUN'!$C$3","v":0},null,{"$f":"+'IND8'!C$7","v":0},{"$f":"+'IND8'!C$8","v":0},"TIPO DE PERSONA JCA. -sociedad; fundación, asociación civil, etc.-:",{"$f":"+'IND8'!C1065","v":0}]
[93,"R70-11/2",{"$f":"+'DATOS COMUN'!$C$3","v":0},null,{"$f":"+'IND8'!C$7","v":0},{"$f":"+'IND8'!C$8","v":0},"CARÁCTER EN LA QUE INTERVIENE -en calidad de socio, asociado, administrador, etc.-:",{"$f":"+'IND8'!C1066","v":0}]
[94,"R70-11/2",{"$f":"+'DATOS COMUN'!$C$3","v":0},null,{"$f":"+'IND8'!C$7","v":0},{"$f":"+'IND8'!C$8","v":0},"CUIT -sin punto ni barras-:",{"$f":"+'IND8'!C1067","v":0}]
[95,"R70-11/2",{"$f":"+'DATOS COMUN'!$C$3","v":0},null,{"$f":"+'IND8'!C$7","v":0},{"$f":"+'IND8'!C$8","v":0},"FECHA DE CONSTITUCIÓN -DD/MM/AA-:",{"$f":"+'IND8'!C1068","v":0}]
[96,"R70-11/2",{"$f":"+'DATOS COMUN'!$C$3","v":0},null,{"$f":"+'IND8'!C$7","v":0},{"$f":"+'IND8'!C$8","v":0},"DOMICILIO LEGAL:",{"$f":"+'IND8'!C1069","v":0}]
[97,"R70-11/2",{"$f":"+'DATOS COMUN'!$C$3","v":0},null,{"$f":"+'IND8'!C$7","v":0},{"$f":"+'IND8'!C$8","v":0},"LOCALIDAD:",{"$f":"+'IND8'!C1070","v":0}]
[98,"R70-11/2",{"$f":"+'DATOS COMUN'!$C$3","v":0},null,{"$f":"+'IND8'!C$7","v":0},{"$f":"+'IND8'!C$8","v":0},"PROVINCIA/ESTADO/REGIÓN:",{"$f":"+'IND8'!C1071","v":0}]
[99,"R70-11/2",{"$f":"+'DATOS COMUN'!$C$3","v":0},null,{"$f":"+'IND8'!C$7","v":0},{"$f":"+'IND8'!C$8","v":0},"PAÍS:",{"$f":"+'IND8'!C1072","v":0}]
[100,"R70-11/2",{"$f":"+'DATOS COMUN'!$C$3","v":0},null,{"$f":"+'IND8'!C$7","v":0},{"$f":"+'IND8'!C$8","v":0},"CARÁCTER EN LA QUE INTERVIENE -en calidad de socio, asociado, administrador, etc.-:",{"$f":"+'IND8'!C1073","v":0}]
[101,"R70-11/2",{"$f":"+'DATOS COMUN'!$C$3","v":0},null,{"$f":"+'IND8'!C$7","v":0},{"$f":"+'IND8'!C$8","v":0},"NOMBRE PERSONA JCA. QUE INTEGRA:",{"$f":"+'IND8'!C1074","v":0}]
[102,"R70-11/2",{"$f":"+'DATOS COMUN'!$C$3","v":0},null,{"$f":"+'IND8'!C$7","v":0},{"$f":"+'IND8'!C$8","v":0},"TIPO DE PERSONA JCA. -sociedad; fundación, asociación civil, etc.-:",{"$f":"+'IND8'!C1075","v":0}]
[103,"R70-11/2",{"$f":"+'DATOS COMUN'!$C$3","v":0},null,{"$f":"+'IND8'!C$7","v":0},{"$f":"+'IND8'!C$8","v":0},"CARÁCTER EN LA QUE INTERVIENE -en calidad de socio, asociado, administrador, etc.-:",{"$f":"+'IND8'!C1076","v":0}]
[104,"R70-11/2",{"$f":"+'DATOS COMUN'!$C$3","v":0},null,{"$f":"+'IND8'!C$7","v":0},{"$f":"+'IND8'!C$8","v":0},"CUIT -sin punto ni barras-:",{"$f":"+'IND8'!C1077","v":0}]
[105,"R70-11/2",{"$f":"+'DATOS COMUN'!$C$3","v":0},null,{"$f":"+'IND8'!C$7","v":0},{"$f":"+'IND8'!C$8","v":0},"FECHA DE CONSTITUCIÓN -DD/MM/AA-:",{"$f":"+'IND8'!C1078","v":0}]
[106,"R70-11/2",{"$f":"+'DATOS COMUN'!$C$3","v":0},null,{"$f":"+'IND8'!C$7","v":0},{"$f":"+'IND8'!C$8","v":0},"DOMICILIO LEGAL:",{"$f":"+'IND8'!C1079","v":0}]
[107,"R70-11/2",{"$f":"+'DATOS COMUN'!$C$3","v":0},null,{"$f":"+'IND8'!C$7","v":0},{"$f":"+'IND8'!C$8","v":0},"LOCALIDAD:",{"$f":"+'IND8'!C1080","v":0}]
[108,"R70-11/2",{"$f":"+'DATOS COMUN'!$C$3","v":0},null,{"$f":"+'IND8'!C$7","v":0},{"$f":"+'IND8'!C$8","v":0},"PROVINCIA/ESTADO/REGIÓN:",{"$f":"+'IND8'!C1081","v":0}]
[109,"R70-11/2",{"$f":"+'DATOS COMUN'!$C$3","v":0},null,{"$f":"+'IND8'!C$7","v":0},{"$f":"+'IND8'!C$8","v":0},"PAÍS:",{"$f":"+'IND8'!C1082","v":0}]
[110,"R70-11/2",{"$f":"+'DATOS COMUN'!$C$3","v":0},null,{"$f":"+'IND8'!C$7","v":0},{"$f":"+'IND8'!C$8","v":0},"CARÁCTER EN LA QUE INTERVIENE -en calidad de socio, asociado, administrador, etc.-:",{"$f":"+'IND8'!C1083","v":0}]
[111,"R70-11/2",{"$f":"+'DATOS COMUN'!$C$3","v":0},null,{"$f":"+'IND8'!C$7","v":0},{"$f":"+'IND8'!C$8","v":0},"NOMBRE PERSONA JCA. QUE INTEGRA:",{"$f":"+'IND8'!C1084","v":0}]
[112,"R70-11/2",{"$f":"+'DATOS COMUN'!$C$3","v":0},null,{"$f":"+'IND8'!C$7","v":0},{"$f":"+'IND8'!C$8","v":0},"TIPO DE PERSONA JCA. -sociedad; fundación, asociación civil, etc.-:",{"$f":"+'IND8'!C1085","v":0}]
[113,"R70-11/2",{"$f":"+'DATOS COMUN'!$C$3","v":0},null,{"$f":"+'IND8'!C$7","v":0},{"$f":"+'IND8'!C$8","v":0},"CARÁCTER EN LA QUE INTERVIENE -en calidad de socio, asociado, administrador, etc.-:",{"$f":"+'IND8'!C1086","v":0}]
[114,"R70-11/2",{"$f":"+'DATOS COMUN'!$C$3","v":0},null,{"$f":"+'IND8'!C$7","v":0},{"$f":"+'IND8'!C$8","v":0},"CUIT -sin punto ni barras-:",{"$f":"+'IND8'!C1087","v":0}]
[115,"R70-11/2",{"$f":"+'DATOS COMUN'!$C$3","v":0},null,{"$f":"+'IND8'!C$7","v":0},{"$f":"+'IND8'!C$8","v":0},"FECHA DE CONSTITUCIÓN -DD/MM/AA-:",{"$f":"+'IND8'!C1088","v":0}]
[116,"R70-11/2",{"$f":"+'DATOS COMUN'!$C$3","v":0},null,{"$f":"+'IND8'!C$7","v":0},{"$f":"+'IND8'!C$8","v":0},"DOMICILIO LEGAL:",{"$f":"+'IND8'!C1089","v":0}]
[117,"R70-11/2",{"$f":"+'DATOS COMUN'!$C$3","v":0},null,{"$f":"+'IND8'!C$7","v":0},{"$f":"+'IND8'!C$8","v":0},"LOCALIDAD:",{"$f":"+'IND8'!C1090","v":0}]
[118,"R70-11/2",{"$f":"+'DATOS COMUN'!$C$3","v":0},null,{"$f":"+'IND8'!C$7","v":0},{"$f":"+'IND8'!C$8","v":0},"PROVINCIA/ESTADO/REGIÓN:",{"$f":"+'IND8'!C1091","v":0}]
[119,"R70-11/2",{"$f":"+'DATOS COMUN'!$C$3","v":0},null,{"$f":"+'IND8'!C$7","v":0},{"$f":"+'IND8'!C$8","v":0},"PAÍS:",{"$f":"+'IND8'!C1092","v":0}]
[120,"R70-11/2",{"$f":"+'DATOS COMUN'!$C$3","v":0},null,{"$f":"+'IND8'!C$7","v":0},{"$f":"+'IND8'!C$8","v":0},"CARÁCTER EN LA QUE INTERVIENE -en calidad de socio, asociado, administrador, etc.-:",{"$f":"+'IND8'!C1093","v":0}]

{"sheet":"LISTA","index":12,"n_rows":7,"n_cols":1,"rows_kept":7,"cut":false,"hidden":true,"merged":[]}
[]
["ELEGIR"]
["SI"]
["NO"]
[]
[]
["01/01/1000"]